BEGIN:VCALENDAR
VERSION:2.0
PRODID:-//Crocoule - ECPv6.15.20//NONSGML v1.0//EN
CALSCALE:GREGORIAN
METHOD:PUBLISH
X-ORIGINAL-URL:https://crocoule.org
X-WR-CALDESC:Évènements pour Crocoule
REFRESH-INTERVAL;VALUE=DURATION:PT1H
X-Robots-Tag:noindex
X-PUBLISHED-TTL:PT1H
BEGIN:VTIMEZONE
TZID:Europe/Paris
BEGIN:DAYLIGHT
TZOFFSETFROM:+0100
TZOFFSETTO:+0200
TZNAME:CEST
DTSTART:20230326T010000
END:DAYLIGHT
BEGIN:STANDARD
TZOFFSETFROM:+0200
TZOFFSETTO:+0100
TZNAME:CET
DTSTART:20231029T010000
END:STANDARD
BEGIN:DAYLIGHT
TZOFFSETFROM:+0100
TZOFFSETTO:+0200
TZNAME:CEST
DTSTART:20240331T010000
END:DAYLIGHT
BEGIN:STANDARD
TZOFFSETFROM:+0200
TZOFFSETTO:+0100
TZNAME:CET
DTSTART:20241027T010000
END:STANDARD
BEGIN:DAYLIGHT
TZOFFSETFROM:+0100
TZOFFSETTO:+0200
TZNAME:CEST
DTSTART:20250330T010000
END:DAYLIGHT
BEGIN:STANDARD
TZOFFSETFROM:+0200
TZOFFSETTO:+0100
TZNAME:CET
DTSTART:20251026T010000
END:STANDARD
BEGIN:DAYLIGHT
TZOFFSETFROM:+0100
TZOFFSETTO:+0200
TZNAME:CEST
DTSTART:20260329T010000
END:DAYLIGHT
BEGIN:STANDARD
TZOFFSETFROM:+0200
TZOFFSETTO:+0100
TZNAME:CET
DTSTART:20261025T010000
END:STANDARD
END:VTIMEZONE
BEGIN:VEVENT
DTSTART;TZID=Europe/Paris:20251010T090000
DTEND;TZID=Europe/Paris:20251012T170000
DTSTAMP:20260424T173300
CREATED:20251006T074612Z
LAST-MODIFIED:20251006T074612Z
UID:10012147-1760086800-1760288400@crocoule.org
SUMMARY:Saint Etienne _ fête du livre
DESCRIPTION:???? Horaires d’ouverture des chapiteaux :\n\n\nVendredi 10 octobre : 9h → 19h \n\n\nSamedi 11 octobre : 10h → 19h \n\n\nDimanche 12 octobre : 10h → 18h \n???? Lieux principaux : Place Chavanelle (espace jeunesse)\, Hôtel de Ville\, Place Jean-Jaurès\, Place Dorian\, Médiathèque de Tarentaize\, Espace Boris Vian… \n\n\nLes animations jeunesse incontournables\nSous le chapiteau jeunesse – Place Chavanelle\n???? Tous les jours pendant les horaires d’ouverture \n\n\n Espace fées de Camille Garoche (Little Urban) : jeux\, ateliers\, coloriages\, lectures \n\n\n Espace Cornebidouille (Pierre Bertrand / École des Loisirs) : coloriages\, coin lecture\, jeux de société \n\n\nLe NomadoLivre (nouveauté !) : une yourte immersive pour des lectures allongés sous une “forêt de livres” (Camille Garoche\, Gilles Bachelet\, Romain Lubière\, etc.) \n\n\n\nAteliers créatifs (dates précises à vérifier sur place)\nProposés tous les jours : \n\n\nQuiz manga (Anne & Minh) \n\n\nLivre pop-up (Mélanie Baligand) \n\n\nPop’cartes animaux (Anne-Sophie Baumann) \n\n\nDessin BD (Brrémaud) \n\n\nAquarelle (Camille Garoche) \n\n\nHiéroglyphes (Amandine Marshall) \n\n\nIllustration au bistre (Christian Offroy) \n\n\n\nSpectacles jeunesse (Magic Mirrors – Place Jean-Jaurès)\n À répartir sur le week-end – se renseigner à l’accueil : \n\n\nHistoires sorties du sac – Pierre Bertrand \n\n\nLe Pessstacle – Pierre Delye & Cécile Hudrisier \n\n\nDétectives Grébor\, de père en fille – Lecture musicale et chorégraphique \n\n\nEdgar ou la malédiction du corbeau – Concert dessiné \n\n\nLa Belle et la Bête – Lecture dessinée par Benjamin Lacombe (dimanche après-midi en clôture) \n\n\n\nExpos et performances à ne pas rater\n\n\n“Il était plusieurs fois” : expo immersive autour des contes (????Médiathèque de Tarentaize – jusqu’au 24 oct.) \n\n\n“L’Encyclopédie du Merveilleux” par Benjamin Lacombe (????Hall de l’Hôtel de Ville – du 8 au 30 oct.) \n\n\nVitrines en live : dessins en direct par 5 illustrateurs jeunesse – \n????️ Samedi 11 octobre de 10h30 à 12h30 (autour de Place Chavanelle) \n\n\n\nEt aussi…\n\n\n????️ Atelier “Des Livres à Soi” avec Delphine Chedru – \n????️ Vendredi 10 octobre à la Cité éducative de Montreynaud \n\n\n???? Battle BD : Anaïs Vaugelade VS Henri Meunier – \n???? Place de l’Hôtel de Ville – Espace débats \n\n\n???? Concours de tricot autour de La Belle et la Bête – \n???? Place Chavanelle\, remise du prix : \n????️ Dimanche 12 octobre à 11h \n\n\n\nConseils pour profiter au max\n\n\nArrivez tôt : les animations pour enfants partent vite\, et certains ateliers demandent réservation ou places limitées. \n\n\nSe repérer : plusieurs lieux du centre-ville sont investis (Place Chavanelle\, Place de l’Hôtel de Ville\, chapiteaux\, librairies partenaires). \n\n\nPrévoir des temps libres : pour flâner entre stands\, découvrir des auteurs\, feuilleter des BD. \n\n\nImpliquer les enfants : laissez-les choisir une activité\, un atelier ou une expo qui les attire. \n\n\nPensez aux coins “pause lecture” : parfois\, juste s’installer avec un livre dans l’ambiance du festival\, c’est déjà magique. \n\n\n\n\n\n	Similaire
URL:https://crocoule.org/notre-evenement/saint-etienne-_-fete-du-livre/
CATEGORIES:En famille,Gratuit,Tous les événements,Tout public
END:VEVENT
BEGIN:VEVENT
DTSTART;TZID=Europe/Paris:20241105T080000
DTEND;TZID=Europe/Paris:20241109T170000
DTSTAMP:20260424T173300
CREATED:20241107T150323Z
LAST-MODIFIED:20241107T150349Z
UID:10009296-1730793600-1731171600@crocoule.org
SUMMARY:Pléiades 2024 : Festival des Arts Numériques à Saint-Étienne
DESCRIPTION:Pléiades 2024 : Festival des Arts Numériques à Saint-Étienne\nUn parcours artistique lumineux dans les rues de Saint-Étienne\nDes installations et projections pour toute la famille\nDécouvrez les temps forts du festival\nDu 5 au 9 novembre\, plongez dans l’univers des arts numériques avec le festival Pléiades ! Entre installations lumineuses\, projections immersives et parcours guidés\, Saint-Étienne se transforme en galerie à ciel ouvert. Une sortie magique pour petits et grands\, avec des œuvres interactives à découvrir dans toute la ville\, accessibles gratuitement. Ne manquez pas les temps forts chaque soir et profitez-en pour explorer les rues illuminées en famille ! \nINFOS  \n\n\n	Similaire
URL:https://crocoule.org/notre-evenement/festival-pleiades-saint-etienne-famille/
LOCATION:VILLE SAINT ETIENNE\, SAINT ETIENNE\, France
CATEGORIES:Exterieur,Tous les événements,Tout public
ATTACH;FMTTYPE=image/jpeg:https://crocoule.org/wp-content/uploads/2024/11/pleaides-saint-etienne-2024-festival-famille.jpg
END:VEVENT
END:VCALENDAR