BEGIN:VCALENDAR
VERSION:2.0
PRODID:-//Crocoule - ECPv6.15.15//NONSGML v1.0//EN
CALSCALE:GREGORIAN
METHOD:PUBLISH
X-ORIGINAL-URL:https://crocoule.org
X-WR-CALDESC:Évènements pour Crocoule
REFRESH-INTERVAL;VALUE=DURATION:PT1H
X-Robots-Tag:noindex
X-PUBLISHED-TTL:PT1H
BEGIN:VTIMEZONE
TZID:Europe/Paris
BEGIN:DAYLIGHT
TZOFFSETFROM:+0100
TZOFFSETTO:+0200
TZNAME:CEST
DTSTART:20230326T010000
END:DAYLIGHT
BEGIN:STANDARD
TZOFFSETFROM:+0200
TZOFFSETTO:+0100
TZNAME:CET
DTSTART:20231029T010000
END:STANDARD
BEGIN:DAYLIGHT
TZOFFSETFROM:+0100
TZOFFSETTO:+0200
TZNAME:CEST
DTSTART:20240331T010000
END:DAYLIGHT
BEGIN:STANDARD
TZOFFSETFROM:+0200
TZOFFSETTO:+0100
TZNAME:CET
DTSTART:20241027T010000
END:STANDARD
BEGIN:DAYLIGHT
TZOFFSETFROM:+0100
TZOFFSETTO:+0200
TZNAME:CEST
DTSTART:20250330T010000
END:DAYLIGHT
BEGIN:STANDARD
TZOFFSETFROM:+0200
TZOFFSETTO:+0100
TZNAME:CET
DTSTART:20251026T010000
END:STANDARD
END:VTIMEZONE
BEGIN:VEVENT
DTSTART;TZID=Europe/Paris:20241122T190000
DTEND;TZID=Europe/Paris:20241122T200000
DTSTAMP:20260420T070921
CREATED:20241125T145416Z
LAST-MODIFIED:20241125T145416Z
UID:10010229-1732302000-1732305600@crocoule.org
SUMMARY:Andrézieux-Bouthéon | Kontact
DESCRIPTION:Si vous êtes fasciné par les prouesses acrobatiques et que vous avez le cœur bien accroché\, vous allez adorer Kontact ! Ici\, les acrobates n’auront pas d’autres agrès que leurs propres corps et ce qu’ils contiennent de force et d’agilité\, de puissance et de grâce\, mais inévitablement aussi de fragilité. \nLes six artistes vous proposent une rencontre authentique et chaleureuse. Kontact est une ode à la joie et à la convivialité. Le spectacle en trifrontal\, permet au public d’être au plus près du jeu\, lui offrant une immersion totale. En amont du spectacle\, notre artiste associé Mathieu Heyraud (Cie R/Ô) invitera le public à explorer la relation entre le corps et la perception d’un spectacle. \n\n\n	Similaire
URL:https://crocoule.org/notre-evenement/andrezieux-boutheon-kontact/
CATEGORIES:06 ans +,Tous les événements
ATTACH;FMTTYPE=image/jpeg:https://crocoule.org/wp-content/uploads/2024/11/kontact-1-e1725349268504-zb891I.tmp_.jpg
END:VEVENT
END:VCALENDAR