BEGIN:VCALENDAR
VERSION:2.0
PRODID:-//Crocoule - ECPv6.15.15//NONSGML v1.0//EN
CALSCALE:GREGORIAN
METHOD:PUBLISH
X-ORIGINAL-URL:https://crocoule.org
X-WR-CALDESC:Évènements pour Crocoule
REFRESH-INTERVAL;VALUE=DURATION:PT1H
X-Robots-Tag:noindex
X-PUBLISHED-TTL:PT1H
BEGIN:VTIMEZONE
TZID:Europe/Paris
BEGIN:DAYLIGHT
TZOFFSETFROM:+0100
TZOFFSETTO:+0200
TZNAME:CEST
DTSTART:20250330T010000
END:DAYLIGHT
BEGIN:STANDARD
TZOFFSETFROM:+0200
TZOFFSETTO:+0100
TZNAME:CET
DTSTART:20251026T010000
END:STANDARD
BEGIN:DAYLIGHT
TZOFFSETFROM:+0100
TZOFFSETTO:+0200
TZNAME:CEST
DTSTART:20260329T010000
END:DAYLIGHT
BEGIN:STANDARD
TZOFFSETFROM:+0200
TZOFFSETTO:+0100
TZNAME:CET
DTSTART:20261025T010000
END:STANDARD
BEGIN:DAYLIGHT
TZOFFSETFROM:+0100
TZOFFSETTO:+0200
TZNAME:CEST
DTSTART:20270328T010000
END:DAYLIGHT
BEGIN:STANDARD
TZOFFSETFROM:+0200
TZOFFSETTO:+0100
TZNAME:CET
DTSTART:20271031T010000
END:STANDARD
END:VTIMEZONE
BEGIN:VEVENT
DTSTART;TZID=Europe/Paris:20260513T150000
DTEND;TZID=Europe/Paris:20260513T150000
DTSTAMP:20260420T034854
CREATED:20260303T173359Z
LAST-MODIFIED:20260303T173359Z
UID:10013318-1778684400-1778684400@crocoule.org
SUMMARY:Andrézieux-Bouthéon | Miche et Drate
DESCRIPTION:Nés de l’esprit de l’auteur Gérard Chevrolet\, Miche et Drate sont deux clowns sans âge ni origine\, qui cheminent avec tendresse et humour à travers les grandes interrogations de la vie. \n\n\n	Similaire
URL:https://crocoule.org/notre-evenement/andrezieux-boutheon-miche-et-drate/
CATEGORIES:08 ans +,Tous les événements
END:VEVENT
BEGIN:VEVENT
DTSTART;TZID=Europe/Paris:20260530T170000
DTEND;TZID=Europe/Paris:20260530T180000
DTSTAMP:20260420T034854
CREATED:20260303T173401Z
LAST-MODIFIED:20260402T101815Z
UID:10013319-1780160400-1780164000@crocoule.org
SUMMARY:Andrézieux-Bouthéon | Clan cabane
DESCRIPTION:Clan Cabane est un spectacle de cirque en plein air\, imaginé par un collectif d’acrobates aussi complices sur scène que dans la vie. Ensemble\, ils revisitent les jeux d’enfance avec leurs gestes d’aujourd’hui : cabanes à construire\, défis à relever\, souvenirs à partager. \nAvec un trampoline comme point de départ\, ils explorent de nouvelles trajectoires\, rebondissent sur leurs idées et donnent du mouvement à leurs histoires. Entre figures aériennes\, bricolage et camaraderie\, le tout porté par une musique jouée en direct\, ils inventent un amusement à leur image – libre\, joyeux\, et avec un brin de folie. \nUn moment suspendu\, où l’on retrouve le goût simple de faire ensemble. \n\n\n	Similaire
URL:https://crocoule.org/notre-evenement/andrezieux-boutheon-clan-cabane/
CATEGORIES:06 ans +,Tous les événements
END:VEVENT
END:VCALENDAR