BEGIN:VCALENDAR
VERSION:2.0
PRODID:-//Crocoule - ECPv6.15.15//NONSGML v1.0//EN
CALSCALE:GREGORIAN
METHOD:PUBLISH
X-ORIGINAL-URL:https://crocoule.org
X-WR-CALDESC:Évènements pour Crocoule
REFRESH-INTERVAL;VALUE=DURATION:PT1H
X-Robots-Tag:noindex
X-PUBLISHED-TTL:PT1H
BEGIN:VTIMEZONE
TZID:Europe/Paris
BEGIN:DAYLIGHT
TZOFFSETFROM:+0100
TZOFFSETTO:+0200
TZNAME:CEST
DTSTART:20240331T010000
END:DAYLIGHT
BEGIN:STANDARD
TZOFFSETFROM:+0200
TZOFFSETTO:+0100
TZNAME:CET
DTSTART:20241027T010000
END:STANDARD
BEGIN:DAYLIGHT
TZOFFSETFROM:+0100
TZOFFSETTO:+0200
TZNAME:CEST
DTSTART:20250330T010000
END:DAYLIGHT
BEGIN:STANDARD
TZOFFSETFROM:+0200
TZOFFSETTO:+0100
TZNAME:CET
DTSTART:20251026T010000
END:STANDARD
BEGIN:DAYLIGHT
TZOFFSETFROM:+0100
TZOFFSETTO:+0200
TZNAME:CEST
DTSTART:20260329T010000
END:DAYLIGHT
BEGIN:STANDARD
TZOFFSETFROM:+0200
TZOFFSETTO:+0100
TZNAME:CET
DTSTART:20261025T010000
END:STANDARD
END:VTIMEZONE
BEGIN:VEVENT
DTSTART;TZID=Europe/Paris:20250524T160000
DTEND;TZID=Europe/Paris:20250524T170000
DTSTAMP:20260421T113732
CREATED:20250218T135244Z
LAST-MODIFIED:20250218T140647Z
UID:10010585-1748102400-1748106000@crocoule.org
SUMMARY:L'au dessus
DESCRIPTION:Ce BD-Concert propose une immersion musicale et visuelle dans l’univers de Krum. Une création collective pour donner vie aux personnages de L’Au-Dessus en gardant la simplicité\, la naïveté de l’histoire\, tout en plongeant le spectateur dans la matière vive de cet océan de poésie. \n\n\n	Similaire
URL:https://crocoule.org/notre-evenement/lau-dessus-2/
CATEGORIES:8 ans +,Tous les événements
END:VEVENT
BEGIN:VEVENT
DTSTART;TZID=Europe/Paris:20250521T150000
DTEND;TZID=Europe/Paris:20250521T160000
DTSTAMP:20260421T113732
CREATED:20250218T135243Z
LAST-MODIFIED:20250313T160832Z
UID:10010584-1747839600-1747843200@crocoule.org
SUMMARY:L'au dessus
DESCRIPTION:Ce BD-Concert propose une immersion musicale et visuelle dans l’univers de Krum. Une création collective pour donner vie aux personnages de L’Au-Dessus en gardant la simplicité\, la naïveté de l’histoire\, tout en plongeant le spectateur dans la matière vive de cet océan de poésie. \n\n\n	Similaire
URL:https://crocoule.org/notre-evenement/lau-dessus/
CATEGORIES:8 ans +,Tous les événements
END:VEVENT
BEGIN:VEVENT
DTSTART;TZID=Europe/Paris:20250517T160000
DTEND;TZID=Europe/Paris:20250517T170000
DTSTAMP:20260421T113732
CREATED:20250218T135242Z
LAST-MODIFIED:20250313T160830Z
UID:10010583-1747497600-1747501200@crocoule.org
SUMMARY:Dans la boucle
DESCRIPTION:Dans la boucle fait chavirer la vie de trois individus pour en faire ressortir émotions\, situations cocasses et questionnements. Un spectacle familial et poétique\, plein d’humour\, qui vous invite avec fraîcheur à regarder la routine d’un pas de côté.\n Trio de danse à la fois contemporaine\, jazz et hip-hop\, Dans la boucle est la première pièce signée de Zoé Boutoille\, Yane Corfa et Bryan Montarou\, avec la complicité artistique de Michèle Dhallu. \n\n\n	Similaire
URL:https://crocoule.org/notre-evenement/dans-la-boucle/
CATEGORIES:6 ans +,Tous les événements
END:VEVENT
BEGIN:VEVENT
DTSTART;TZID=Europe/Paris:20250412T160000
DTEND;TZID=Europe/Paris:20250412T170000
DTSTAMP:20260421T113732
CREATED:20250218T135241Z
LAST-MODIFIED:20250218T140647Z
UID:10010582-1744473600-1744477200@crocoule.org
SUMMARY:Les Petits Touts
DESCRIPTION:Sur son île peuplée de curiosités\, ce naufragé solitaire réalise de minuscules et délicates prouesses avec ce qui lui tombe sous la main : des branches\, du sable\, des fils\, de l’air\, de l’écume… Il s’invente et crée des compagnons de vie pour accompagner sa solitude et nous plonge au coeur de son petit cirque intérieur\, toute n équilibre\, peuplé de mirages de l’enfance\, de joyeuses curiosités et de rencontres singulières…\n Un véritable cirque forain d’une infinie poésie et d’une immense délicatesse\, fait de petits riens\, pour épater les « petitous » ! \n\n\n	Similaire
URL:https://crocoule.org/notre-evenement/les-petits-touts-2/
CATEGORIES:4 ans +,Tous les événements
END:VEVENT
BEGIN:VEVENT
DTSTART;TZID=Europe/Paris:20250409T150000
DTEND;TZID=Europe/Paris:20250409T160000
DTSTAMP:20260421T113732
CREATED:20250218T135240Z
LAST-MODIFIED:20250313T160829Z
UID:10010581-1744210800-1744214400@crocoule.org
SUMMARY:Les Petits Touts
DESCRIPTION:Sur son île peuplée de curiosités\, ce naufragé solitaire réalise de minuscules et délicates prouesses avec ce qui lui tombe sous la main : des branches\, du sable\, des fils\, de l’air\, de l’écume… Il s’invente et crée des compagnons de vie pour accompagner sa solitude et nous plonge au coeur de son petit cirque intérieur\, toute n équilibre\, peuplé de mirages de l’enfance\, de joyeuses curiosités et de rencontres singulières…\n Un véritable cirque forain d’une infinie poésie et d’une immense délicatesse\, fait de petits riens\, pour épater les « petitous » ! \n\n\n	Similaire
URL:https://crocoule.org/notre-evenement/les-petits-touts/
CATEGORIES:4 ans +,Tous les événements
END:VEVENT
BEGIN:VEVENT
DTSTART;TZID=Europe/Paris:20250402T200000
DTEND;TZID=Europe/Paris:20250402T210000
DTSTAMP:20260421T113732
CREATED:20250218T135235Z
LAST-MODIFIED:20250313T160825Z
UID:10010578-1743624000-1743627600@crocoule.org
SUMMARY:Le château des Carpathes
DESCRIPTION:Au fin fond de la Transylvanie\, là même où aurait vécu Dracula\, se trouve un petit village replié sur lui-même. Sur ses hauteurs\, se dresse l’inquiétant et mystérieux château des Carpathes. Les villageois sont terrorisés par d’étranges phénomènes qui hantent ce lieu. Intrigué\, Franz de Telek\, un voyageur\, vient explorer ces contrées. Il y retrouve le baron de Gortz\, dernier descendant des propriétaires du château. Les deux hommes se sont connus autrefois\, car ils ont aimé la même femme\, une cantatrice magnétique nommée la Stilla. Mais celle-ci est morte\, du moins\, officiellement… \n\n\n	Similaire
URL:https://crocoule.org/notre-evenement/le-chateau-des-carpathes/
CATEGORIES:12 ans +,Tous les événements
END:VEVENT
BEGIN:VEVENT
DTSTART;TZID=Europe/Paris:20250329T160000
DTEND;TZID=Europe/Paris:20250329T170000
DTSTAMP:20260421T113732
CREATED:20250218T135237Z
LAST-MODIFIED:20250218T140646Z
UID:10010580-1743264000-1743267600@crocoule.org
SUMMARY:Le secret des arbres
DESCRIPTION:Il se faut entraider\, c’est la loi de nature. »\n Cette citation de Jean de La Fontaine marque le point de départ de notre réflexion. Nous savons aujourd’hui que les arbres\, par le biais de leurs racines\, communiquent\, s’entraident\, et construisent un environnement bénéfique à chacun. Et si nous appliquions le principe à l’Humanité ? \n\n\n	Similaire
URL:https://crocoule.org/notre-evenement/le-secret-des-arbres-2/
CATEGORIES:5 ans +,Tous les événements
END:VEVENT
BEGIN:VEVENT
DTSTART;TZID=Europe/Paris:20250326T150000
DTEND;TZID=Europe/Paris:20250326T160000
DTSTAMP:20260421T113732
CREATED:20250218T135236Z
LAST-MODIFIED:20250313T160827Z
UID:10010579-1743001200-1743004800@crocoule.org
SUMMARY:Le secret des arbres
DESCRIPTION:Il se faut entraider\, c’est la loi de nature. »\n Cette citation de Jean de La Fontaine marque le point de départ de notre réflexion. Nous savons aujourd’hui que les arbres\, par le biais de leurs racines\, communiquent\, s’entraident\, et construisent un environnement bénéfique à chacun. Et si nous appliquions le principe à l’Humanité ? \n\n\n	Similaire
URL:https://crocoule.org/notre-evenement/le-secret-des-arbres/
CATEGORIES:5 ans +,Tous les événements
END:VEVENT
END:VCALENDAR