BEGIN:VCALENDAR
VERSION:2.0
PRODID:-//Crocoule - ECPv6.15.15//NONSGML v1.0//EN
CALSCALE:GREGORIAN
METHOD:PUBLISH
X-ORIGINAL-URL:https://crocoule.org
X-WR-CALDESC:Évènements pour Crocoule
REFRESH-INTERVAL;VALUE=DURATION:PT1H
X-Robots-Tag:noindex
X-PUBLISHED-TTL:PT1H
BEGIN:VTIMEZONE
TZID:Europe/Paris
BEGIN:DAYLIGHT
TZOFFSETFROM:+0100
TZOFFSETTO:+0200
TZNAME:CEST
DTSTART:20220327T010000
END:DAYLIGHT
BEGIN:STANDARD
TZOFFSETFROM:+0200
TZOFFSETTO:+0100
TZNAME:CET
DTSTART:20221030T010000
END:STANDARD
BEGIN:DAYLIGHT
TZOFFSETFROM:+0100
TZOFFSETTO:+0200
TZNAME:CEST
DTSTART:20230326T010000
END:DAYLIGHT
BEGIN:STANDARD
TZOFFSETFROM:+0200
TZOFFSETTO:+0100
TZNAME:CET
DTSTART:20231029T010000
END:STANDARD
BEGIN:DAYLIGHT
TZOFFSETFROM:+0100
TZOFFSETTO:+0200
TZNAME:CEST
DTSTART:20240331T010000
END:DAYLIGHT
BEGIN:STANDARD
TZOFFSETFROM:+0200
TZOFFSETTO:+0100
TZNAME:CET
DTSTART:20241027T010000
END:STANDARD
BEGIN:DAYLIGHT
TZOFFSETFROM:+0100
TZOFFSETTO:+0200
TZNAME:CEST
DTSTART:20250330T010000
END:DAYLIGHT
BEGIN:STANDARD
TZOFFSETFROM:+0200
TZOFFSETTO:+0100
TZNAME:CET
DTSTART:20251026T010000
END:STANDARD
BEGIN:DAYLIGHT
TZOFFSETFROM:+0100
TZOFFSETTO:+0200
TZNAME:CEST
DTSTART:20260329T010000
END:DAYLIGHT
BEGIN:STANDARD
TZOFFSETFROM:+0200
TZOFFSETTO:+0100
TZNAME:CET
DTSTART:20261025T010000
END:STANDARD
END:VTIMEZONE
BEGIN:VEVENT
DTSTART;TZID=Europe/Paris:20251012T080000
DTEND;TZID=Europe/Paris:20251012T120000
DTSTAMP:20260421T145712
CREATED:20250826T154015Z
LAST-MODIFIED:20250826T154015Z
UID:10011974-1760256000-1760270400@crocoule.org
SUMMARY:MONISTROL SUR LOIRE | Sur les pas des Globes Stroleurs-
DESCRIPTION:Rando famille avec animation « Voyage autour du monde »- ravitaillement à l’arrivée \n\n\n	Similaire
URL:https://crocoule.org/notre-evenement/monistrol-sur-loire-sur-les-pas-des-globes-stroleurs/
LOCATION:Monistrol-sur-Loire
ATTACH;FMTTYPE=image/webp:https://crocoule.org/wp-content/uploads/2025/08/une-4UHp4t.webp
END:VEVENT
BEGIN:VEVENT
DTSTART;TZID=Europe/Paris:20241130T100000
DTEND;TZID=Europe/Paris:20241201T180000
DTSTAMP:20260421T145712
CREATED:20241125T144414Z
LAST-MODIFIED:20241125T144414Z
UID:10010209-1732960800-1733076000@crocoule.org
SUMMARY:MONISTROL-SUR-LOIRE | EXPO LEGO® "Monistrol en briques"
DESCRIPTION:Similaire
URL:https://crocoule.org/notre-evenement/monistrol-sur-loire-expo-lego-monistrol-en-briques/
CATEGORIES:Activité du week-end,Expo,Tous les événements
END:VEVENT
BEGIN:VEVENT
DTSTART;TZID=Europe/Paris:20231125T080000
DTEND;TZID=Europe/Paris:20231126T170000
DTSTAMP:20260421T145712
CREATED:20231108T100635Z
LAST-MODIFIED:20231108T100635Z
UID:10002679-1700899200-1701018000@crocoule.org
SUMMARY:Marché des potiers
DESCRIPTION:Une vingtaine de potiers réunis pour ce grand marché. \nAtelier enfants à partir de 6 ans animé par Marie Dreux – samedi et dimanche dès 14 h – 2 €\nDémo de tournage par Emmy Faire – Samedi de 15 h à 17 h – Dimanche de 11 h à 12 et de 15 h à 17 h \nMarché de potiers – Exposition – Ateliers\, samedi de 12h à 18h –\nDimanche 10h à18h \nINFOS \n  \n\n\n	Similaire
URL:https://crocoule.org/notre-evenement/marche-des-potiers/
LOCATION:Office de tourisme des Gorges de la Loire
END:VEVENT
END:VCALENDAR