BEGIN:VCALENDAR
VERSION:2.0
PRODID:-//Crocoule - ECPv6.15.15//NONSGML v1.0//EN
CALSCALE:GREGORIAN
METHOD:PUBLISH
X-ORIGINAL-URL:https://crocoule.org
X-WR-CALDESC:Évènements pour Crocoule
REFRESH-INTERVAL;VALUE=DURATION:PT1H
X-Robots-Tag:noindex
X-PUBLISHED-TTL:PT1H
BEGIN:VTIMEZONE
TZID:Europe/Paris
BEGIN:DAYLIGHT
TZOFFSETFROM:+0100
TZOFFSETTO:+0200
TZNAME:CEST
DTSTART:20240331T010000
END:DAYLIGHT
BEGIN:STANDARD
TZOFFSETFROM:+0200
TZOFFSETTO:+0100
TZNAME:CET
DTSTART:20241027T010000
END:STANDARD
BEGIN:DAYLIGHT
TZOFFSETFROM:+0100
TZOFFSETTO:+0200
TZNAME:CEST
DTSTART:20250330T010000
END:DAYLIGHT
BEGIN:STANDARD
TZOFFSETFROM:+0200
TZOFFSETTO:+0100
TZNAME:CET
DTSTART:20251026T010000
END:STANDARD
BEGIN:DAYLIGHT
TZOFFSETFROM:+0100
TZOFFSETTO:+0200
TZNAME:CEST
DTSTART:20260329T010000
END:DAYLIGHT
BEGIN:STANDARD
TZOFFSETFROM:+0200
TZOFFSETTO:+0100
TZNAME:CET
DTSTART:20261025T010000
END:STANDARD
END:VTIMEZONE
BEGIN:VEVENT
DTSTART;TZID=Europe/Paris:20250805T173000
DTEND;TZID=Europe/Paris:20250805T190000
DTSTAMP:20260420T120133
CREATED:20250826T153917Z
LAST-MODIFIED:20250826T153917Z
UID:10011935-1754415000-1754420400@crocoule.org
SUMMARY:BOISSET | Viste GAEC DE L'HERM
DESCRIPTION:C’est l’heure de la traite des vaches et du biberon des veaux au GAEC DE L’herm. Après la visite quel délice de déguster les glaces fabriquées à la ferme.  5€ par adulte et 4€ par enfant de 3 à 12 ans. Réservation obligatoire 06 68 95 13 16 \n\n\n	Similaire
URL:https://crocoule.org/notre-evenement/boisset-viste-gaec-de-lherm-5/
ATTACH;FMTTYPE=image/webp:https://crocoule.org/wp-content/uploads/2025/08/vaches-a-la-ferme-UNF2hD.webp
END:VEVENT
BEGIN:VEVENT
DTSTART;TZID=Europe/Paris:20250805T090000
DTEND;TZID=Europe/Paris:20250805T120000
DTSTAMP:20260420T120133
CREATED:20250826T154009Z
LAST-MODIFIED:20250826T154009Z
UID:10011968-1754384400-1754395200@crocoule.org
SUMMARY:SAINTE SIGOLENE | Découverte de la pêche au coup
DESCRIPTION:Découverte de la pêche au coup avec la fédération de pêche en compagnie d’un moniteur guide de pêche diplômé BPJEPS Philippe Cotte . Matériel et appâts fournis\, étang du Villard\, réservation au 07 80 07 49 69 \n\n\n	Similaire
URL:https://crocoule.org/notre-evenement/sainte-sigolene-decouverte-de-la-peche-au-coup-2/
LOCATION:Sainte Sigolène
END:VEVENT
BEGIN:VEVENT
DTSTART;TZID=Europe/Paris:20250804T140000
DTEND;TZID=Europe/Paris:20250804T170000
DTSTAMP:20260420T120133
CREATED:20250826T153838Z
LAST-MODIFIED:20250826T153838Z
UID:10011911-1754316000-1754326800@crocoule.org
SUMMARY:SAINTE-SIGOLENE  | Atelier tissage
DESCRIPTION:Pour les enfants de 7 à 10 ans.  Pour comprendre et reproduire les gestes de nos arrières grands parents.7€50. Réservation au 04 71 61 14 17 \n\n\n	Similaire
URL:https://crocoule.org/notre-evenement/sainte-sigolene-atelier-tissage-2/
ATTACH;FMTTYPE=image/webp:https://crocoule.org/wp-content/uploads/2025/06/la-fabrique-metiers-a-tisser-DXt3Bf.webp
END:VEVENT
BEGIN:VEVENT
DTSTART;TZID=Europe/Paris:20250804T090000
DTEND;TZID=Europe/Paris:20250804T120000
DTSTAMP:20260420T120133
CREATED:20250826T153838Z
LAST-MODIFIED:20250826T153838Z
UID:10011910-1754298000-1754308800@crocoule.org
SUMMARY:SAINTE SIGOLENE | Balade découverte nature
DESCRIPTION:Balade découverte nature loutre\, castor\, oiseaux et fabrication d’une vannerie sauvage dans les Gorges de la Duniére avec Marine Schmitt “Passeuse de Nature”. 5€ adulte. 3€ enfant\, Réservation 04 71 61 14 17 \n\n\n	Similaire
URL:https://crocoule.org/notre-evenement/sainte-sigolene-balade-decouverte-nature-2/
LOCATION:Sainte-Sigolène
END:VEVENT
BEGIN:VEVENT
DTSTART;TZID=Europe/Paris:20250803T133000
DTEND;TZID=Europe/Paris:20250803T150000
DTSTAMP:20260420T120133
CREATED:20250826T153838Z
LAST-MODIFIED:20250826T153838Z
UID:10011909-1754227800-1754233200@crocoule.org
SUMMARY:BAS EN BASSET | Atelier artistique d'oiseaux en argile
DESCRIPTION:Atelier artistique sur le thème Art et Nature\, au Château de Rochebaron animé par Angeline Russier. Dès 5 ANS\, accompagné d’un adulte. Création d’oiseaux en argile. Atelier adapté aux familles. 13 euros par personne. Réservation 04 71 66 95 44. BAS EN BASSET \n\n\n	Similaire
URL:https://crocoule.org/notre-evenement/bas-en-basset-atelier-artistique-doiseaux-en-argile/
END:VEVENT
BEGIN:VEVENT
DTSTART;TZID=Europe/Paris:20250803T100000
DTEND;TZID=Europe/Paris:20250803T113000
DTSTAMP:20260420T120133
CREATED:20250826T153846Z
LAST-MODIFIED:20250826T153846Z
UID:10011917-1754215200-1754220600@crocoule.org
SUMMARY:BAS EN BASSET | Atelier artistique en extérieur
DESCRIPTION:Atelier artistique en extérieur : dessin à l’encre magique\, animé par Angeline Russier\, autour de l’étang de Bas-en basset . A partir de 5 ans. 10€ par personne. Réservation obligatoire 04 71 66 95 44. \n\n\n	Similaire
URL:https://crocoule.org/notre-evenement/bas-en-basset-atelier-artistique-en-exterieur-3/
END:VEVENT
BEGIN:VEVENT
DTSTART;TZID=Europe/Paris:20250801T200000
DTEND;TZID=Europe/Paris:20250801T220000
DTSTAMP:20260420T120133
CREATED:20250826T153838Z
LAST-MODIFIED:20250826T153838Z
UID:10011908-1754078400-1754085600@crocoule.org
SUMMARY:BAS EN BASSET | Cluedo Nocturne
DESCRIPTION:Cluedo Nocture\, 10€ adultes et 5€ enfants à partir de 6 ans. Réservation hello asso. \n\n\n	Similaire
URL:https://crocoule.org/notre-evenement/bas-en-basset-cluedo-nocturne/
END:VEVENT
BEGIN:VEVENT
DTSTART;TZID=Europe/Paris:20250731T210000
DTEND;TZID=Europe/Paris:20250731T223000
DTSTAMP:20260420T120133
CREATED:20250826T153859Z
LAST-MODIFIED:20250826T153859Z
UID:10011927-1753995600-1754001000@crocoule.org
SUMMARY:BAS EN BASSET | Les Nocturnes à Rochebaron !
DESCRIPTION:A la tombée de la nuit\, et sous les lumières du Château\, hiboux\, chouettes et harfangs des neiges vous livrent leurs secrets..\nTout public (familles\, adultes\, enfants).\nSur réservation auprès de l’Office ou du château de Rochebaron. O10€ Adulte / 6€ enfants de 6 à 16 ans / Moins de 6 ans : Gratuit. Réservation 04 71 66 95 44\, \n\n\n	Similaire
URL:https://crocoule.org/notre-evenement/bas-en-basset-les-nocturnes-a-rochebaron-3/
ATTACH;FMTTYPE=image/jpeg:https://crocoule.org/wp-content/uploads/2025/06/rochebaron-de-nuit-6Ts3pY.jpg
END:VEVENT
BEGIN:VEVENT
DTSTART;TZID=Europe/Paris:20250731T133000
DTEND;TZID=Europe/Paris:20250731T170000
DTSTAMP:20260420T120133
CREATED:20250826T153949Z
LAST-MODIFIED:20250826T153949Z
UID:10011954-1753968600-1753981200@crocoule.org
SUMMARY:MONISTROL SUR LOIRE | Pêche à l'écrevisse
DESCRIPTION:Découverte de la pêche aux écrevisses avec la fédération de pêche en compagnie d’un moniteur guide de pêche\ndiplômé BPJEPS. Matériel et appâts fournis\, Réservation au 07.80.07.49.69 \n\n\n	Similaire
URL:https://crocoule.org/notre-evenement/monistrol-sur-loire-peche-a-lecrevisse-4/
LOCATION:Monistrol-sur-Loire
END:VEVENT
BEGIN:VEVENT
DTSTART;TZID=Europe/Paris:20250730T150000
DTEND;TZID=Europe/Paris:20250730T163000
DTSTAMP:20260420T120134
CREATED:20250826T153956Z
LAST-MODIFIED:20250826T153956Z
UID:10011961-1753887600-1753893000@crocoule.org
SUMMARY:BAS EN BASSET | Visite à la ferme Chèvrerie des P'tits Lou
DESCRIPTION:Les mercredis du 09 juillet au 27 août à La Chèvrerie des P’tits Lou visite de la ferme pour voir les chèvres\, démonstration de chiens de troupeau ou balade avec les chèvres\, dégustation de fromage\, explication sur la traite et la fabrication des fromages. Gratuit enfants moins de 12 ans  5€ + 12 ans. Réservation 06 84 73 47 74 \n\n\n	Similaire
URL:https://crocoule.org/notre-evenement/bas-en-basset-visite-a-la-ferme-chevrerie-des-ptits-lou-4/
LOCATION:Bas-en-Basset
ATTACH;FMTTYPE=application/pdf:https://crocoule.org/wp-content/uploads/2025/08/programme-week-end-sorties-nature-2025-e98vMY.pdf
END:VEVENT
BEGIN:VEVENT
DTSTART;TZID=Europe/Paris:20250730T100000
DTEND;TZID=Europe/Paris:20250730T113000
DTSTAMP:20260420T120134
CREATED:20250826T153928Z
LAST-MODIFIED:20250826T153928Z
UID:10011940-1753869600-1753875000@crocoule.org
SUMMARY:BAS EN BASSET | Balade suitées en compagnie d’un rapace
DESCRIPTION:Amoureux de nature\, découvrez les alentours du château en compagnie de rapaces et leur fauconnier.\nUne promenade originale : les oiseaux vous suivent et vous frôlent\, en toute liberté ! Et vous pouvez ainsi interagir avec Nicolas et Orion\, les fauconniers\, de façon privilégiée.\nUne expérience à vivre à plusieurs. Chacun pourra rappeler les oiseaux au poing et ainsi partager la passion de leur fauconnier.\n12€ Adulte / 8€ enfants de 6 à 16 ans / Moins de 6 ans : Gratuit \n\n\n	Similaire
URL:https://crocoule.org/notre-evenement/bas-en-basset-balade-suitees-en-compagnie-dun-rapace-3/
ATTACH;FMTTYPE=image/jpeg:https://crocoule.org/wp-content/uploads/2025/03/balade-rapace-rochebaron-QTtjxT.tmp_.jpg
END:VEVENT
BEGIN:VEVENT
DTSTART;TZID=Europe/Paris:20250730T083000
DTEND;TZID=Europe/Paris:20250730T111500
DTSTAMP:20260420T120134
CREATED:20250826T153834Z
LAST-MODIFIED:20250826T153834Z
UID:10011907-1753864200-1753874100@crocoule.org
SUMMARY:BAS EN BASSET | Initiation à la pêche pour les enfants
DESCRIPTION:Initiation pêche pour les enfants autour d’un étang. Prêt du matériel\, goûter et boissons offerts. Les enfants doivent être accompagnés. Encadré par l’AAPPMA la Gaule Bassoise. Parc de la biodiversité à Bas en Basset. De 4 à 13 ans. Gratuit. Réservation au 04 71 66 95 44 \n\n\n	Similaire
URL:https://crocoule.org/notre-evenement/bas-en-basset-initiation-a-la-peche-pour-les-enfants/
ATTACH;FMTTYPE=image/webp:https://crocoule.org/wp-content/uploads/2025/06/peche-initiation-enfants-RuTZ53.webp
END:VEVENT
BEGIN:VEVENT
DTSTART;TZID=Europe/Paris:20250729T173000
DTEND;TZID=Europe/Paris:20250729T190000
DTSTAMP:20260420T120134
CREATED:20250826T153916Z
LAST-MODIFIED:20250826T153916Z
UID:10011934-1753810200-1753815600@crocoule.org
SUMMARY:BOISSET | Viste GAEC DE L'HERM
DESCRIPTION:C’est l’heure de la traite des vaches et du biberon des veaux au GAEC DE L’herm. Après la visite quel délice de déguster les glaces fabriquées à la ferme.  5€ par adulte et 4€ par enfant de 3 à 12 ans. Réservation obligatoire 06 68 95 13 16 \n\n\n	Similaire
URL:https://crocoule.org/notre-evenement/boisset-viste-gaec-de-lherm-4/
ATTACH;FMTTYPE=image/webp:https://crocoule.org/wp-content/uploads/2025/08/vaches-a-la-ferme-UNF2hD.webp
END:VEVENT
BEGIN:VEVENT
DTSTART;TZID=Europe/Paris:20250729T143000
DTEND;TZID=Europe/Paris:20250729T163000
DTSTAMP:20260420T120134
CREATED:20250826T153833Z
LAST-MODIFIED:20250826T153833Z
UID:10011906-1753799400-1753806600@crocoule.org
SUMMARY:BAS EN BASSET | Atelier création d'un tableau en pleine nature
DESCRIPTION:Matériel de dessin\, peinture fourni\, Aucune compétence artistique nécessaire\, apportez simplement votre chaise pliante.\n– observation de Dame Nature (ses couleurs\, ses formes\, ses ombres et ses lumières).\n– élaboration de sa palette de peinture\, essai de mélanges de couleurs.\n– expression libre.\n– goûter offert et échanges autour des oeuvres de chacun.\nAdultes\, enfants à partir de 3 ans. 20 € /enfant et 40 €/adulte\, réservation au 04 71 66 95 44\n. \n\n\n	Similaire
URL:https://crocoule.org/notre-evenement/bas-en-basset-atelier-creation-dun-tableau-en-pleine-nature-2/
LOCATION:Bas-en-Basset
END:VEVENT
BEGIN:VEVENT
DTSTART;TZID=Europe/Paris:20250729T090000
DTEND;TZID=Europe/Paris:20250729T120000
DTSTAMP:20260420T120134
CREATED:20250826T154011Z
LAST-MODIFIED:20250826T154011Z
UID:10011971-1753779600-1753790400@crocoule.org
SUMMARY:SAINT ANDRE DE CHALENCON | Découverte de la pêche au coup avec la fédération de pêche en compagnie d’un moniteur guide de pêche diplômé BPJEPS Philippe Cotte . Matériel et appâts fournis\, étang de Chazelle\,réservation au 07 80 07 49 69
DESCRIPTION:Découverte de la pêche au coup avec la fédération de pêche en compagnie d’un moniteur guide de pêche diplômé BPJEPS Philippe Cotte . Matériel et appâts fournis\, étang de Chazelle\,réservation au 07 80 07 49 69 \n\n\n	Similaire
URL:https://crocoule.org/notre-evenement/saint-andre-de-chalencon-decouverte-de-la-peche-au-coup-avec-la-federation-de-peche-en-compagnie-dun-moniteur-guide-de-peche-diplome-bpjeps-philippe-cotte-materiel-et-appats-fournis-etan/
END:VEVENT
BEGIN:VEVENT
DTSTART;TZID=Europe/Paris:20250728T100000
DTEND;TZID=Europe/Paris:20250728T120000
DTSTAMP:20260420T120134
CREATED:20250826T153833Z
LAST-MODIFIED:20250826T153833Z
UID:10011905-1753696800-1753704000@crocoule.org
SUMMARY:BAS EN BASSET | Reproduction chez les plantes.
DESCRIPTION:A l’aide de loupes\, nous irons  décortiquer en détail leurs stratégies pour se reproduire mais aussi les nombreuses interactions avec les insectes. Nous terminerons par une dégustation issue des fruits de leur amour ! Accompagné et animé par Charlie Braesch\, animateur naturaliste “le gout du sauvage” 5€ par adulte. 3€  par enfant. 04 71 66 95 44 \n\n\n	Similaire
URL:https://crocoule.org/notre-evenement/bas-en-basset-reproduction-chez-les-plantes/
END:VEVENT
BEGIN:VEVENT
DTSTART;TZID=Europe/Paris:20250727T133000
DTEND;TZID=Europe/Paris:20250727T150000
DTSTAMP:20260420T120134
CREATED:20250826T153833Z
LAST-MODIFIED:20250826T153833Z
UID:10011904-1753623000-1753628400@crocoule.org
SUMMARY:BAS EN BASSET | Atelier artistique d'éventails en cyanotype
DESCRIPTION:Atelier artistique sur le thème Art et Nature\, au Château de Rochebaron animé par Angeline Russier. Dès 5 ANS\, accompagné d’un adulte. Création d’éventails en cyanotype ou  à l’encre si mauvais temps. Atelier adapté aux familles. 13 euros par personne. Réservation 04 71 66 95 44. BAS EN BASSET \n\n\n	Similaire
URL:https://crocoule.org/notre-evenement/bas-en-basset-atelier-artistique-deventails-en-cyanotype/
END:VEVENT
BEGIN:VEVENT
DTSTART;TZID=Europe/Paris:20250727T100000
DTEND;TZID=Europe/Paris:20250727T113000
DTSTAMP:20260420T120134
CREATED:20250826T153845Z
LAST-MODIFIED:20250826T153845Z
UID:10011915-1753610400-1753615800@crocoule.org
SUMMARY:BAS EN BASSET | Atelier artistique en extérieur
DESCRIPTION:Atelier artistique en extérieur : dessin à l’encre magique\, animé par Angeline Russier\, autour de l’étang de Bas-en basset . A partir de 5 ans. 10€ par personne. Réservation obligatoire 04 71 66 95 44. \n\n\n	Similaire
URL:https://crocoule.org/notre-evenement/bas-en-basset-atelier-artistique-en-exterieur/
END:VEVENT
BEGIN:VEVENT
DTSTART;TZID=Europe/Paris:20250726T143000
DTEND;TZID=Europe/Paris:20250726T173000
DTSTAMP:20260420T120134
CREATED:20250826T153832Z
LAST-MODIFIED:20250826T153832Z
UID:10011903-1753540200-1753551000@crocoule.org
SUMMARY:SAINT ANDRE DE CHALENCON | Balade Contée
DESCRIPTION:Balade Contée « La Bonne Pioche ». Accompagnée par Roselyne DUPRAZ et Marie Christine BRAZIER. Balade familiale de 3km.  GRATUIT . Réservation 04 71 66 95 44. \n\n\n	Similaire
URL:https://crocoule.org/notre-evenement/saint-andre-de-chalencon-balade-contee/
LOCATION:Saint-André-de-Chalencon
END:VEVENT
BEGIN:VEVENT
DTSTART;TZID=Europe/Paris:20250725T090000
DTEND;TZID=Europe/Paris:20250725T120000
DTSTAMP:20260420T120134
CREATED:20250826T153828Z
LAST-MODIFIED:20250826T153828Z
UID:10011902-1753434000-1753444800@crocoule.org
SUMMARY:LA CHAPELLE D'AUREC | Initiation et découverte de la pêche au coup dans la Loire
DESCRIPTION:Initiation et découverte de la pêche au coup dans la Loire par les pêcheurs de  l’AAPPMA de Monistrol Gournier au « lieu dit « Chambon » à la Chapelle d’aurec.  Matériel fourni. Gratuit. Adultes et enfants à partir de 8 ans accompagnés d’un adulte.Durée 2h.  Réservation 04 71 66 03 14. \n\n\n	Similaire
URL:https://crocoule.org/notre-evenement/la-chapelle-daurec-initiation-et-decouverte-de-la-peche-au-coup-dans-la-loire/
ATTACH;FMTTYPE=image/webp:https://crocoule.org/wp-content/uploads/2025/06/peche-initiation-enfants-RuTZ53.webp
END:VEVENT
BEGIN:VEVENT
DTSTART;TZID=Europe/Paris:20250724T210000
DTEND;TZID=Europe/Paris:20250724T223000
DTSTAMP:20260420T120134
CREATED:20250826T153858Z
LAST-MODIFIED:20250826T153858Z
UID:10011926-1753390800-1753396200@crocoule.org
SUMMARY:BAS EN BASSET | Les Nocturnes à Rochebaron !
DESCRIPTION:A la tombée de la nuit\, et sous les lumières du Château\, hiboux\, chouettes et harfangs des neiges vous livrent leurs secrets..\nTout public (familles\, adultes\, enfants).\nSur réservation auprès de l’Office ou du château de Rochebaron. O10€ Adulte / 6€ enfants de 6 à 16 ans / Moins de 6 ans : Gratuit. Réservation 04 71 66 95 44\, \n\n\n	Similaire
URL:https://crocoule.org/notre-evenement/bas-en-basset-les-nocturnes-a-rochebaron-2/
ATTACH;FMTTYPE=image/jpeg:https://crocoule.org/wp-content/uploads/2025/06/rochebaron-de-nuit-6Ts3pY.jpg
END:VEVENT
BEGIN:VEVENT
DTSTART;TZID=Europe/Paris:20250724T133000
DTEND;TZID=Europe/Paris:20250724T170000
DTSTAMP:20260420T120134
CREATED:20250826T153949Z
LAST-MODIFIED:20250826T153949Z
UID:10011953-1753363800-1753376400@crocoule.org
SUMMARY:MONISTROL SUR LOIRE | Pêche à l'écrevisse
DESCRIPTION:Découverte de la pêche aux écrevisses avec la fédération de pêche en compagnie d’un moniteur guide de pêche\ndiplômé BPJEPS. Matériel et appâts fournis\, Réservation au 07.80.07.49.69 \n\n\n	Similaire
URL:https://crocoule.org/notre-evenement/monistrol-sur-loire-peche-a-lecrevisse-3/
LOCATION:Monistrol-sur-Loire
END:VEVENT
BEGIN:VEVENT
DTSTART;TZID=Europe/Paris:20250724T110000
DTEND;TZID=Europe/Paris:20250724T120000
DTSTAMP:20260420T120134
CREATED:20250826T153950Z
LAST-MODIFIED:20250826T153950Z
UID:10011957-1753354800-1753358400@crocoule.org
SUMMARY:SAINTE SIGOLENE | Visite et dégustation Mont des Autruches
DESCRIPTION:Similaire
URL:https://crocoule.org/notre-evenement/sainte-sigolene-visite-et-degustation-mont-des-autruches/
LOCATION:Sainte-Sigolène
END:VEVENT
BEGIN:VEVENT
DTSTART;TZID=Europe/Paris:20250723T150000
DTEND;TZID=Europe/Paris:20250723T163000
DTSTAMP:20260420T120134
CREATED:20250826T153955Z
LAST-MODIFIED:20250826T153955Z
UID:10011960-1753282800-1753288200@crocoule.org
SUMMARY:BAS EN BASSET | Visite à la ferme Chèvrerie des P'tits Lou
DESCRIPTION:Les mercredis du 09 juillet au 27 août à La Chèvrerie des P’tits Lou visite de la ferme pour voir les chèvres\, démonstration de chiens de troupeau ou balade avec les chèvres\, dégustation de fromage\, explication sur la traite et la fabrication des fromages. Gratuit enfants moins de 12 ans  5€ + 12 ans. Réservation 06 84 73 47 74 \n\n\n	Similaire
URL:https://crocoule.org/notre-evenement/bas-en-basset-visite-a-la-ferme-chevrerie-des-ptits-lou-3/
LOCATION:Bas-en-Basset
ATTACH;FMTTYPE=application/pdf:https://crocoule.org/wp-content/uploads/2025/08/programme-week-end-sorties-nature-2025-e98vMY.pdf
END:VEVENT
BEGIN:VEVENT
DTSTART;TZID=Europe/Paris:20250723T143000
DTEND;TZID=Europe/Paris:20250723T153000
DTSTAMP:20260420T120134
CREATED:20250826T153827Z
LAST-MODIFIED:20250826T153827Z
UID:10011901-1753281000-1753284600@crocoule.org
SUMMARY:BAS EN BASSET | Visite\, atelier fabrication oreiller en laine
DESCRIPTION:Découvrez la laine et ses nombreux bienfaits et créez votre propre oreiller. A partir de 5 ans. Visite gratuite\, atelier oreiller 30€. Réservation au 04 71 66 95 44. \n\n\n	Similaire
URL:https://crocoule.org/notre-evenement/bas-en-basset-visite-atelier-fabrication-oreiller-en-laine-5/
LOCATION:Bas-en-Basset
ATTACH;FMTTYPE=image/webp:https://crocoule.org/wp-content/uploads/2025/06/oreiller-6h55-YBgsbk.webp
END:VEVENT
BEGIN:VEVENT
DTSTART;TZID=Europe/Paris:20250723T100000
DTEND;TZID=Europe/Paris:20250723T160000
DTSTAMP:20260420T120134
CREATED:20250826T153826Z
LAST-MODIFIED:20250826T153826Z
UID:10011900-1753264800-1753286400@crocoule.org
SUMMARY:BAS EN BASSET | Stage pilotage VTT enfant
DESCRIPTION:Stage pilotage vtt pour enfant . Exercices techniques adaptés ( maniabilité\, équilibre\, freinage\, virage\, cabrage\, franchissement\, saut\,…) et rando appliquée l’après-midi. Encadré par Wilfrid Delolme moniteur VTT. Prévoir pique-nique\, vélo en état et casque obligatoire.  Enfants de 9 à 11 ans. 35€. Réservation en ligne \n\n\n	Similaire
URL:https://crocoule.org/notre-evenement/bas-en-basset-stage-pilotage-vtt-enfant-2/
LOCATION:Bas-en-Basset
ATTACH;FMTTYPE=image/webp:https://crocoule.org/wp-content/uploads/2025/06/vtt-stage-enfants-z0QiDq.webp
END:VEVENT
BEGIN:VEVENT
DTSTART;TZID=Europe/Paris:20250723T100000
DTEND;TZID=Europe/Paris:20250723T113000
DTSTAMP:20260420T120134
CREATED:20250826T153927Z
LAST-MODIFIED:20250826T153927Z
UID:10011939-1753264800-1753270200@crocoule.org
SUMMARY:BAS EN BASSET | Balade suitées en compagnie d’un rapace
DESCRIPTION:Amoureux de nature\, découvrez les alentours du château en compagnie de rapaces et leur fauconnier.\nUne promenade originale : les oiseaux vous suivent et vous frôlent\, en toute liberté ! Et vous pouvez ainsi interagir avec Nicolas et Orion\, les fauconniers\, de façon privilégiée.\nUne expérience à vivre à plusieurs. Chacun pourra rappeler les oiseaux au poing et ainsi partager la passion de leur fauconnier.\n12€ Adulte / 8€ enfants de 6 à 16 ans / Moins de 6 ans : Gratuit \n\n\n	Similaire
URL:https://crocoule.org/notre-evenement/bas-en-basset-balade-suitees-en-compagnie-dun-rapace-2/
ATTACH;FMTTYPE=image/jpeg:https://crocoule.org/wp-content/uploads/2025/03/balade-rapace-rochebaron-QTtjxT.tmp_.jpg
END:VEVENT
BEGIN:VEVENT
DTSTART;TZID=Europe/Paris:20250723T083000
DTEND;TZID=Europe/Paris:20250723T111500
DTSTAMP:20260420T120134
CREATED:20250826T153943Z
LAST-MODIFIED:20250826T153943Z
UID:10011948-1753259400-1753269300@crocoule.org
SUMMARY:BAS EN BASSET | Initiation pêche
DESCRIPTION:Initiation pêche pour les enfants autour d’un étang. Prêt du matériel\, goûter et boissons offerts. Les enfants doivent être accompagnés. Encadré par l’AAPPMA la Gaule Bassoise. Parc de la biodiversité à Bas en Basset. De 4 à 13 ans. Gratuit. Réservation au 04 71 66 95 44 \n\n\n	Similaire
URL:https://crocoule.org/notre-evenement/bas-en-basset-initiation-peche-2/
ATTACH;FMTTYPE=image/webp:https://crocoule.org/wp-content/uploads/2025/06/peche-initiation-enfants-RuTZ53.webp
END:VEVENT
BEGIN:VEVENT
DTSTART;TZID=Europe/Paris:20250722T173000
DTEND;TZID=Europe/Paris:20250722T190000
DTSTAMP:20260420T120134
CREATED:20250826T153914Z
LAST-MODIFIED:20250826T153914Z
UID:10011933-1753205400-1753210800@crocoule.org
SUMMARY:BOISSET | Viste GAEC DE L'HERM
DESCRIPTION:C’est l’heure de la traite des vaches et du biberon des veaux au GAEC DE L’herm. Après la visite quel délice de déguster les glaces fabriquées à la ferme.  5€ par adulte et 4€ par enfant de 3 à 12 ans. Réservation obligatoire 06 68 95 13 16 \n\n\n	Similaire
URL:https://crocoule.org/notre-evenement/boisset-viste-gaec-de-lherm-3/
ATTACH;FMTTYPE=image/webp:https://crocoule.org/wp-content/uploads/2025/08/vaches-a-la-ferme-UNF2hD.webp
END:VEVENT
BEGIN:VEVENT
DTSTART;TZID=Europe/Paris:20250722T143000
DTEND;TZID=Europe/Paris:20250722T163000
DTSTAMP:20260420T120134
CREATED:20250603T095123Z
LAST-MODIFIED:20250826T153825Z
UID:10011540-1753194600-1753201800@crocoule.org
SUMMARY:BAS EN BASSET | Atelier création d'un tableau en pleine nature
DESCRIPTION:Matériel de dessin\, peinture fourni\, Aucune compétence artistique nécessaire\, apportez simplement votre chaise pliante.\n– observation de Dame Nature (ses couleurs\, ses formes\, ses ombres et ses lumières).\n– élaboration de sa palette de peinture\, essai de mélanges de couleurs.\n– expression libre.\n– goûter offert et échanges autour des oeuvres de chacun.\nAdultes\, enfants à partir de 3 ans. 20 € /enfant et 40 €/adulte\, réservation au 04 71 66 95 44 \n\n\n	Similaire
URL:https://crocoule.org/notre-evenement/bas-en-basset-atelier-creation-dun-tableau-en-pleine-nature/
LOCATION:Bas-en-Basset
CATEGORIES:03 ans +,Tous les événements
END:VEVENT
END:VCALENDAR