BEGIN:VCALENDAR
VERSION:2.0
PRODID:-//Crocoule - ECPv6.15.15//NONSGML v1.0//EN
CALSCALE:GREGORIAN
METHOD:PUBLISH
X-ORIGINAL-URL:https://crocoule.org
X-WR-CALDESC:Évènements pour Crocoule
REFRESH-INTERVAL;VALUE=DURATION:PT1H
X-Robots-Tag:noindex
X-PUBLISHED-TTL:PT1H
BEGIN:VTIMEZONE
TZID:Europe/Paris
BEGIN:DAYLIGHT
TZOFFSETFROM:+0100
TZOFFSETTO:+0200
TZNAME:CEST
DTSTART:20240331T010000
END:DAYLIGHT
BEGIN:STANDARD
TZOFFSETFROM:+0200
TZOFFSETTO:+0100
TZNAME:CET
DTSTART:20241027T010000
END:STANDARD
BEGIN:DAYLIGHT
TZOFFSETFROM:+0100
TZOFFSETTO:+0200
TZNAME:CEST
DTSTART:20250330T010000
END:DAYLIGHT
BEGIN:STANDARD
TZOFFSETFROM:+0200
TZOFFSETTO:+0100
TZNAME:CET
DTSTART:20251026T010000
END:STANDARD
BEGIN:DAYLIGHT
TZOFFSETFROM:+0100
TZOFFSETTO:+0200
TZNAME:CEST
DTSTART:20260329T010000
END:DAYLIGHT
BEGIN:STANDARD
TZOFFSETFROM:+0200
TZOFFSETTO:+0100
TZNAME:CET
DTSTART:20261025T010000
END:STANDARD
BEGIN:DAYLIGHT
TZOFFSETFROM:+0100
TZOFFSETTO:+0200
TZNAME:CEST
DTSTART:20270328T010000
END:DAYLIGHT
BEGIN:STANDARD
TZOFFSETFROM:+0200
TZOFFSETTO:+0100
TZNAME:CET
DTSTART:20271031T010000
END:STANDARD
END:VTIMEZONE
BEGIN:VEVENT
DTSTART;TZID=Europe/Paris:20260411T100000
DTEND;TZID=Europe/Paris:20260411T113000
DTSTAMP:20260420T025527
CREATED:20260302T110218Z
LAST-MODIFIED:20260302T110218Z
UID:10013219-1775901600-1775907000@crocoule.org
SUMMARY:BAS EN BASSET | Balade suitée en compagnie d’un rapace
DESCRIPTION:Amoureux de nature\, découvrez les alentours du château en compagnie de rapaces et leur fauconnier.\nUne promenade originale : les oiseaux vous suivent et vous frôlent\, en toute liberté ! Et vous pouvez ainsi interagir avec Nicolas et Orion\, les fauconniers\, de façon privilégiée.\nUne expérience à vivre à plusieurs. Chacun pourra rappeler les oiseaux au poing et ainsi partager la passion de leur fauconnier.\n12€ Adulte / 8€ enfants de 6 à 16 ans Réservation au 04 71 66 95 44 \n\n\n	Similaire
URL:https://crocoule.org/notre-evenement/bas-en-basset-balade-suitee-en-compagnie-dun-rapace/
ATTACH;FMTTYPE=image/jpeg:https://crocoule.org/wp-content/uploads/2025/03/balade-rapace-rochebaron-QTtjxT.tmp_.jpg
END:VEVENT
BEGIN:VEVENT
DTSTART;TZID=Europe/Paris:20260409T140000
DTEND;TZID=Europe/Paris:20260409T150000
DTSTAMP:20260420T025527
CREATED:20260302T110215Z
LAST-MODIFIED:20260302T110215Z
UID:10013216-1775743200-1775746800@crocoule.org
SUMMARY:LES VILLETTES | Atelier fabrication nichoir pour oiseaux
DESCRIPTION:Venez en famille fabriquer votre gîte à chauves souris et votre nichoir pour oiseaux avec l’aide de l’ association Funambulle.   A partir de 5 ans . Vous repartirez avec vos fabrications . 20€ par famille Réservation au 04 71 66 03 14 \n\n\n	Similaire
URL:https://crocoule.org/notre-evenement/les-villettes-atelier-fabrication-nichoir-pour-oiseaux/
LOCATION:LES VILLETTES
ATTACH;FMTTYPE=image/webp:https://crocoule.org/wp-content/uploads/2025/08/ferme-la-chevrerie-des-petits-lou-q0tsGz.webp
END:VEVENT
BEGIN:VEVENT
DTSTART;TZID=Europe/Paris:20260408T150000
DTEND;TZID=Europe/Paris:20260408T163000
DTSTAMP:20260420T025527
CREATED:20260302T110215Z
LAST-MODIFIED:20260302T110215Z
UID:10013215-1775660400-1775665800@crocoule.org
SUMMARY:BAS EN BASSET | Visite de la chèvrerie des P’tits Lou
DESCRIPTION:Au programme : visite\, biberonnage des chevreaux\, explication sur la traite et la fabrication des fromages (dégustation). 5€ par adulte et 2€ de 2 à 11 ans.  Réservation obligatoire au 06 84 73 47 74. \n\n\n	Similaire
URL:https://crocoule.org/notre-evenement/bas-en-basset-visite-de-la-chevrerie-des-ptits-lou/
LOCATION:Bas-en-Basset
END:VEVENT
BEGIN:VEVENT
DTSTART;TZID=Europe/Paris:20260408T100000
DTEND;TZID=Europe/Paris:20260408T113000
DTSTAMP:20260420T025527
CREATED:20260302T110214Z
LAST-MODIFIED:20260302T110214Z
UID:10013214-1775642400-1775647800@crocoule.org
SUMMARY:BAS EN BASSET | Atelier visite et découverte de la laine.
DESCRIPTION:Atelier visite et découverte de la laine. En option fabrication d’un petit coussin de voyage. Chez “6h55”.Découvrez la laine et ses nombreux bienfaits et en option créez votre propre petit coussin de voyage. A partir de 5 ans. Visite gratuite\, atelier coussin de voyage 30€. Réservation au 04 71 66 95 44 \n\n\n	Similaire
URL:https://crocoule.org/notre-evenement/bas-en-basset-atelier-visite-et-decouverte-de-la-laine/
LOCATION:Bas-en-Basset
ATTACH;FMTTYPE=image/webp:https://crocoule.org/wp-content/uploads/2025/06/oreiller-6h55-YBgsbk.webp
END:VEVENT
BEGIN:VEVENT
DTSTART;TZID=Europe/Paris:20260408T093000
DTEND;TZID=Europe/Paris:20260408T160000
DTSTAMP:20260420T025527
CREATED:20260302T110209Z
LAST-MODIFIED:20260302T110209Z
UID:10013212-1775640600-1775664000@crocoule.org
SUMMARY:MONISTROL SUR LOIRE | Stage pilotage VTT enfant
DESCRIPTION:Stage de pilotage VTT  pour les 9-11 ans. Exercices techniques adaptés et rando appliquée l’après-midi. À destination des non licenci(é)es en club. Apporter son VTT\, son casque et son pique nique.  Monistrol sur Loire. 35€. Réservation en ligne www.vttenvelay.fr \n\n\n	Similaire
URL:https://crocoule.org/notre-evenement/monistrol-sur-loire-stage-pilotage-vtt-enfant-4/
LOCATION:Monistrol sur Loire (Site du Mazel)
ATTACH;FMTTYPE=image/webp:https://crocoule.org/wp-content/uploads/2025/06/vtt-stage-enfants-z0QiDq.webp
END:VEVENT
BEGIN:VEVENT
DTSTART;TZID=Europe/Paris:20260408T090000
DTEND;TZID=Europe/Paris:20260408T120000
DTSTAMP:20260420T025527
CREATED:20260302T110214Z
LAST-MODIFIED:20260302T110214Z
UID:10013213-1775638800-1775649600@crocoule.org
SUMMARY:MONISTROL SUR LOIRE | SPA FAMILY
DESCRIPTION:Accès de 2h au SPA en famille. Sur réservation au 04 71 61 77 20.          35 € 1 adulte + 1 enfant.  25 € par adulte supplémentaire.  10 € par enfant supplémentaire. \n\n\n	Similaire
URL:https://crocoule.org/notre-evenement/monistrol-sur-loire-spa-family/
END:VEVENT
BEGIN:VEVENT
DTSTART;TZID=Europe/Paris:20260407T093000
DTEND;TZID=Europe/Paris:20260407T160000
DTSTAMP:20260420T025527
CREATED:20260302T110208Z
LAST-MODIFIED:20260302T110208Z
UID:10013211-1775554200-1775577600@crocoule.org
SUMMARY:MONISTROL SUR LOIRE | Stage pilotage VTT enfant
DESCRIPTION:Stage de pilotage VTT  pour les 6-8 ans. Exercices techniques adaptés et rando appliquée l’après-midi. À destination des non licenci(é)es en club. Apporter son VTT\, son casque et son pique nique.  Monistrol sur Loire. 35€. Réservation en ligne www.vttenvelay.fr \n\n\n	Similaire
URL:https://crocoule.org/notre-evenement/monistrol-sur-loire-stage-pilotage-vtt-enfant-3/
ATTACH;FMTTYPE=image/webp:https://crocoule.org/wp-content/uploads/2025/06/vtt-stage-enfants-z0QiDq.webp
END:VEVENT
BEGIN:VEVENT
DTSTART;TZID=Europe/Paris:20260406T140000
DTEND;TZID=Europe/Paris:20260406T160000
DTSTAMP:20260420T025527
CREATED:20260302T110208Z
LAST-MODIFIED:20260302T110208Z
UID:10013209-1775484000-1775491200@crocoule.org
SUMMARY:MONISTROL SUR LOIRE | Chasse aux œufs de pâques
DESCRIPTION:Chasse aux œufs de pâques dans les bassins de l’Ozen. Sans réservation.  Tarif : 1 entrée piscine + 3 € \n\n\n	Similaire
URL:https://crocoule.org/notre-evenement/monistrol-sur-loire-chasse-aux-oeufs-de-paques/
END:VEVENT
BEGIN:VEVENT
DTSTART;TZID=Europe/Paris:20260404T140000
DTEND;TZID=Europe/Paris:20260404T180000
DTSTAMP:20260420T025527
CREATED:20260302T110208Z
LAST-MODIFIED:20260302T110208Z
UID:10013210-1775311200-1775325600@crocoule.org
SUMMARY:BAS EN BASSET | Chasse aux Oeufs
DESCRIPTION:Les lapins sont passés au château de Rochebaron !Cherchez les œufs cachés dans le château pour gagner des chocolats.\nCette activité est incluse dans l’entrée visite du château + spectacle de rapaces.\n Les plus petits peuvent participer avec l’aide de leurs parents.\nActivité sans inscription. Adulte : 10€/Enfant (6-16 ans) : 6€ (Entrée comprenant la visite du château + le spectacle de rapace + la chasse aux œufs). \n\n\n	Similaire
URL:https://crocoule.org/notre-evenement/bas-en-basset-chasse-aux-oeufs/
END:VEVENT
BEGIN:VEVENT
DTSTART;TZID=Europe/Paris:20251129T140000
DTEND;TZID=Europe/Paris:20251130T180000
DTSTAMP:20260420T025527
CREATED:20250826T154039Z
LAST-MODIFIED:20250826T154039Z
UID:10011985-1764424800-1764525600@crocoule.org
SUMMARY:MONISTROL SUR LOIRE | Atelier terre
DESCRIPTION:Atelier terre pour les enfants à partir de 6 ans animé par Marie Dreux\, céramiste \n\n\n	Similaire
URL:https://crocoule.org/notre-evenement/monistrol-sur-loire-atelier-terre/
END:VEVENT
BEGIN:VEVENT
DTSTART;TZID=Europe/Paris:20251129T080000
DTEND;TZID=Europe/Paris:20251130T170000
DTSTAMP:20260420T025527
CREATED:20251119T140202Z
LAST-MODIFIED:20251119T140202Z
UID:10012387-1764403200-1764522000@crocoule.org
SUMMARY:Ateliers de poterie enfant _ Monistrol sur Loire
DESCRIPTION:Des ateliers de poterie enfants (à partir de 6 ans) animés par Marie Dreux (2€) pendant que les parents pourront arpenter les stands des potier(e)s présents sur le marché de Potiers \n\n\n	Similaire
URL:https://crocoule.org/notre-evenement/ateliers-de-poterie-enfant-_-monistrol-sur-loire/
LOCATION:La Capitelle – Monistrol-sur-Loire\, 2 Boulevard François Mitterrand\, Monistrol-sur-Loire\, 43120
CATEGORIES:Tous les événements,Tout public
ATTACH;FMTTYPE=image/jpeg:https://crocoule.org/wp-content/uploads/2025/11/DSC_0075-scaled.jpg
END:VEVENT
BEGIN:VEVENT
DTSTART;TZID=Europe/Paris:20251030T100000
DTEND;TZID=Europe/Paris:20251030T120000
DTSTAMP:20260420T025527
CREATED:20250826T154038Z
LAST-MODIFIED:20250826T154038Z
UID:10011984-1761818400-1761825600@crocoule.org
SUMMARY:BAS EN BASSET | Balade en compagnie de rapaces
DESCRIPTION:A partager en famille ! Balade autour du château en compagnie de rapaces et leur fauconnier. Une promenade originale : les oiseaux vous suivent et vous frôlent\, en toute liberté ! Et vous pouvez ainsi interagir avec Nicolas et Orion\, les fauconniers\, de façon privilégiée. Chacun pourra rappeler les oiseaux au poing et ainsi partager la passion de leur fauconnier. \n\n\n	Similaire
URL:https://crocoule.org/notre-evenement/bas-en-basset-balade-en-compagnie-de-rapaces-3/
ATTACH;FMTTYPE=image/webp:https://crocoule.org/wp-content/uploads/2025/08/une-M88ah0.webp
END:VEVENT
BEGIN:VEVENT
DTSTART;TZID=Europe/Paris:20251029T140000
DTEND;TZID=Europe/Paris:20251029T170000
DTSTAMP:20260420T025527
CREATED:20250826T154037Z
LAST-MODIFIED:20250826T154037Z
UID:10011983-1761746400-1761757200@crocoule.org
SUMMARY:BAS EN BASSET | Rando sorcière
DESCRIPTION:Balade autour des étangs- On ramasse ce qu’on veut mettre dans le chaudron de la sorcière et on fait la soupe d’halloween \n\n\n	Similaire
URL:https://crocoule.org/notre-evenement/bas-en-basset-rando-sorciere/
LOCATION:Bas-en-Basset
ATTACH;FMTTYPE=image/webp:https://crocoule.org/wp-content/uploads/2025/08/une-M88ah0.webp
END:VEVENT
BEGIN:VEVENT
DTSTART;TZID=Europe/Paris:20251028T100000
DTEND;TZID=Europe/Paris:20251028T120000
DTSTAMP:20260420T025527
CREATED:20250826T154032Z
LAST-MODIFIED:20250826T154032Z
UID:10011982-1761645600-1761652800@crocoule.org
SUMMARY:BAS EN BASSET | Balade en compagnie de rapaces
DESCRIPTION:A partager en famille ! Balade autour du château en compagnie de rapaces et leur fauconnier. Une promenade originale : les oiseaux vous suivent et vous frôlent\, en toute liberté ! Et vous pouvez ainsi interagir avec Nicolas et Orion\, les fauconniers\, de façon privilégiée. Chacun pourra rappeler les oiseaux au poing et ainsi partager la passion du  fauconnier. \n\n\n	Similaire
URL:https://crocoule.org/notre-evenement/bas-en-basset-balade-en-compagnie-de-rapaces-2/
LOCATION:Bas-en-Basset
ATTACH;FMTTYPE=image/webp:https://crocoule.org/wp-content/uploads/2025/08/une-M88ah0.webp
END:VEVENT
BEGIN:VEVENT
DTSTART;TZID=Europe/Paris:20251025T140000
DTEND;TZID=Europe/Paris:20251025T173000
DTSTAMP:20260420T025527
CREATED:20250826T154030Z
LAST-MODIFIED:20250826T154030Z
UID:10011981-1761400800-1761413400@crocoule.org
SUMMARY:BAS EN BASSET | Rando théatre
DESCRIPTION:Lors d’une randonnée d’environ 5 à 6 km\, embarquez pour une aventure originale en pleine nature accompagnés de comédiens ! Tout au long du parcours\, jusqu’au théatre du Marais\, plusieurs haltes théâtrales vous seront proposées : Exercices amusants\, ludiques et familiaux pour éveiller votre imagination\, jouer avec les mots\, et travailler votre diction… le tout dans une ambiance détendue et conviviale. A l’arrivée\, goûter offert et sectacle clownesque… le nez dans les étoiles ! \n\n\n	Similaire
URL:https://crocoule.org/notre-evenement/bas-en-basset-rando-theatre/
LOCATION:Bas-en-Basset
ATTACH;FMTTYPE=image/webp:https://crocoule.org/wp-content/uploads/2025/08/une-M88ah0.webp
END:VEVENT
BEGIN:VEVENT
DTSTART;TZID=Europe/Paris:20251024T200000
DTEND;TZID=Europe/Paris:20251024T220000
DTSTAMP:20260420T025527
CREATED:20250826T154029Z
LAST-MODIFIED:20250826T154029Z
UID:10011980-1761336000-1761343200@crocoule.org
SUMMARY:BAS EN BASSET | Rando "Nouvelle lune"
DESCRIPTION:Rando « Nouvelle lune »   – Balade d’1 heure environ avec tour du ciel des constellations  – Suivi d’une observation du ciel aux instruments  – organisé par le club d’astronomie de Bas en Basset \n\n\n	Similaire
URL:https://crocoule.org/notre-evenement/bas-en-basset-rando-nouvelle-lune/
LOCATION:Bas-en-Basset
ATTACH;FMTTYPE=image/webp:https://crocoule.org/wp-content/uploads/2025/08/une-M88ah0.webp
END:VEVENT
BEGIN:VEVENT
DTSTART;TZID=Europe/Paris:20251022T140000
DTEND;TZID=Europe/Paris:20251022T160000
DTSTAMP:20260420T025527
CREATED:20250826T154019Z
LAST-MODIFIED:20250826T154019Z
UID:10011977-1761141600-1761148800@crocoule.org
SUMMARY:BAS EN BASSET | Rando-photos
DESCRIPTION:Promenade dans le village sur le thème des couleurs appareil photos en mains – Tenue colorée suggérée \n\n\n	Similaire
URL:https://crocoule.org/notre-evenement/bas-en-basset-rando-photos/
LOCATION:Bas-en-Basset
ATTACH;FMTTYPE=image/webp:https://crocoule.org/wp-content/uploads/2025/08/une-4UHp4t.webp
END:VEVENT
BEGIN:VEVENT
DTSTART;TZID=Europe/Paris:20251022T133000
DTEND;TZID=Europe/Paris:20251022T163000
DTSTAMP:20260420T025527
CREATED:20250826T154026Z
LAST-MODIFIED:20250826T154026Z
UID:10011978-1761139800-1761150600@crocoule.org
SUMMARY:SAINT PAL DE MONS | Rando chantante
DESCRIPTION:Voyage en chansons et en famille à travers le patrimoine chanté traditionnel \n\n\n	Similaire
URL:https://crocoule.org/notre-evenement/saint-pal-de-mons-rando-chantante/
LOCATION:Saint-Pal-de-Mons\, Saint-Pal-de-Mons\, 43620
ATTACH;FMTTYPE=image/webp:https://crocoule.org/wp-content/uploads/2025/08/une-M88ah0.webp
END:VEVENT
BEGIN:VEVENT
DTSTART;TZID=Europe/Paris:20251022T100000
DTEND;TZID=Europe/Paris:20251022T120000
DTSTAMP:20260420T025527
CREATED:20250826T154027Z
LAST-MODIFIED:20250826T154027Z
UID:10011979-1761127200-1761134400@crocoule.org
SUMMARY:MONISTROL SUR LOIRE | Sur les traces du castor
DESCRIPTION:Allez à la rencontre des traces des castors qui repeuplent peu à peu le Lignon\, affluent de la Loire. Jeux buissoniers pour agrémenter cette balade et stimuler les sens  ! \n\n\n	Similaire
URL:https://crocoule.org/notre-evenement/monistrol-sur-loire-sur-les-traces-du-castor/
LOCATION:Monistrol sur Loire (Site du Mazel)
ATTACH;FMTTYPE=image/webp:https://crocoule.org/wp-content/uploads/2025/08/une-M88ah0.webp
END:VEVENT
BEGIN:VEVENT
DTSTART;TZID=Europe/Paris:20251021T100000
DTEND;TZID=Europe/Paris:20251021T120000
DTSTAMP:20260420T025527
CREATED:20250826T154018Z
LAST-MODIFIED:20250826T154018Z
UID:10011976-1761040800-1761048000@crocoule.org
SUMMARY:BAS EN BASSET | Balade en compagnie de rapaces
DESCRIPTION:A partager en famille ! Balade autour du château en compagnie de rapaces et leur fauconnier. Une promenade originale : les oiseaux vous suivent et vous frôlent\, en toute liberté ! Et vous pouvez ainsi interagir avec Nicolas et Orion\, les fauconniers\, de façon privilégiée. Chacun pourra rappeler les oiseaux au poing et ainsi partager la passion du  fauconnier. \n\n\n	Similaire
URL:https://crocoule.org/notre-evenement/bas-en-basset-balade-en-compagnie-de-rapaces/
LOCATION:Bas-en-Basset
ATTACH;FMTTYPE=image/webp:https://crocoule.org/wp-content/uploads/2025/08/une-4UHp4t.webp
END:VEVENT
BEGIN:VEVENT
DTSTART;TZID=Europe/Paris:20251016T140000
DTEND;TZID=Europe/Paris:20251016T170000
DTSTAMP:20260420T025527
CREATED:20250826T154016Z
LAST-MODIFIED:20250826T154016Z
UID:10011975-1760623200-1760634000@crocoule.org
SUMMARY:SAINTE SIGOLENE | Rando et visite de ferme
DESCRIPTION:la rando facile vous amènera à la ferme bio d’Anne-Marie. Une occasion d’en apprendre davantage sur le travail de la terre\, de rencontrer ses animaux et de découvrir ses produits ainsi que son savoir-faire dans le domaine du bio. \n\n\n	Similaire
URL:https://crocoule.org/notre-evenement/sainte-sigolene-rando-et-visite-de-ferme/
LOCATION:Sainte Sigolène
ATTACH;FMTTYPE=image/webp:https://crocoule.org/wp-content/uploads/2025/08/une-M88ah0.webp
END:VEVENT
BEGIN:VEVENT
DTSTART;TZID=Europe/Paris:20250825T090000
DTEND;TZID=Europe/Paris:20250825T120000
DTSTAMP:20260420T025527
CREATED:20250826T153856Z
LAST-MODIFIED:20250826T153856Z
UID:10011924-1756112400-1756123200@crocoule.org
SUMMARY:MONISTROL SUR LOIRE | balade en famille sur le sentier des Pêcheurs
DESCRIPTION:Balade en famille sur le sentier des Pêcheurs. Accompagné par Jean Pierre Cizeron passionné de pêche et amoureux de la nature. 4 km aller retour.  Parcours facile. A partir de 6 ans. Gratuit. Réservation 04 71 66 03 14.\nFête foraine \n\n\n	Similaire
URL:https://crocoule.org/notre-evenement/monistrol-sur-loire-balade-en-famille-sur-le-sentier-des-pecheurs/
LOCATION:Monistrol-sur-Loire
END:VEVENT
BEGIN:VEVENT
DTSTART;TZID=Europe/Paris:20250823T143000
DTEND;TZID=Europe/Paris:20250823T160000
DTSTAMP:20260420T025527
CREATED:20250826T153856Z
LAST-MODIFIED:20250826T153856Z
UID:10011923-1755959400-1755964800@crocoule.org
SUMMARY:BEAUZAC | Chasse aux trésors à dos de Poney
DESCRIPTION:Monte sur ton poney et en avant pour une chasse aux trésors autour du centre équestre à Chazelet. Un adulte doit tenir la longe. Goûter. Enfant de 3 à 8 ans. 15€ par enfant. Réservation au 04 71 61 50 74 \n\n\n	Similaire
URL:https://crocoule.org/notre-evenement/beauzac-chasse-aux-tresors-a-dos-de-poney-2/
END:VEVENT
BEGIN:VEVENT
DTSTART;TZID=Europe/Paris:20250821T200000
DTEND;TZID=Europe/Paris:20250821T213000
DTSTAMP:20260420T025527
CREATED:20250826T153907Z
LAST-MODIFIED:20250826T153907Z
UID:10011930-1755806400-1755811800@crocoule.org
SUMMARY:BAS EN BASSET | Les Nocturnes à Rochebaron !
DESCRIPTION:A la tombée de la nuit\, et sous les lumières du Château\, hiboux\, chouettes et harfangs des neiges vous livrent leurs secrets..\nTout public (familles\, adultes\, enfants).\nSur réservation auprès de l’Office ou du château de Rochebaron. O10€ Adulte / 6€ enfants de 6 à 16 ans / Moins de 6 ans : Gratuit. Réservation 04 71 66 95 44\, \n\n\n	Similaire
URL:https://crocoule.org/notre-evenement/bas-en-basset-les-nocturnes-a-rochebaron-6/
ATTACH;FMTTYPE=image/jpeg:https://crocoule.org/wp-content/uploads/2025/06/rochebaron-de-nuit-6Ts3pY.jpg
END:VEVENT
BEGIN:VEVENT
DTSTART;TZID=Europe/Paris:20250821T090000
DTEND;TZID=Europe/Paris:20250821T120000
DTSTAMP:20260420T025527
CREATED:20250826T153850Z
LAST-MODIFIED:20250826T153850Z
UID:10011922-1755766800-1755777600@crocoule.org
SUMMARY:LA CHAPELLE D'AUREC | Initiation et découverte de la pêche au coup dans la Loire
DESCRIPTION:Initiation et découverte de la pêche au coup dans la Loire par les pêcheurs de  l’AAPPMA de Monistrol Gournier au « lieu dit « Chambon » à la Chapelle d’aurec.  Matériel fourni. Gratuit. Adultes et enfants à partir de 8 ans accompagnés d’un adulte.Durée 2h.  Réservation 04 71 66 03 14. \n\n\n	Similaire
URL:https://crocoule.org/notre-evenement/la-chapelle-daurec-initiation-et-decouverte-de-la-peche-au-coup-dans-la-loire-2/
ATTACH;FMTTYPE=image/webp:https://crocoule.org/wp-content/uploads/2025/06/peche-initiation-enfants-RuTZ53.webp
END:VEVENT
BEGIN:VEVENT
DTSTART;TZID=Europe/Paris:20250820T170000
DTEND;TZID=Europe/Paris:20250820T190000
DTSTAMP:20260420T025527
CREATED:20250826T153850Z
LAST-MODIFIED:20250826T153850Z
UID:10011921-1755709200-1755716400@crocoule.org
SUMMARY:SAINTE SIGOLENE | Balade Contée
DESCRIPTION:Promenons nous dans les …. Peu importe où nous allons\,tant que les histoires nous font Rêver et voyager !  Venez écouter\, chanter\, marcher un peu…Mais venez surtout pour partager un moment délicieux en famille. Avec le collectif konsl diz 6€ par adulte 4€ par enfant\, Réservation 04 71 61 14 17 \n\n\n	Similaire
URL:https://crocoule.org/notre-evenement/sainte-sigolene-balade-contee/
LOCATION:Sainte Sigolène
END:VEVENT
BEGIN:VEVENT
DTSTART;TZID=Europe/Paris:20250820T150000
DTEND;TZID=Europe/Paris:20250827T163000
DTSTAMP:20260420T025527
CREATED:20250826T154003Z
LAST-MODIFIED:20250826T154003Z
UID:10011964-1755702000-1756312200@crocoule.org
SUMMARY:BAS EN BASSET | Visite à la ferme Chèvrerie des P'tits Lou
DESCRIPTION:Les mercredis du 09 juillet au 27 août à La Chèvrerie des P’tits Lou visite de la ferme pour voir les chèvres\, démonstration de chiens de troupeau ou balade avec les chèvres\, dégustation de fromage\, explication sur la traite et la fabrication des fromages. Gratuit enfants moins de 12 ans  5€ + 12 ans. Réservation 06 84 73 47 74 \n\n\n	Similaire
URL:https://crocoule.org/notre-evenement/bas-en-basset-visite-a-la-ferme-chevrerie-des-ptits-lou-7/
LOCATION:Bas-en-Basset
ATTACH;FMTTYPE=application/pdf:https://crocoule.org/wp-content/uploads/2025/08/programme-week-end-sorties-nature-2025-e98vMY.pdf
END:VEVENT
BEGIN:VEVENT
DTSTART;TZID=Europe/Paris:20250820T100000
DTEND;TZID=Europe/Paris:20250820T113000
DTSTAMP:20260420T025527
CREATED:20250826T153935Z
LAST-MODIFIED:20250826T153935Z
UID:10011943-1755684000-1755689400@crocoule.org
SUMMARY:BAS EN BASSET | Balade suitées en compagnie d’un rapace
DESCRIPTION:Amoureux de nature\, découvrez les alentours du château en compagnie de rapaces et leur fauconnier.\nUne promenade originale : les oiseaux vous suivent et vous frôlent\, en toute liberté ! Et vous pouvez ainsi interagir avec Nicolas et Orion\, les fauconniers\, de façon privilégiée.\nUne expérience à vivre à plusieurs. Chacun pourra rappeler les oiseaux au poing et ainsi partager la passion de leur fauconnier.\n12€ Adulte / 8€ enfants de 6 à 16 ans / Moins de 6 ans : Gratuit \n\n\n	Similaire
URL:https://crocoule.org/notre-evenement/bas-en-basset-balade-suitees-en-compagnie-dun-rapace-6/
ATTACH;FMTTYPE=image/jpeg:https://crocoule.org/wp-content/uploads/2025/03/balade-rapace-rochebaron-QTtjxT.tmp_.jpg
END:VEVENT
BEGIN:VEVENT
DTSTART;TZID=Europe/Paris:20250819T173000
DTEND;TZID=Europe/Paris:20250819T190000
DTSTAMP:20260420T025527
CREATED:20250826T153920Z
LAST-MODIFIED:20250826T153920Z
UID:10011937-1755624600-1755630000@crocoule.org
SUMMARY:BOISSET | Viste GAEC DE L'HERM
DESCRIPTION:C’est l’heure de la traite des vaches et du biberon des veaux au GAEC DE L’herm. Après la visite quel délice de déguster les glaces fabriquées à la ferme.  5€ par adulte et 4€ par enfant de 3 à 12 ans. Réservation obligatoire 06 68 95 13 16 \n\n\n	Similaire
URL:https://crocoule.org/notre-evenement/boisset-viste-gaec-de-lherm-7/
ATTACH;FMTTYPE=image/webp:https://crocoule.org/wp-content/uploads/2025/08/vaches-a-la-ferme-UNF2hD.webp
END:VEVENT
BEGIN:VEVENT
DTSTART;TZID=Europe/Paris:20250819T140000
DTEND;TZID=Europe/Paris:20250819T153000
DTSTAMP:20260420T025527
CREATED:20250826T153850Z
LAST-MODIFIED:20250826T153850Z
UID:10011920-1755612000-1755617400@crocoule.org
SUMMARY:SAINT PAL DE MONS | fresque collective sur le thème de l’été
DESCRIPTION:Réalisation d’une fresque collective sur le thème de l’été en peinture.\nA l’atelier ARQUIVI\, tout public à partir de 6 ans\, ados\, adulte.\n 6 €/enfant\, 10 €/adulte Réservation  04 71 75 06 60. \n\n\n	Similaire
URL:https://crocoule.org/notre-evenement/saint-pal-de-mons-fresque-collective-sur-le-theme-de-lete/
END:VEVENT
END:VCALENDAR