BEGIN:VCALENDAR
VERSION:2.0
PRODID:-//Crocoule - ECPv6.15.15//NONSGML v1.0//EN
CALSCALE:GREGORIAN
METHOD:PUBLISH
X-WR-CALNAME:Crocoule
X-ORIGINAL-URL:https://crocoule.org
X-WR-CALDESC:Évènements pour Crocoule
REFRESH-INTERVAL;VALUE=DURATION:PT1H
X-Robots-Tag:noindex
X-PUBLISHED-TTL:PT1H
BEGIN:VTIMEZONE
TZID:Europe/Paris
BEGIN:DAYLIGHT
TZOFFSETFROM:+0100
TZOFFSETTO:+0200
TZNAME:CEST
DTSTART:20240331T010000
END:DAYLIGHT
BEGIN:STANDARD
TZOFFSETFROM:+0200
TZOFFSETTO:+0100
TZNAME:CET
DTSTART:20241027T010000
END:STANDARD
BEGIN:DAYLIGHT
TZOFFSETFROM:+0100
TZOFFSETTO:+0200
TZNAME:CEST
DTSTART:20250330T010000
END:DAYLIGHT
BEGIN:STANDARD
TZOFFSETFROM:+0200
TZOFFSETTO:+0100
TZNAME:CET
DTSTART:20251026T010000
END:STANDARD
BEGIN:DAYLIGHT
TZOFFSETFROM:+0100
TZOFFSETTO:+0200
TZNAME:CEST
DTSTART:20260329T010000
END:DAYLIGHT
BEGIN:STANDARD
TZOFFSETFROM:+0200
TZOFFSETTO:+0100
TZNAME:CET
DTSTART:20261025T010000
END:STANDARD
END:VTIMEZONE
BEGIN:VEVENT
DTSTART;TZID=Europe/Paris:20250716T143000
DTEND;TZID=Europe/Paris:20250716T163000
DTSTAMP:20260420T185226
CREATED:20250826T153817Z
LAST-MODIFIED:20250826T153817Z
UID:10011899-1752676200-1752683400@crocoule.org
SUMMARY:BAS EN BASSET | Visite\, atelier fabrication oreiller en laine
DESCRIPTION:Découvrez la laine et ses nombreux bienfaits et créez votre propre oreiller. A partir de 5 ans. Visite gratuite\, atelier oreiller 30€. Réservation au 04 71 66 95 44. \n\n\n	Similaire
URL:https://crocoule.org/notre-evenement/bas-en-basset-visite-atelier-fabrication-oreiller-en-laine-4/
LOCATION:Bas-en-Basset
ATTACH;FMTTYPE=image/webp:https://crocoule.org/wp-content/uploads/2025/06/oreiller-6h55-YBgsbk.webp
END:VEVENT
BEGIN:VEVENT
DTSTART;TZID=Europe/Paris:20250716T143000
DTEND;TZID=Europe/Paris:20250716T143000
DTSTAMP:20260420T185226
CREATED:20250603T095107Z
LAST-MODIFIED:20250603T095113Z
UID:10011534-1752676200-1752676200@crocoule.org
SUMMARY:BAS EN BASSET | Visite\, atelier fabrication oreiller en laine
DESCRIPTION:Découvrez la laine et ses nombreux bienfaits et créez votre propre oreiller. A partir de 5 ans. Visite gratuite\, atelier oreiller 30€. Réservation au 04 71 66 95 44. \n\n\n	Similaire
URL:https://crocoule.org/notre-evenement/bas-en-basset-visite-atelier-fabrication-oreiller-en-laine-2/
LOCATION:Bas-en-Basset
CATEGORIES:05 ans +,Tous les événements
ATTACH;FMTTYPE=image/webp:https://crocoule.org/wp-content/uploads/2025/06/oreiller-6h55-YBgsbk.webp
END:VEVENT
BEGIN:VEVENT
DTSTART;TZID=Europe/Paris:20250716T100000
DTEND;TZID=Europe/Paris:20250716T160000
DTSTAMP:20260420T185226
CREATED:20250603T094948Z
LAST-MODIFIED:20250826T153752Z
UID:10011519-1752660000-1752681600@crocoule.org
SUMMARY:MONISTROL SUR LOIRE | Stage pilotage VTT enfant
DESCRIPTION:Stage pilotage vtt pour enfant . Exercices techniques adaptés ( maniabilité\, équilibre\, freinage\, virage\, cabrage\, franchissement\, saut\,…) et rando appliquée l’après-midi. Encadré par Wilfrid Delolme moniteur VTT. Prévoir pique-nique\, vélo en état et casque obligatoire.  Enfants de 6 à 8 ans. 35€. Réservation en ligne \n\n\n	Similaire
URL:https://crocoule.org/notre-evenement/monistrol-sur-loire-stage-pilotage-vtt-enfant/
LOCATION:Monistrol sur Loire (Site du Mazel)
CATEGORIES:06 ans +,Tous les événements
ATTACH;FMTTYPE=image/webp:https://crocoule.org/wp-content/uploads/2025/06/vtt-stage-enfants-z0QiDq.webp
END:VEVENT
BEGIN:VEVENT
DTSTART;TZID=Europe/Paris:20250716T100000
DTEND;TZID=Europe/Paris:20250716T113000
DTSTAMP:20260420T185226
CREATED:20250826T153925Z
LAST-MODIFIED:20250826T153925Z
UID:10011938-1752660000-1752665400@crocoule.org
SUMMARY:BAS EN BASSET | Balade suitées en compagnie d’un rapace
DESCRIPTION:Amoureux de nature\, découvrez les alentours du château en compagnie de rapaces et leur fauconnier.\nUne promenade originale : les oiseaux vous suivent et vous frôlent\, en toute liberté ! Et vous pouvez ainsi interagir avec Nicolas et Orion\, les fauconniers\, de façon privilégiée.\nUne expérience à vivre à plusieurs. Chacun pourra rappeler les oiseaux au poing et ainsi partager la passion de leur fauconnier.\n12€ Adulte / 8€ enfants de 6 à 16 ans / Moins de 6 ans : Gratuit \n\n\n	Similaire
URL:https://crocoule.org/notre-evenement/bas-en-basset-balade-suitees-en-compagnie-dun-rapace/
ATTACH;FMTTYPE=image/jpeg:https://crocoule.org/wp-content/uploads/2025/03/balade-rapace-rochebaron-QTtjxT.tmp_.jpg
END:VEVENT
BEGIN:VEVENT
DTSTART;TZID=Europe/Paris:20250716T083000
DTEND;TZID=Europe/Paris:20250716T111500
DTSTAMP:20260420T185226
CREATED:20250603T094947Z
LAST-MODIFIED:20250826T153747Z
UID:10011518-1752654600-1752664500@crocoule.org
SUMMARY:BAS EN BASSET | Initiation pêche
DESCRIPTION:Initiation pêche pour les enfants autour d’un étang. Prêt du matériel\, goûter et boissons offerts. Les enfants doivent être accompagnés. Encadré par l’AAPPMA la Gaule Bassoise. Parc de la biodiversité à Bas en Basset. De 4 à 13 ans. Gratuit. Réservation au 04 71 66 95 44 \n\n\n	Similaire
URL:https://crocoule.org/notre-evenement/bas-en-basset-initiation-peche/
CATEGORIES:04 ans +,Tous les événements
ATTACH;FMTTYPE=image/webp:https://crocoule.org/wp-content/uploads/2025/06/peche-initiation-enfants-RuTZ53.webp
END:VEVENT
BEGIN:VEVENT
DTSTART;TZID=Europe/Paris:20250715T173000
DTEND;TZID=Europe/Paris:20250715T190000
DTSTAMP:20260420T185226
CREATED:20250826T153910Z
LAST-MODIFIED:20250826T153910Z
UID:10011932-1752600600-1752606000@crocoule.org
SUMMARY:BOISSET | Viste GAEC DE L'HERM
DESCRIPTION:C’est l’heure de la traite des vaches et du biberon des veaux au GAEC DE L’herm. Après la visite quel délice de déguster les glaces fabriquées à la ferme.  5€ par adulte et 4€ par enfant de 3 à 12 ans. Réservation obligatoire 06 68 95 13 16 \n\n\n	Similaire
URL:https://crocoule.org/notre-evenement/boisset-viste-gaec-de-lherm-2/
ATTACH;FMTTYPE=image/webp:https://crocoule.org/wp-content/uploads/2025/08/vaches-a-la-ferme-UNF2hD.webp
END:VEVENT
BEGIN:VEVENT
DTSTART;TZID=Europe/Paris:20250715T140000
DTEND;TZID=Europe/Paris:20250715T170000
DTSTAMP:20260420T185226
CREATED:20250826T154005Z
LAST-MODIFIED:20250826T154005Z
UID:10011967-1752588000-1752598800@crocoule.org
SUMMARY:SAINTE SIGOLENE | Découverte de la pêche au coup
DESCRIPTION:Découverte de la pêche au coup avec la fédération de pêche en compagnie d’un moniteur guide de pêche diplômé BPJEPS Philippe Cotte . Matériel et appâts fournis\, étang du Villard\, réservation au 07 80 07 49 69 \n\n\n	Similaire
URL:https://crocoule.org/notre-evenement/sainte-sigolene-decouverte-de-la-peche-au-coup/
LOCATION:Sainte Sigolène
END:VEVENT
BEGIN:VEVENT
DTSTART;TZID=Europe/Paris:20250714T210000
DTEND;TZID=Europe/Paris:20250714T223000
DTSTAMP:20260420T185226
CREATED:20250603T094945Z
LAST-MODIFIED:20250826T153745Z
UID:10011517-1752526800-1752532200@crocoule.org
SUMMARY:BAS EN BASSET | Soirée histoires sous le ciel étoilé
DESCRIPTION:Soirée histoires sous le ciel étoilé. En attendant que les feux d’artifice de la Fête nationale illuminent le ciel\, écoutez Marie-Pierre Touron du collectif Konsldiz \, raconter des histoires de femmes aux pouvoirs invisibles. Tout public.  Au château de Rochebaron à Bas en Basset. 10€ adultes et 5€ par enfant à partir de 6 ans. Renseignements 04 71 66 95 44 \n\n\n	Similaire
URL:https://crocoule.org/notre-evenement/bas-en-basset-soiree-histoires-sous-le-ciel-etoile/
CATEGORIES:06 ans +,Tous les événements
ATTACH;FMTTYPE=image/jpeg:https://crocoule.org/wp-content/uploads/2025/06/rochebaron-de-nuit-6Ts3pY.jpg
END:VEVENT
BEGIN:VEVENT
DTSTART;TZID=Europe/Paris:20250712T173000
DTEND;TZID=Europe/Paris:20250712T193000
DTSTAMP:20260420T185226
CREATED:20250603T095106Z
LAST-MODIFIED:20250826T153813Z
UID:10011533-1752341400-1752348600@crocoule.org
SUMMARY:MONISTROL SUR LOIRE | Atelier origami
DESCRIPTION:Atelier d’origami estival à faire en famille. Adulte et enfant à partir de 8 ans.  Prix: 1 personne : 15€50\, 2 personnes : 27€\, 3 personnes 39€\, 4 personnes 50€+  2€50 par personne de consommation à la Tanière (boisson ou friandise)\,  Réservation au 04 71 66 03 14. \n\n\n	Similaire
URL:https://crocoule.org/notre-evenement/monistrol-sur-loire-atelier-origami-2/
CATEGORIES:08 ans +,Tous les événements
END:VEVENT
BEGIN:VEVENT
DTSTART;TZID=Europe/Paris:20250712T150000
DTEND;TZID=Europe/Paris:20250712T170000
DTSTAMP:20260420T185226
CREATED:20250603T095105Z
LAST-MODIFIED:20250826T153813Z
UID:10011532-1752332400-1752339600@crocoule.org
SUMMARY:MONISTROL SUR LOIRE | Atelier origami
DESCRIPTION:Atelier d’origami estival à faire en famille. Adulte et enfant à partir de 8 ans.  Prix: 1 personne : 15€50\, 2 personnes : 27€\, 3 personnes 39€\, 4 personnes 50€+  2€50 par personne de consommation à la Tanière (boisson ou friandise)\,  Réservation au 04 71 66 03 14. \n\n\n	Similaire
URL:https://crocoule.org/notre-evenement/monistrol-sur-loire-atelier-origami/
CATEGORIES:08 ans +,Tous les événements
END:VEVENT
BEGIN:VEVENT
DTSTART;TZID=Europe/Paris:20250712T090000
DTEND;TZID=Europe/Paris:20250714T173000
DTSTAMP:20260420T185226
CREATED:20250603T095047Z
LAST-MODIFIED:20250826T153806Z
UID:10011526-1752310800-1752514200@crocoule.org
SUMMARY:SAINTE-SIGOLENE  | Festival les Petits Baroudeurs
DESCRIPTION:Commencer l’été par se la couler douce en famille !\nUne parenthèse estivale pour vivre la grande aventure du Festival Les Petits Baroudeurs au bord de la Dunière dans le cadre idyllique du camping de Vaubarlet****. \n\n\n	Similaire
URL:https://crocoule.org/notre-evenement/sainte-sigolene-festival-les-petits-baroudeurs/
LOCATION:Sainte Sigolène
CATEGORIES:En famille,Tous les événements
ATTACH;FMTTYPE=image/webp:https://crocoule.org/wp-content/uploads/2025/06/festival-les-petits-baroudeurs-affiche-6VhfZf.webp
END:VEVENT
BEGIN:VEVENT
DTSTART;TZID=Europe/Paris:20250710T133000
DTEND;TZID=Europe/Paris:20250710T170000
DTSTAMP:20260420T185226
CREATED:20250826T153945Z
LAST-MODIFIED:20250826T153945Z
UID:10011951-1752154200-1752166800@crocoule.org
SUMMARY:MONISTROL SUR LOIRE | Pêche à l'écrevisse
DESCRIPTION:Découverte de la pêche aux écrevisses avec la fédération de pêche en compagnie d’un moniteur guide de pêche\ndiplômé BPJEPS. Matériel et appâts fournis\, Réservation au 07.80.07.49.69 \n\n\n	Similaire
URL:https://crocoule.org/notre-evenement/monistrol-sur-loire-peche-a-lecrevisse/
LOCATION:Monistrol-sur-Loire
END:VEVENT
BEGIN:VEVENT
DTSTART;TZID=Europe/Paris:20250709T150000
DTEND;TZID=Europe/Paris:20250709T163000
DTSTAMP:20260420T185226
CREATED:20250826T153952Z
LAST-MODIFIED:20250826T153952Z
UID:10011958-1752073200-1752078600@crocoule.org
SUMMARY:BAS EN BASSET | Visite à la ferme Chèvrerie des P'tits Lou
DESCRIPTION:Les mercredis du 09 juillet au 27 août à La Chèvrerie des P’tits Lou visite de la ferme pour voir les chèvres\, démonstration de chiens de troupeau ou balade avec les chèvres\, dégustation de fromage\, explication sur la traite et la fabrication des fromages. Gratuit enfants moins de 12 ans  5€ + 12 ans. Réservation 06 84 73 47 74 \n\n\n	Similaire
URL:https://crocoule.org/notre-evenement/bas-en-basset-visite-a-la-ferme-chevrerie-des-ptits-lou/
LOCATION:Bas-en-Basset
ATTACH;FMTTYPE=image/webp:https://crocoule.org/wp-content/uploads/2025/08/ferme-la-chevrerie-des-petits-lou-S1osPb.webp
END:VEVENT
BEGIN:VEVENT
DTSTART;TZID=Europe/Paris:20250709T143000
DTEND;TZID=Europe/Paris:20250709T163000
DTSTAMP:20260420T185226
CREATED:20250603T095110Z
LAST-MODIFIED:20250826T153812Z
UID:10011536-1752071400-1752078600@crocoule.org
SUMMARY:BAS EN BASSET | Visite\, atelier fabrication oreiller en laine
DESCRIPTION:Découvrez la laine et ses nombreux bienfaits et créez votre propre oreiller. A partir de 5 ans. Visite gratuite\, atelier oreiller 30€. Réservation au 04 71 66 95 44. \n\n\n	Similaire
URL:https://crocoule.org/notre-evenement/bas-en-basset-visite-atelier-fabrication-oreiller-en-laine-3/
LOCATION:Bas-en-Basset
ATTACH;FMTTYPE=image/webp:https://crocoule.org/wp-content/uploads/2025/06/oreiller-6h55-YBgsbk.webp
END:VEVENT
BEGIN:VEVENT
DTSTART;TZID=Europe/Paris:20250709T143000
DTEND;TZID=Europe/Paris:20250709T163000
DTSTAMP:20260420T185226
CREATED:20250603T095103Z
LAST-MODIFIED:20250603T095103Z
UID:10011531-1752071400-1752078600@crocoule.org
SUMMARY:BAS EN BASSET | Visite\, atelier fabrication oreiller en laine
DESCRIPTION:Découvrez la laine et ses nombreux bienfaits et créez votre propre oreiller. A partir de 5 ans. Visite gratuite\, atelier oreiller 30€. Réservation au 04 71 66 95 44. \n\n\n	Similaire
URL:https://crocoule.org/notre-evenement/bas-en-basset-visite-atelier-fabrication-oreiller-en-laine/
LOCATION:Bas-en-Basset
CATEGORIES:05 ans +,Tous les événements
ATTACH;FMTTYPE=image/webp:https://crocoule.org/wp-content/uploads/2025/06/oreiller-6h55-YBgsbk.webp
END:VEVENT
BEGIN:VEVENT
DTSTART;TZID=Europe/Paris:20250708T173000
DTEND;TZID=Europe/Paris:20250708T190000
DTSTAMP:20260420T185226
CREATED:20250826T153908Z
LAST-MODIFIED:20250826T153908Z
UID:10011931-1751995800-1752001200@crocoule.org
SUMMARY:BOISSET | Viste GAEC DE L'HERM
DESCRIPTION:C’est l’heure de la traite des vaches et du biberon des veaux au GAEC DE L’herm. Après la visite quel délice de déguster les glaces fabriquées à la ferme.  5€ par adulte et 4€ par enfant de 3 à 12 ans. Réservation obligatoire 06 68 95 13 16 \n\n\n	Similaire
URL:https://crocoule.org/notre-evenement/boisset-viste-gaec-de-lherm/
ATTACH;FMTTYPE=image/webp:https://crocoule.org/wp-content/uploads/2025/08/vaches-a-la-ferme-ZVpqo0.webp
END:VEVENT
BEGIN:VEVENT
DTSTART;TZID=Europe/Paris:20250708T140000
DTEND;TZID=Europe/Paris:20250708T153000
DTSTAMP:20260420T185226
CREATED:20250603T094944Z
LAST-MODIFIED:20250826T153745Z
UID:10011516-1751983200-1751988600@crocoule.org
SUMMARY:SAINT PAL DE MONS | Atelier création d'une fresque
DESCRIPTION:Réalisation d’une fresque collective sur le thème de l’été en peinture.\nA l’atelier ARQUIVI saint pal de mons Tout public à partir de 6 ans\, ados\, adulte\,\nEnfant de 4/6 ans accompagnés par un adulte. 6 €/enfant\, 10 €/adulte. Réservation obligatoire 04 71 75 06 60  \n\n\n	Similaire
URL:https://crocoule.org/notre-evenement/saint-pal-de-mons-atelier-creation-dune-fresque/
LOCATION:Atelier ARQUIVI Saint Pal de Mons
CATEGORIES:06 ans +,Tous les événements
END:VEVENT
BEGIN:VEVENT
DTSTART;TZID=Europe/Paris:20250707T140000
DTEND;TZID=Europe/Paris:20250707T170000
DTSTAMP:20260420T185226
CREATED:20250603T095051Z
LAST-MODIFIED:20250826T153811Z
UID:10011530-1751896800-1751907600@crocoule.org
SUMMARY:SAINTE-SIGOLENE  | Atelier tissage
DESCRIPTION:Pour les enfants de 7 à 10 ans.  Pour comprendre et reproduire les gestes de nos arrières grands parents.7€50. Réservation au 04 71 61 14 17 \n\n\n	Similaire
URL:https://crocoule.org/notre-evenement/sainte-sigolene-atelier-tissage/
CATEGORIES:07 ans +,Tous les événements
ATTACH;FMTTYPE=image/webp:https://crocoule.org/wp-content/uploads/2025/06/la-fabrique-metiers-a-tisser-DXt3Bf.webp
END:VEVENT
BEGIN:VEVENT
DTSTART;TZID=Europe/Paris:20250615T143000
DTEND;TZID=Europe/Paris:20250615T153000
DTSTAMP:20260420T185226
CREATED:20250603T095003Z
LAST-MODIFIED:20250826T153757Z
UID:10011523-1749997800-1750001400@crocoule.org
SUMMARY:LES VILLETTES | Visite du jardin Funambulle
DESCRIPTION:Funambulle rassemble des passionné.e.s de jardinage qui ont tout.e.s en commun l’envie de préserver l’environnement et de maintenir des écosystèmes nourriciers\, durables et résilients. Réservation obligatoire. \n\n\n	Similaire
URL:https://crocoule.org/notre-evenement/les-villettes-visite-du-jardin-funambulle-3/
LOCATION:LES VILLETTES
CATEGORIES:Tous les événements,Tout public
ATTACH;FMTTYPE=image/webp:https://crocoule.org/wp-content/uploads/2025/06/jardin-funambulle-vvBbZA.webp
END:VEVENT
BEGIN:VEVENT
DTSTART;TZID=Europe/Paris:20250615T100000
DTEND;TZID=Europe/Paris:20250615T120000
DTSTAMP:20260420T185226
CREATED:20250603T095005Z
LAST-MODIFIED:20250603T095005Z
UID:10011524-1749981600-1749988800@crocoule.org
SUMMARY:SOLIGNAC SOUS ROCHE | Rendez-vous aux jardins
DESCRIPTION:A l’occasion des Rendez-vous aux jardins\, venez visiter la ferme florale Rosebud où une culture de fleurs de saison en agriculture biologique est pratiquée. Réservation obligatoire. \n\n\n	Similaire
URL:https://crocoule.org/notre-evenement/solignac-sous-roche-rendez-vous-aux-jardins/
LOCATION:Solignac-sous-Roche\, le bourg\, Solignac-sous-Roche\, 43130
CATEGORIES:Tous les événements,Tout public
END:VEVENT
BEGIN:VEVENT
DTSTART;TZID=Europe/Paris:20250615T100000
DTEND;TZID=Europe/Paris:20250615T100000
DTSTAMP:20260420T185226
CREATED:20250826T153804Z
LAST-MODIFIED:20250826T153804Z
UID:10011898-1749981600-1749981600@crocoule.org
SUMMARY:SOLIGNAC SOUS ROCHE | Rendez-vous aux jardins
DESCRIPTION:A l’occasion des Rendez-vous aux jardins\, venez visiter la ferme florale Rosebud où une culture de fleurs de saison en agriculture biologique est pratiquée. Réservation obligatoire. \n\n\n	Similaire
URL:https://crocoule.org/notre-evenement/solignac-sous-roche-rendez-vous-aux-jardins-2/
LOCATION:Solignac-sous-Roche\, le bourg\, Solignac-sous-Roche\, 43130
END:VEVENT
BEGIN:VEVENT
DTSTART;TZID=Europe/Paris:20250614T143000
DTEND;TZID=Europe/Paris:20250614T153000
DTSTAMP:20260420T185226
CREATED:20250603T095001Z
LAST-MODIFIED:20250826T153756Z
UID:10011522-1749911400-1749915000@crocoule.org
SUMMARY:LES VILLETTES | Visite du jardin Funambulle
DESCRIPTION:Funambulle rassemble des passionné.e.s de jardinage qui ont tout.e.s en commun l’envie de préserver l’environnement et de maintenir des écosystèmes nourriciers\, durables et résilients. Réservation obligatoire. \n\n\n	Similaire
URL:https://crocoule.org/notre-evenement/les-villettes-visite-du-jardin-funambulle-2/
LOCATION:LES VILLETTES
CATEGORIES:Tous les événements,Tout public
ATTACH;FMTTYPE=image/webp:https://crocoule.org/wp-content/uploads/2025/06/jardin-funambulle-vvBbZA.webp
END:VEVENT
BEGIN:VEVENT
DTSTART;TZID=Europe/Paris:20250606T143000
DTEND;TZID=Europe/Paris:20250706T153000
DTSTAMP:20260420T185226
CREATED:20250603T094950Z
LAST-MODIFIED:20250826T153754Z
UID:10011520-1749220200-1751815800@crocoule.org
SUMMARY:LES VILLETTES | Visite du jardin Funambulle
DESCRIPTION:Funambulle rassemble des passionné.e.s de jardinage qui ont tout.e.s en commun l’envie de préserver l’environnement et de maintenir des écosystèmes nourriciers\, durables et résilients. Réservation obligatoire. \n\n\n	Similaire
URL:https://crocoule.org/notre-evenement/les-villettes-visite-du-jardin-funambulle/
LOCATION:LES VILLETTES
CATEGORIES:Tous les événements,Tout public
ATTACH;FMTTYPE=image/webp:https://crocoule.org/wp-content/uploads/2025/06/jardin-funambulle-vvBbZA.webp
END:VEVENT
BEGIN:VEVENT
DTSTART;TZID=Europe/Paris:20250430T090000
DTEND;TZID=Europe/Paris:20250430T113000
DTSTAMP:20260420T185226
CREATED:20250331T152714Z
LAST-MODIFIED:20250331T152714Z
UID:10010872-1746003600-1746012600@crocoule.org
SUMMARY:MONISTROL  | Atelier découverte techniques et astuces pour pêcher
DESCRIPTION:Le matériel nécessaire est fourni mais vous pouvez venir avec le vôtre si vous le souhaitez.Encadrée par un moniteur guide de pêche diplômé est réalisée en collaboration avec les pêcheurs de l’AAPPMA de Monistrol-Gournier. Lieu : Château des évêques 04 71 66 03 14 \n\n\n	Similaire
URL:https://crocoule.org/notre-evenement/monistrol-atelier-decouverte-techniques-et-astuces-pour-pecher-3/
LOCATION:Monistrol-sur-Loire
CATEGORIES:07 ans +,Tous les événements
END:VEVENT
BEGIN:VEVENT
DTSTART;TZID=Europe/Paris:20250429T140000
DTEND;TZID=Europe/Paris:20250429T170000
DTSTAMP:20260420T185226
CREATED:20250331T152714Z
LAST-MODIFIED:20250331T152714Z
UID:10010871-1745935200-1745946000@crocoule.org
SUMMARY:MONISTROL  | « Vivre ensemble\, Handicap »
DESCRIPTION:Grâce à des jeux aquatiques originaux et des activités collaboratives\, tu apprendras à mieux comprendre les autres\, à relever des défis collectifs et à développer un esprit de solidarité.\nParcours immersif avec mise en situation de handicap\, jeux collaboratifs\, ateliers éducatifs… Entrée piscine + 3 €. Enfants à partir de 8 ans. Sans réservation. \n\n\n	Similaire
URL:https://crocoule.org/notre-evenement/monistrol-vivre-ensemble-handicap-2/
CATEGORIES:08 ans +,Tous les événements
END:VEVENT
BEGIN:VEVENT
DTSTART;TZID=Europe/Paris:20250429T140000
DTEND;TZID=Europe/Paris:20250429T160000
DTSTAMP:20260420T185226
CREATED:20250331T152701Z
LAST-MODIFIED:20250331T152701Z
UID:10010870-1745935200-1745942400@crocoule.org
SUMMARY:SAINT PAL DE CHALENCON | Rallye photos “Le parcours du milan futé”
DESCRIPTION:Vous aurez à votre disposition un plan et un jeu de photos sur le patrimoine que vous devrez  retrouver “dans la petite cité de caractère”.  Goûter offert. Réservation obligatoire au 04 71 66 95 44 OU 04 71 66 19 53 \n\n\n	Similaire
URL:https://crocoule.org/notre-evenement/saint-pal-de-chalencon-rallye-photos-le-parcours-du-milan-fute-2/
LOCATION:Saint-Pal-de-Chalencon\, 43500
CATEGORIES:En famille,Tous les événements
ATTACH;FMTTYPE=image/webp:https://crocoule.org/wp-content/uploads/2025/03/st-pal-de-chalencon-1PtqgG.tmp_.webp
END:VEVENT
BEGIN:VEVENT
DTSTART;TZID=Europe/Paris:20250428T110000
DTEND;TZID=Europe/Paris:20250428T110000
DTSTAMP:20260420T185226
CREATED:20250331T152701Z
LAST-MODIFIED:20250331T152701Z
UID:10010869-1745838000-1745838000@crocoule.org
SUMMARY:SAINTE SIGOLENE | Visite du Mont des Autruches
DESCRIPTION:Visionnage d’un film (10 mn) explicatif sur les autruches\, échanges\, démonstration pour ouvrir un oeuf d’autruche et dégustation de terrine et oeufs d’autruche. Enfant obligatoirement accompagné d’un adulte qui doit faire l’activité. Réservation obligatoire 04 71 61 14 17 . \n\n\n	Similaire
URL:https://crocoule.org/notre-evenement/sainte-sigolene-visite-du-mont-des-autruches-2/
LOCATION:Sainte Sigolène
CATEGORIES:Tous les événements,Tout public
END:VEVENT
BEGIN:VEVENT
DTSTART;TZID=Europe/Paris:20250427T140000
DTEND;TZID=Europe/Paris:20250427T140000
DTSTAMP:20260420T185226
CREATED:20250331T152715Z
LAST-MODIFIED:20250331T152715Z
UID:10010875-1745762400-1745762400@crocoule.org
SUMMARY:SAINTE SIGOLENE | Cani rando
DESCRIPTION:Cani rando Ludique et accessible à tous. Marchez avec un chien husky reliè à votre taille. Sainte Sigoléne Tout public.28€ adulte\, 24€ enfant de 12  à 15 ans et 20€ enfant de moins de 12 ans. Réservation au 04 71 61 14 17 \n\n\n	Similaire
URL:https://crocoule.org/notre-evenement/sainte-sigolene-cani-rando-3/
LOCATION:Sainte-Sigolène
CATEGORIES:En famille,Tous les événements,Tout public
END:VEVENT
BEGIN:VEVENT
DTSTART;TZID=Europe/Paris:20250427T133000
DTEND;TZID=Europe/Paris:20250427T150000
DTSTAMP:20260420T185226
CREATED:20250331T152730Z
LAST-MODIFIED:20250331T152730Z
UID:10010876-1745760600-1745766000@crocoule.org
SUMMARY:BAS EN BASSET | Atelier fabrication d'éventails en cyanotype
DESCRIPTION:Au château de Rochebaron Atelier fabrication d’éventails en cyanotype avec Angeline Russier. Prix libre à partir de 5€ par personne. Réservation au  04 71 66 95 44 \n\n\n	Similaire
URL:https://crocoule.org/notre-evenement/bas-en-basset-atelier-fabrication-deventails-en-cyanotype-2/
CATEGORIES:07 ans +,Tous les événements
END:VEVENT
BEGIN:VEVENT
DTSTART;TZID=Europe/Paris:20250426T143000
DTEND;TZID=Europe/Paris:20250426T153000
DTSTAMP:20260420T185226
CREATED:20250331T152659Z
LAST-MODIFIED:20250331T152659Z
UID:10010866-1745677800-1745681400@crocoule.org
SUMMARY:BEAUZAC | Chasse aux oeufs à dos de poney
DESCRIPTION:Chasse aux œufs à dos de poney. Promenade à poney sur le thème de Pâques\, enfant accompagné d’un adulte. Ecuries des 3 vallées. Beauzac. Enfant de 3 à 8 ans. Réservation obligatoire au 04 71 61 50 74 \n\n\n	Similaire
URL:https://crocoule.org/notre-evenement/beauzac-chasse-aux-oeufs-a-dos-de-poney-2/
CATEGORIES:03 ans +,Tous les événements
END:VEVENT
END:VCALENDAR