BEGIN:VCALENDAR
VERSION:2.0
PRODID:-//Crocoule - ECPv6.15.15//NONSGML v1.0//EN
CALSCALE:GREGORIAN
METHOD:PUBLISH
X-WR-CALNAME:Crocoule
X-ORIGINAL-URL:https://crocoule.org
X-WR-CALDESC:Évènements pour Crocoule
REFRESH-INTERVAL;VALUE=DURATION:PT1H
X-Robots-Tag:noindex
X-PUBLISHED-TTL:PT1H
BEGIN:VTIMEZONE
TZID:Europe/Paris
BEGIN:DAYLIGHT
TZOFFSETFROM:+0100
TZOFFSETTO:+0200
TZNAME:CEST
DTSTART:20250330T010000
END:DAYLIGHT
BEGIN:STANDARD
TZOFFSETFROM:+0200
TZOFFSETTO:+0100
TZNAME:CET
DTSTART:20251026T010000
END:STANDARD
BEGIN:DAYLIGHT
TZOFFSETFROM:+0100
TZOFFSETTO:+0200
TZNAME:CEST
DTSTART:20260329T010000
END:DAYLIGHT
BEGIN:STANDARD
TZOFFSETFROM:+0200
TZOFFSETTO:+0100
TZNAME:CET
DTSTART:20261025T010000
END:STANDARD
BEGIN:DAYLIGHT
TZOFFSETFROM:+0100
TZOFFSETTO:+0200
TZNAME:CEST
DTSTART:20270328T010000
END:DAYLIGHT
BEGIN:STANDARD
TZOFFSETFROM:+0200
TZOFFSETTO:+0100
TZNAME:CET
DTSTART:20271031T010000
END:STANDARD
END:VTIMEZONE
BEGIN:VEVENT
DTSTART;TZID=Europe/Paris:20260506T100000
DTEND;TZID=Europe/Paris:20260506T110000
DTSTAMP:20260421T105124
CREATED:20260302T105516Z
LAST-MODIFIED:20260302T105516Z
UID:10013192-1778061600-1778065200@crocoule.org
SUMMARY:cervières | Raconte tapis
DESCRIPTION:À travers un conte\, les enfants\ndécouvrent les constructions\net la vie au Moyen Âge. Une\ndéambulation sur le site permet\nensuite de rassembler les\nbriques de l’histoire. \n\n\n	Similaire
URL:https://crocoule.org/notre-evenement/cervieres-raconte-tapis/
LOCATION:Cervières
CATEGORIES:03 ans +,Tous les événements
END:VEVENT
BEGIN:VEVENT
DTSTART;TZID=Europe/Paris:20260704T100000
DTEND;TZID=Europe/Paris:20260704T100000
DTSTAMP:20260421T105124
CREATED:20260302T110137Z
LAST-MODIFIED:20260302T110137Z
UID:10013196-1783159200-1783159200@crocoule.org
SUMMARY:Marols | A vos vitraux
DESCRIPTION:Initiez-vous à l’art du vitrail.\nObservez d’abord les\nmagnifiques vitraux\, réalisés\npar de grands maîtres verriers.\nPuis découvrez les techniques\nde réalisation du vitrail lors d’un\natelier où vous pourrez créer\nvotre propre oeuvre en papier\nvitrail. \n\n\n	Similaire
URL:https://crocoule.org/notre-evenement/marols-a-vos-vitraux/
LOCATION:Marols\, 42140
END:VEVENT
END:VCALENDAR