BEGIN:VCALENDAR
VERSION:2.0
PRODID:-//Crocoule - ECPv6.15.15//NONSGML v1.0//EN
CALSCALE:GREGORIAN
METHOD:PUBLISH
X-WR-CALNAME:Crocoule
X-ORIGINAL-URL:https://crocoule.org
X-WR-CALDESC:Évènements pour Crocoule
REFRESH-INTERVAL;VALUE=DURATION:PT1H
X-Robots-Tag:noindex
X-PUBLISHED-TTL:PT1H
BEGIN:VTIMEZONE
TZID:Europe/Paris
BEGIN:DAYLIGHT
TZOFFSETFROM:+0100
TZOFFSETTO:+0200
TZNAME:CEST
DTSTART:20240331T010000
END:DAYLIGHT
BEGIN:STANDARD
TZOFFSETFROM:+0200
TZOFFSETTO:+0100
TZNAME:CET
DTSTART:20241027T010000
END:STANDARD
BEGIN:DAYLIGHT
TZOFFSETFROM:+0100
TZOFFSETTO:+0200
TZNAME:CEST
DTSTART:20250330T010000
END:DAYLIGHT
BEGIN:STANDARD
TZOFFSETFROM:+0200
TZOFFSETTO:+0100
TZNAME:CET
DTSTART:20251026T010000
END:STANDARD
BEGIN:DAYLIGHT
TZOFFSETFROM:+0100
TZOFFSETTO:+0200
TZNAME:CEST
DTSTART:20260329T010000
END:DAYLIGHT
BEGIN:STANDARD
TZOFFSETFROM:+0200
TZOFFSETTO:+0100
TZNAME:CET
DTSTART:20261025T010000
END:STANDARD
BEGIN:DAYLIGHT
TZOFFSETFROM:+0100
TZOFFSETTO:+0200
TZNAME:CEST
DTSTART:20270328T010000
END:DAYLIGHT
BEGIN:STANDARD
TZOFFSETFROM:+0200
TZOFFSETTO:+0100
TZNAME:CET
DTSTART:20271031T010000
END:STANDARD
END:VTIMEZONE
BEGIN:VEVENT
DTSTART;TZID=Europe/Paris:20260416T143000
DTEND;TZID=Europe/Paris:20260416T160000
DTSTAMP:20260421T135933
CREATED:20260302T110138Z
LAST-MODIFIED:20260302T110138Z
UID:10013197-1776349800-1776355200@crocoule.org
SUMMARY:Montverdun  | Poudlard en Forez
DESCRIPTION:Initiez-vous à la sorcellerie et\ndéfendez votre « maison ». Sous\nla houlette du mage Adamas\,\nmissionné par Dumbledore\,\nvous relèverez des défis qui\nvous mèneront dans des\nrecoins bien mystérieux… \n\n\n	Similaire
URL:https://crocoule.org/notre-evenement/montverdun-poudlard-en-forez/
LOCATION:prieuré de Montverdun\, montverdun\, 42130\, France
END:VEVENT
BEGIN:VEVENT
DTSTART;TZID=Europe/Paris:20260415T143000
DTEND;TZID=Europe/Paris:20260415T160000
DTSTAMP:20260421T135933
CREATED:20260302T110134Z
LAST-MODIFIED:20260302T110134Z
UID:10013194-1776263400-1776268800@crocoule.org
SUMMARY:Marcoux | Goutelas perd le nord
DESCRIPTION:Se perdre et découvrir les\nendroits secrets du château…\nPartez à l’aventure avec\nvotre équipe et relevez les\ndéfis qui vous permettront\nde reconstituer l’histoire de\nGoutelas. \n\n\n	Similaire
URL:https://crocoule.org/notre-evenement/marcoux-goutelas-perd-le-nord-3/
END:VEVENT
BEGIN:VEVENT
DTSTART;TZID=Europe/Paris:20260409T143000
DTEND;TZID=Europe/Paris:20260409T143000
DTSTAMP:20260421T135933
CREATED:20260302T110135Z
LAST-MODIFIED:20260302T110135Z
UID:10013195-1775745000-1775745000@crocoule.org
SUMMARY:Usson-en-Forez | Opération sabotage
DESCRIPTION:Vous êtes résistants pendant la\nSeconde Guerre Mondiale. Les\nAllemands arrivent à\nUsson-en-Forez et vous devez\nsauver votre village. Votre\nobjectif : saboter le bon pont\npour les ralentir. Bonne chance\nsoldat ! \n\n\n	Similaire
URL:https://crocoule.org/notre-evenement/usson-en-forez-operation-sabotage-7/
LOCATION:Usson-en-Forez
END:VEVENT
BEGIN:VEVENT
DTSTART;TZID=Europe/Paris:20260408T103000
DTEND;TZID=Europe/Paris:20260408T120000
DTSTAMP:20260421T135933
CREATED:20260302T105518Z
LAST-MODIFIED:20260302T105518Z
UID:10013193-1775644200-1775649600@crocoule.org
SUMMARY:Sail-sous-Couzan | A l'assaut de Couzan
DESCRIPTION:L’épée donnant tous les\npouvoirs a été cachée par le\nseigneur de Couzan dans son\nchâteau… Rusez pour entrer\ndans la forteresse\, résolvez\ndes énigmes pour atteindre le\nsommet et emparez-vous de\nl’épée ! \n\n\n	Similaire
URL:https://crocoule.org/notre-evenement/sail-sous-couzan-a-lassaut-de-couzan/
LOCATION:Forteresse de Couzan\, Sail-sous-Couzan\, 42890
CATEGORIES:06 ans +,Tous les événements
END:VEVENT
BEGIN:VEVENT
DTSTART;TZID=Europe/Paris:20260407T143000
DTEND;TZID=Europe/Paris:20260407T160000
DTSTAMP:20260421T135933
CREATED:20260302T110139Z
LAST-MODIFIED:20260302T110139Z
UID:10013198-1775572200-1775577600@crocoule.org
SUMMARY:Marols | Poudlard en Forez
DESCRIPTION:Initiez-vous à la sorcellerie et\ndéfendez votre « maison ». Sous\nla houlette du mage Adamas\,\nmissionné par Dumbledore\,\nvous relèverez des défis qui\nvous mèneront dans des\nrecoins bien mystérieux… \n\n\n	Similaire
URL:https://crocoule.org/notre-evenement/marols-poudlard-en-forez-2/
LOCATION:Marols\, 42140
END:VEVENT
BEGIN:VEVENT
DTSTART;TZID=Europe/Paris:20251031T103000
DTEND;TZID=Europe/Paris:20251031T120000
DTSTAMP:20260421T135933
CREATED:20250826T153743Z
LAST-MODIFIED:20250826T153743Z
UID:10011897-1761906600-1761912000@crocoule.org
SUMMARY:Sail-sous-Couzan | A l'assaut du Château de Couzan
DESCRIPTION:L’épée donnant tous les\npouvoirs a été cachée par le\nseigneur de Couzan dans son\nchâteau… Rusez pour entrer\ndans la forteresse\, résolvez\ndes énigmes pour atteindre le\nsommet et emparez-vous de\nl’épée ! \n\n\n	Similaire
URL:https://crocoule.org/notre-evenement/sail-sous-couzan-a-lassaut-du-chateau-de-couzan-5/
LOCATION:Forteresse de Couzan\, Sail-sous-Couzan\, 42890
CATEGORIES:06 ans +,Tous les événements
END:VEVENT
BEGIN:VEVENT
DTSTART;TZID=Europe/Paris:20251029T143000
DTEND;TZID=Europe/Paris:20251029T160000
DTSTAMP:20260421T135933
CREATED:20250826T153727Z
LAST-MODIFIED:20250826T153727Z
UID:10011893-1761748200-1761753600@crocoule.org
SUMMARY:Sauvain  | Recherche vaches désespérément
DESCRIPTION:La famille Duchaume a perdu\nses vaches ! Aidez Pierrette à\nreconstituer son troupeau à\ntravers une série de jeux qui\nvous mèneront à la découverte\nde la vie d’autrefois. \n\n\n	Similaire
URL:https://crocoule.org/notre-evenement/sauvain-recherche-vaches-desesperement-4/
CATEGORIES:04 ans +,Tous les événements
END:VEVENT
BEGIN:VEVENT
DTSTART;TZID=Europe/Paris:20251024T103000
DTEND;TZID=Europe/Paris:20251024T120000
DTSTAMP:20260421T135933
CREATED:20250826T153731Z
LAST-MODIFIED:20250826T153731Z
UID:10011895-1761301800-1761307200@crocoule.org
SUMMARY:Sail-sous-Couzan | A l'assaut du Château de Couzan
DESCRIPTION:L’épée donnant tous les\npouvoirs a été cachée par le\nseigneur de Couzan dans son\nchâteau… Rusez pour entrer\ndans la forteresse\, résolvez\ndes énigmes pour atteindre le\nsommet et emparez-vous de\nl’épée ! \n\n\n	Similaire
URL:https://crocoule.org/notre-evenement/sail-sous-couzan-a-lassaut-du-chateau-de-couzan-4/
LOCATION:Forteresse de Couzan\, Sail-sous-Couzan\, 42890
CATEGORIES:06 ans +,Tous les événements
END:VEVENT
BEGIN:VEVENT
DTSTART;TZID=Europe/Paris:20251022T143000
DTEND;TZID=Europe/Paris:20251022T160000
DTSTAMP:20260421T135933
CREATED:20250826T153729Z
LAST-MODIFIED:20250826T153729Z
UID:10011894-1761143400-1761148800@crocoule.org
SUMMARY:Chalmazel-Jeansagnière | Recherche vaches désespérément
DESCRIPTION:La famille Duchaume a perdu\nses vaches ! Aidez Pierrette à\nreconstituer son troupeau à\ntravers une série de jeux qui\nvous mèneront à la découverte\nde la vie d’autrefois. \n\n\n	Similaire
URL:https://crocoule.org/notre-evenement/chalmazel-jeansagniere-recherche-vaches-desesperement-4/
LOCATION:bourg de Chalmazel\, Chalmazel-Jeansagnière\, 42920\, France
CATEGORIES:04 ans +,Tous les événements
END:VEVENT
BEGIN:VEVENT
DTSTART;TZID=Europe/Paris:20251021T100000
DTEND;TZID=Europe/Paris:20251021T120000
DTSTAMP:20260421T135933
CREATED:20250826T153741Z
LAST-MODIFIED:20250826T153741Z
UID:10011896-1761040800-1761048000@crocoule.org
SUMMARY:Boën-sur-Lignon | A vos vitraux
DESCRIPTION:Initiez-vous à l’art du vitrail.\nObservez d’abord les\nmagnifiques vitraux de l’église\nde Boën\, réalisés par deux\ngrands maîtres verriers\, puis\ndécouvrez les techniques de\nréalisation du vitrail lors d’un\natelier où vous pourrez créer\nvotre propre oeuvre en papier\nvitrail \n\n\n	Similaire
URL:https://crocoule.org/notre-evenement/boen-sur-lignon-a-vos-vitraux-2/
CATEGORIES:07 ans +,Tous les événements
END:VEVENT
BEGIN:VEVENT
DTSTART;TZID=Europe/Paris:20250824T150000
DTEND;TZID=Europe/Paris:20250824T163000
DTSTAMP:20260421T135933
CREATED:20250603T094947Z
LAST-MODIFIED:20250603T094947Z
UID:10011513-1756047600-1756053000@crocoule.org
SUMMARY:Saint-Bonnet-le-Château | Panique à Saint-Bonnet-le-Château
DESCRIPTION:Sieur Gaudin a besoin de\nvous pour faire fuir les bandits\nen ville ! Aidez-le à retrouver\nle coffre empli de pièces en\ncollectant les indices dans les\nruelles. \n\n\n	Similaire
URL:https://crocoule.org/notre-evenement/saint-bonnet-le-chateau-panique-a-saint-bonnet-le-chateau-7/
CATEGORIES:06 ans +,Tous les événements
END:VEVENT
BEGIN:VEVENT
DTSTART;TZID=Europe/Paris:20250822T140000
DTEND;TZID=Europe/Paris:20250822T153000
DTSTAMP:20260421T135933
CREATED:20250603T094914Z
LAST-MODIFIED:20250603T094914Z
UID:10011502-1755871200-1755876600@crocoule.org
SUMMARY:Usson-en Forez  | Itinitiation à la pêche
DESCRIPTION:Initiez-vous à la pêche en\nfamille et découvrir la pêche\nau coup. Une canne\, un fil et\nun flotteur… Activité encadrée par la\nFédération départementale de la pêche \n\n\n	Similaire
URL:https://crocoule.org/notre-evenement/usson-en-forez-itinitiation-a-la-peche-2/
LOCATION:Usson-en-Forez
CATEGORIES:08 ans +,Tous les événements
END:VEVENT
BEGIN:VEVENT
DTSTART;TZID=Europe/Paris:20250821T150000
DTEND;TZID=Europe/Paris:20250821T163000
DTSTAMP:20260421T135933
CREATED:20250603T094943Z
LAST-MODIFIED:20250603T094943Z
UID:10011511-1755788400-1755793800@crocoule.org
SUMMARY:Usson-en Forez  | Opération sabotage
DESCRIPTION:Vous êtes résistants pendant la\nSeconde Guerre Mondiale. Les\nAllemands arrivent à\nUsson-en-Forez et vous devez\nsauver votre village. Votre\nobjectif : saboter le bon pont\npour les ralentir. Bonne chance\nsoldat ! \n\n\n	Similaire
URL:https://crocoule.org/notre-evenement/usson-en-forez-operation-sabotage-6/
LOCATION:Usson-en-Forez
CATEGORIES:08 ans +,Tous les événements
END:VEVENT
BEGIN:VEVENT
DTSTART;TZID=Europe/Paris:20250820T143000
DTEND;TZID=Europe/Paris:20250820T160000
DTSTAMP:20260421T135933
CREATED:20250603T094748Z
LAST-MODIFIED:20250603T094748Z
UID:10011483-1755700200-1755705600@crocoule.org
SUMMARY:Sauvain  | Recherche vaches désespérément
DESCRIPTION:La famille Duchaume a perdu\nses vaches ! Aidez Pierrette à\nreconstituer son troupeau à\ntravers une série de jeux qui\nvous mèneront à la découverte\nde la vie d’autrefois. \n\n\n	Similaire
URL:https://crocoule.org/notre-evenement/sauvain-recherche-vaches-desesperement-3/
CATEGORIES:04 ans +,Tous les événements
END:VEVENT
BEGIN:VEVENT
DTSTART;TZID=Europe/Paris:20250820T140000
DTEND;TZID=Europe/Paris:20250820T163000
DTSTAMP:20260421T135933
CREATED:20250603T094948Z
LAST-MODIFIED:20250603T094948Z
UID:10011514-1755698400-1755707400@crocoule.org
SUMMARY:Usson-en Forez  | Les mégalithes de Daniecq
DESCRIPTION:Venez découvrir les mégalithes\nde Daniecq\, ces drôles de pierres\ncreusées et utilisées par les\nhommes préhistoriques.\nMême si le mystère reste entier\,\nnous remonterons le temps\npour profiter d’une belle balade\nponctuée d’un petit conte. \n\n\n	Similaire
URL:https://crocoule.org/notre-evenement/usson-en-forez-les-megalithes-de-daniecq-3/
LOCATION:Usson-en-Forez
CATEGORIES:05 ans +,Tous les événements
END:VEVENT
BEGIN:VEVENT
DTSTART;TZID=Europe/Paris:20250820T140000
DTEND;TZID=Europe/Paris:20250820T140000
DTSTAMP:20260421T135933
CREATED:20250603T094930Z
LAST-MODIFIED:20250603T094930Z
UID:10011508-1755698400-1755698400@crocoule.org
SUMMARY:Usson-en Forez  | Les mégalithes de Daniecq
DESCRIPTION:Venez découvrir les mégalithes\nde Daniecq\, ces drôles de pierres\ncreusées et utilisées par les\nhommes préhistoriques.\nMême si le mystère reste entier\,\nnous remonterons le temps\npour profiter d’une belle balade\nponctuée d’un petit conte. \n\n\n	Similaire
URL:https://crocoule.org/notre-evenement/usson-en-forez-les-megalithes-de-daniecq-2/
LOCATION:Usson-en-Forez
CATEGORIES:05 ans +,Tous les événements
END:VEVENT
BEGIN:VEVENT
DTSTART;TZID=Europe/Paris:20250817T150000
DTEND;TZID=Europe/Paris:20250817T163000
DTSTAMP:20260421T135933
CREATED:20250603T094859Z
LAST-MODIFIED:20250603T094859Z
UID:10011497-1755442800-1755448200@crocoule.org
SUMMARY:Saint-Bonnet-le-Château | Panique à Saint-Bonnet-le-Château
DESCRIPTION:Sieur Gaudin a besoin de\nvous pour faire fuir les bandits\nen ville ! Aidez-le à retrouver\nle coffre empli de pièces en\ncollectant les indices dans les\nruelles. \n\n\n	Similaire
URL:https://crocoule.org/notre-evenement/saint-bonnet-le-chateau-panique-a-saint-bonnet-le-chateau-5/
CATEGORIES:06 ans +,Tous les événements
END:VEVENT
BEGIN:VEVENT
DTSTART;TZID=Europe/Paris:20250814T150000
DTEND;TZID=Europe/Paris:20250814T163000
DTSTAMP:20260421T135933
CREATED:20250603T094933Z
LAST-MODIFIED:20250603T094933Z
UID:10011510-1755183600-1755189000@crocoule.org
SUMMARY:Usson-en Forez  | Opération sabotage
DESCRIPTION:Vous êtes résistants pendant la\nSeconde Guerre Mondiale. Les\nAllemands arrivent à\nUsson-en-Forez et vous devez\nsauver votre village. Votre\nobjectif : saboter le bon pont\npour les ralentir. Bonne chance\nsoldat ! \n\n\n	Similaire
URL:https://crocoule.org/notre-evenement/usson-en-forez-operation-sabotage-5/
LOCATION:Usson-en-Forez
CATEGORIES:08 ans +,Tous les événements
END:VEVENT
BEGIN:VEVENT
DTSTART;TZID=Europe/Paris:20250814T150000
DTEND;TZID=Europe/Paris:20250814T163000
DTSTAMP:20260421T135933
CREATED:20250603T094904Z
LAST-MODIFIED:20250603T094904Z
UID:10011500-1755183600-1755189000@crocoule.org
SUMMARY:Montarcher | Armes médièvales
DESCRIPTION:Des livres\, films jusqu’aux jeux\nvidéos\, l’image du chevalier\ns’est façonnée au cours des\nsiècles. Qu’en-est-il vraiment?\nCette présentation vous\nrévèlera tous les secrets des\nchevaliers du moyen-âge.\nEpée\, plastron et bouclier : tout\nl’équipement du chevalier vous\nsera présenté. Venez l’essayer ! \n\n\n	Similaire
URL:https://crocoule.org/notre-evenement/montarcher-armes-medievales-2/
LOCATION:Montarcher
CATEGORIES:07 ans +,Tous les événements
END:VEVENT
BEGIN:VEVENT
DTSTART;TZID=Europe/Paris:20250813T143000
DTEND;TZID=Europe/Paris:20250813T160000
DTSTAMP:20260421T135933
CREATED:20250603T094800Z
LAST-MODIFIED:20250603T094800Z
UID:10011486-1755095400-1755100800@crocoule.org
SUMMARY:Chalmazel-Jeansagnière | Recherche vaches désespérément
DESCRIPTION:La famille Duchaume a perdu\nses vaches ! Aidez Pierrette à\nreconstituer son troupeau à\ntravers une série de jeux qui\nvous mèneront à la découverte\nde la vie d’autrefois. \n\n\n	Similaire
URL:https://crocoule.org/notre-evenement/chalmazel-jeansagniere-recherche-vaches-desesperement-3/
LOCATION:bourg de Chalmazel\, Chalmazel-Jeansagnière\, 42920\, France
CATEGORIES:04 ans +,Tous les événements
END:VEVENT
BEGIN:VEVENT
DTSTART;TZID=Europe/Paris:20250812T150000
DTEND;TZID=Europe/Paris:20250812T170000
DTSTAMP:20260421T135933
CREATED:20250603T094929Z
LAST-MODIFIED:20250603T094929Z
UID:10011507-1755010800-1755018000@crocoule.org
SUMMARY:Usson-en Forez  | Plongez dans la nature
DESCRIPTION:Avec Aurélie\, offrez à vos\nenfants une pause magique\nen nature : des jeux sensoriels\npour découvrir la forêt\nautrement et éveiller leurs sens. \n\n\n	Similaire
URL:https://crocoule.org/notre-evenement/usson-en-forez-plongez-dans-la-nature-2/
LOCATION:Usson-en-Forez
CATEGORIES:05 ans +,Tous les événements
END:VEVENT
BEGIN:VEVENT
DTSTART;TZID=Europe/Paris:20250810T150000
DTEND;TZID=Europe/Paris:20250810T163000
DTSTAMP:20260421T135933
CREATED:20250603T094857Z
LAST-MODIFIED:20250603T094857Z
UID:10011496-1754838000-1754843400@crocoule.org
SUMMARY:Saint-Bonnet-le-Château | Panique à Saint-Bonnet-le-Château
DESCRIPTION:Sieur Gaudin a besoin de\nvous pour faire fuir les bandits\nen ville ! Aidez-le à retrouver\nle coffre empli de pièces en\ncollectant les indices dans les\nruelles. \n\n\n	Similaire
URL:https://crocoule.org/notre-evenement/saint-bonnet-le-chateau-panique-a-saint-bonnet-le-chateau-4/
CATEGORIES:06 ans +,Tous les événements
END:VEVENT
BEGIN:VEVENT
DTSTART;TZID=Europe/Paris:20250808T150000
DTEND;TZID=Europe/Paris:20250808T163000
DTSTAMP:20260421T135933
CREATED:20250603T094802Z
LAST-MODIFIED:20250603T094802Z
UID:10011487-1754665200-1754670600@crocoule.org
SUMMARY:Marols | Poudlard en Forez
DESCRIPTION:Initiez-vous à la sorcellerie et\ndéfendez votre « maison ». Sous\nla houlette du mage Adamas\,\nmissionné par Dumbledore\,\nvous relèverez des défis qui\nvous mèneront dans des\nrecoins bien mystérieux… \n\n\n	Similaire
URL:https://crocoule.org/notre-evenement/marols-poudlard-en-forez/
LOCATION:Marols\, 42140
CATEGORIES:09 ans +,Tous les événements
END:VEVENT
BEGIN:VEVENT
DTSTART;TZID=Europe/Paris:20250807T150000
DTEND;TZID=Europe/Paris:20250807T163000
DTSTAMP:20260421T135933
CREATED:20250603T094931Z
LAST-MODIFIED:20250603T094931Z
UID:10011509-1754578800-1754584200@crocoule.org
SUMMARY:Usson-en Forez  | Opération sabotage
DESCRIPTION:Vous êtes résistants pendant la\nSeconde Guerre Mondiale. Les\nAllemands arrivent à\nUsson-en-Forez et vous devez\nsauver votre village. Votre\nobjectif : saboter le bon pont\npour les ralentir. Bonne chance\nsoldat ! \n\n\n	Similaire
URL:https://crocoule.org/notre-evenement/usson-en-forez-operation-sabotage-4/
LOCATION:Usson-en-Forez
CATEGORIES:08 ans +,Tous les événements
END:VEVENT
BEGIN:VEVENT
DTSTART;TZID=Europe/Paris:20250806T153000
DTEND;TZID=Europe/Paris:20250806T170000
DTSTAMP:20260421T135933
CREATED:20250603T094917Z
LAST-MODIFIED:20250603T094917Z
UID:10011505-1754494200-1754499600@crocoule.org
SUMMARY:Usson-en Forez  | Ferme des chemins de Saint-Jacques
DESCRIPTION:Christian Chandy nous ouvre les\nportes de son exploitation de\nvolailles et de lapins\, et partage\navec enthousiasme son\nquotidien auprès des animaux. \n\n\n	Similaire
URL:https://crocoule.org/notre-evenement/usson-en-forez-ferme-des-chemins-de-saint-jacques-2/
LOCATION:Usson-en-Forez
CATEGORIES:06 ans +,Tous les événements
END:VEVENT
BEGIN:VEVENT
DTSTART;TZID=Europe/Paris:20250806T150000
DTEND;TZID=Europe/Paris:20250806T150000
DTSTAMP:20260421T135933
CREATED:20250603T094902Z
LAST-MODIFIED:20250603T094902Z
UID:10011499-1754492400-1754492400@crocoule.org
SUMMARY:Montarcher | Armes médièvales
DESCRIPTION:Des livres\, films jusqu’aux jeux\nvidéos\, l’image du chevalier\ns’est façonnée au cours des\nsiècles. Qu’en-est-il vraiment?\nCette présentation vous\nrévèlera tous les secrets des\nchevaliers du moyen-âge.\nEpée\, plastron et bouclier : tout\nl’équipement du chevalier vous\nsera présenté. Venez l’essayer ! \n\n\n	Similaire
URL:https://crocoule.org/notre-evenement/montarcher-armes-medievales/
LOCATION:Montarcher
CATEGORIES:07 ans +,Tous les événements
END:VEVENT
BEGIN:VEVENT
DTSTART;TZID=Europe/Paris:20250806T143000
DTEND;TZID=Europe/Paris:20250806T160000
DTSTAMP:20260421T135933
CREATED:20250603T094746Z
LAST-MODIFIED:20250603T094746Z
UID:10011482-1754490600-1754496000@crocoule.org
SUMMARY:Sauvain  | Recherche vaches désespérément
DESCRIPTION:La famille Duchaume a perdu\nses vaches ! Aidez Pierrette à\nreconstituer son troupeau à\ntravers une série de jeux qui\nvous mèneront à la découverte\nde la vie d’autrefois. \n\n\n	Similaire
URL:https://crocoule.org/notre-evenement/sauvain-recherche-vaches-desesperement-2/
CATEGORIES:04 ans +,Tous les événements
END:VEVENT
BEGIN:VEVENT
DTSTART;TZID=Europe/Paris:20250803T150000
DTEND;TZID=Europe/Paris:20250803T163000
DTSTAMP:20260421T135933
CREATED:20250603T094849Z
LAST-MODIFIED:20250603T094849Z
UID:10011495-1754233200-1754238600@crocoule.org
SUMMARY:Saint-Bonnet-le-Château | Panique à Saint-Bonnet-le-Château
DESCRIPTION:Sieur Gaudin a besoin de\nvous pour faire fuir les bandits\nen ville ! Aidez-le à retrouver\nle coffre empli de pièces en\ncollectant les indices dans les\nruelles. \n\n\n	Similaire
URL:https://crocoule.org/notre-evenement/saint-bonnet-le-chateau-panique-a-saint-bonnet-le-chateau-3/
CATEGORIES:06 ans +,Tous les événements
END:VEVENT
BEGIN:VEVENT
DTSTART;TZID=Europe/Paris:20250731T150000
DTEND;TZID=Europe/Paris:20250731T163000
DTSTAMP:20260421T135933
CREATED:20250603T094844Z
LAST-MODIFIED:20250603T094844Z
UID:10011492-1753974000-1753979400@crocoule.org
SUMMARY:Usson-en Forez  | Opération sabotage
DESCRIPTION:Vous êtes résistants pendant la\nSeconde Guerre Mondiale. Les\nAllemands arrivent à\nUsson-en-Forez et vous devez\nsauver votre village. Votre\nobjectif : saboter le bon pont\npour les ralentir. Bonne chance\nsoldat ! \n\n\n	Similaire
URL:https://crocoule.org/notre-evenement/usson-en-forez-operation-sabotage-3/
LOCATION:Usson-en-Forez
CATEGORIES:08 ans +,Tous les événements
END:VEVENT
BEGIN:VEVENT
DTSTART;TZID=Europe/Paris:20250730T143000
DTEND;TZID=Europe/Paris:20250730T160000
DTSTAMP:20260421T135933
CREATED:20250603T094752Z
LAST-MODIFIED:20250603T094752Z
UID:10011485-1753885800-1753891200@crocoule.org
SUMMARY:Chalmazel-Jeansagnière | Recherche vaches désespérément
DESCRIPTION:La famille Duchaume a perdu\nses vaches ! Aidez Pierrette à\nreconstituer son troupeau à\ntravers une série de jeux qui\nvous mèneront à la découverte\nde la vie d’autrefois. \n\n\n	Similaire
URL:https://crocoule.org/notre-evenement/chalmazel-jeansagniere-recherche-vaches-desesperement-2/
LOCATION:bourg de Chalmazel\, Chalmazel-Jeansagnière\, 42920\, France
CATEGORIES:04 ans +,Tous les événements
END:VEVENT
END:VCALENDAR