BEGIN:VCALENDAR
VERSION:2.0
PRODID:-//Crocoule - ECPv6.15.15//NONSGML v1.0//EN
CALSCALE:GREGORIAN
METHOD:PUBLISH
X-ORIGINAL-URL:https://crocoule.org
X-WR-CALDESC:Évènements pour Crocoule
REFRESH-INTERVAL;VALUE=DURATION:PT1H
X-Robots-Tag:noindex
X-PUBLISHED-TTL:PT1H
BEGIN:VTIMEZONE
TZID:Europe/Paris
BEGIN:DAYLIGHT
TZOFFSETFROM:+0100
TZOFFSETTO:+0200
TZNAME:CEST
DTSTART:20230326T010000
END:DAYLIGHT
BEGIN:STANDARD
TZOFFSETFROM:+0200
TZOFFSETTO:+0100
TZNAME:CET
DTSTART:20231029T010000
END:STANDARD
BEGIN:DAYLIGHT
TZOFFSETFROM:+0100
TZOFFSETTO:+0200
TZNAME:CEST
DTSTART:20240331T010000
END:DAYLIGHT
BEGIN:STANDARD
TZOFFSETFROM:+0200
TZOFFSETTO:+0100
TZNAME:CET
DTSTART:20241027T010000
END:STANDARD
BEGIN:DAYLIGHT
TZOFFSETFROM:+0100
TZOFFSETTO:+0200
TZNAME:CEST
DTSTART:20250330T010000
END:DAYLIGHT
BEGIN:STANDARD
TZOFFSETFROM:+0200
TZOFFSETTO:+0100
TZNAME:CET
DTSTART:20251026T010000
END:STANDARD
BEGIN:DAYLIGHT
TZOFFSETFROM:+0100
TZOFFSETTO:+0200
TZNAME:CEST
DTSTART:20260329T010000
END:DAYLIGHT
BEGIN:STANDARD
TZOFFSETFROM:+0200
TZOFFSETTO:+0100
TZNAME:CET
DTSTART:20261025T010000
END:STANDARD
END:VTIMEZONE
BEGIN:VEVENT
DTSTART;TZID=Europe/Paris:20250805T140000
DTEND;TZID=Europe/Paris:20250805T160000
DTSTAMP:20260421T193610
CREATED:20250603T095159Z
LAST-MODIFIED:20250603T095159Z
UID:10011557-1754402400-1754409600@crocoule.org
SUMMARY:Graix | Bougez dans le Pilat - Sortie Forest Game
DESCRIPTION:Réflexion et action au cœur de la forêt avec des épreuves ludiques\, techniques et tactiques accompagnées d’énigmes à résoudre. Sortie encadree. Plein tarif : 15 € (à partir de 12 ans)\, Tarif réduit : 10 € (pour les moins de 12 ans). \n\n\n	Similaire
URL:https://crocoule.org/notre-evenement/graix-bougez-dans-le-pilat-sortie-forest-game-2/
LOCATION:Graix
CATEGORIES:08 ans +,Tous les événements
END:VEVENT
BEGIN:VEVENT
DTSTART;TZID=Europe/Paris:20250731T143000
DTEND;TZID=Europe/Paris:20250731T163000
DTSTAMP:20260421T193610
CREATED:20250603T095158Z
LAST-MODIFIED:20250603T095158Z
UID:10011556-1753972200-1753979400@crocoule.org
SUMMARY:Le Bessat | Bougez dans le Pilat - Sortie Biathlon laser
DESCRIPTION:Challenge ludique et convivial combinant course d’orientation (chasse aux balises) et précision de tir grâce à une carabine laser. Sortie encadrée. Plein tarif : 15 € (à partir de 12 ans)\, Tarif réduit : 10 € (pour les moins de 12 ans). \n\n\n	Similaire
URL:https://crocoule.org/notre-evenement/le-bessat-bougez-dans-le-pilat-sortie-biathlon-laser/
LOCATION:Le Tremplin\, Le Bessat\, 42660\, France
CATEGORIES:10 ans +,Tous les événements
END:VEVENT
BEGIN:VEVENT
DTSTART;TZID=Europe/Paris:20250730T140000
DTEND;TZID=Europe/Paris:20250730T160000
DTSTAMP:20260421T193610
CREATED:20250603T095157Z
LAST-MODIFIED:20250603T095157Z
UID:10011555-1753884000-1753891200@crocoule.org
SUMMARY:Le Bessat | Bougez dans le Pilat - Sortie Orientation
DESCRIPTION:Apprendre à se servir d’une carte spécifique pour partir à la recherche de balises (difficulté adaptée aux participants). Sortie encadrée. Plein tarif : 10 € (à partir de 12 ans)\, Tarif réduit : 5 € (pour les moins de 12 ans). \n\n\n	Similaire
URL:https://crocoule.org/notre-evenement/le-bessat-bougez-dans-le-pilat-sortie-orientation/
LOCATION:Le Tremplin\, Le Bessat\, 42660\, France
CATEGORIES:06 ans +,Tous les événements
END:VEVENT
BEGIN:VEVENT
DTSTART;TZID=Europe/Paris:20250730T133000
DTEND;TZID=Europe/Paris:20250730T153000
DTSTAMP:20260421T193610
CREATED:20250603T095157Z
LAST-MODIFIED:20250603T095157Z
UID:10011554-1753882200-1753889400@crocoule.org
SUMMARY:Saint-Pierre-de-Boeuf | Bougez dans le Pilat - Sortie Rafting
DESCRIPTION:Sur la rivière artificielle de l’espace eaux vives\, venez pratiquer le raft à bord d’une embarcation gonflable maniée à la pagaie par plusieurs équipiers. Sensations garanties. Sortie encadrée. Savoir nager. Plein tarif : 20 € (à partir de 12 ans)\, Tarif réduit : 10 € (pour les moins de 12 ans). \n\n\n	Similaire
URL:https://crocoule.org/notre-evenement/saint-pierre-de-boeuf-bougez-dans-le-pilat-sortie-rafting-4/
LOCATION:Espace eaux vives\, Avenue du Rhône\, Saint-Pierre-de-Bœuf\, 42520\, France
CATEGORIES:08 ans +,Tous les événements
END:VEVENT
BEGIN:VEVENT
DTSTART;TZID=Europe/Paris:20250728T133000
DTEND;TZID=Europe/Paris:20250728T153000
DTSTAMP:20260421T193610
CREATED:20250603T095149Z
LAST-MODIFIED:20250603T095149Z
UID:10011553-1753709400-1753716600@crocoule.org
SUMMARY:Saint-Pierre-de-Boeuf | Bougez dans le Pilat - Sortie Paddle
DESCRIPTION:Sur le plan d’eau venez vous initier au paddle. Sortie encadrée. Savoir nager. Plein tarif : 20 € (à partir de 12 ans)\, Tarif réduit : 10 € (pour les moins de 12 ans). \n\n\n	Similaire
URL:https://crocoule.org/notre-evenement/saint-pierre-de-boeuf-bougez-dans-le-pilat-sortie-paddle-2/
LOCATION:Espace eaux vives\, Avenue du Rhône\, Saint-Pierre-de-Bœuf\, 42520\, France
END:VEVENT
BEGIN:VEVENT
DTSTART;TZID=Europe/Paris:20250724T140000
DTEND;TZID=Europe/Paris:20250724T170000
DTSTAMP:20260421T193610
CREATED:20250603T095148Z
LAST-MODIFIED:20250603T095148Z
UID:10011552-1753365600-1753376400@crocoule.org
SUMMARY:Maclas | Bougez dans le Pilat - Sortie Trottinette de descente
DESCRIPTION:Dévalez les pentes du Pilat à bord d’une trottinette de descente tout terrain. Sortie encadrée. Plein tarif : 20 € (à partir de 12 ans)\, Tarif réduit : 10 € (pour les moins de 12 ans). \n\n\n	Similaire
URL:https://crocoule.org/notre-evenement/maclas-bougez-dans-le-pilat-sortie-trottinette-de-descente/
END:VEVENT
BEGIN:VEVENT
DTSTART;TZID=Europe/Paris:20250723T140000
DTEND;TZID=Europe/Paris:20250723T163000
DTSTAMP:20260421T193610
CREATED:20250603T095147Z
LAST-MODIFIED:20250603T095147Z
UID:10011551-1753279200-1753288200@crocoule.org
SUMMARY:Pélussin | Bougez dans le Pilat - Sortie Grimpe d'arbres
DESCRIPTION:Découverte des arbres\, apprentissage écologique et sensations verticales au programme de cette randonnée arboricole respectueuse de l’environnement. Sortie encadrée. Plein tarif : 20 € (à partir de 12 ans)\, Tarif réduit : 10 € (pour les moins de 12 ans). \n\n\n	Similaire
URL:https://crocoule.org/notre-evenement/pelussin-bougez-dans-le-pilat-sortie-grimpe-darbres-2/
LOCATION:Collet de Doizieux\, Doizieux\, France
END:VEVENT
BEGIN:VEVENT
DTSTART;TZID=Europe/Paris:20250722T133000
DTEND;TZID=Europe/Paris:20250722T153000
DTSTAMP:20260421T193610
CREATED:20250603T095147Z
LAST-MODIFIED:20250603T095147Z
UID:10011550-1753191000-1753198200@crocoule.org
SUMMARY:Saint-Pierre-de-Boeuf | Bougez dans le Pilat - Sortie Paddle
DESCRIPTION:Sur le plan d’eau venez vous initier au paddle. Sortie encadrée. Savoir nager. Plein tarif : 20 € (à partir de 12 ans)\, Tarif réduit : 10 € (pour les moins de 12 ans). \n\n\n	Similaire
URL:https://crocoule.org/notre-evenement/saint-pierre-de-boeuf-bougez-dans-le-pilat-sortie-paddle/
LOCATION:Espace eaux vives\, Avenue du Rhône\, Saint-Pierre-de-Bœuf\, 42520\, France
END:VEVENT
BEGIN:VEVENT
DTSTART;TZID=Europe/Paris:20250721T133000
DTEND;TZID=Europe/Paris:20250721T153000
DTSTAMP:20260421T193610
CREATED:20250603T095146Z
LAST-MODIFIED:20250603T095146Z
UID:10011549-1753104600-1753111800@crocoule.org
SUMMARY:Saint-Pierre-de-Boeuf | Bougez dans le Pilat - Sortie Rafting
DESCRIPTION:Sur la rivière artificielle de l’espace eaux vives\, venez pratiquer le raft à bord d’une embarcation gonflable maniée à la pagaie par plusieurs équipiers. Sensations garanties. Sortie encadrée. Savoir nager. Plein tarif : 20 € (à partir de 12 ans)\, Tarif réduit : 10 € (pour les moins de 12 ans). \n\n\n	Similaire
URL:https://crocoule.org/notre-evenement/saint-pierre-de-boeuf-bougez-dans-le-pilat-sortie-rafting-3/
LOCATION:Espace eaux vives\, Avenue du Rhône\, Saint-Pierre-de-Bœuf\, 42520\, France
END:VEVENT
BEGIN:VEVENT
DTSTART;TZID=Europe/Paris:20250717T140000
DTEND;TZID=Europe/Paris:20250717T160000
DTSTAMP:20260421T193610
CREATED:20250603T095133Z
LAST-MODIFIED:20250603T095133Z
UID:10011548-1752760800-1752768000@crocoule.org
SUMMARY:Le Bessat | Bougez dans le Pilat - Balade pieds-nus
DESCRIPTION:Nouveauté de Trottnature : une balade pieds-nus pour un maximum de découverte et de sensations. Sortie encadrée. Plein tarif : 10 € (à partir de 12 ans)\, Tarif réduit : 5 € (pour les moins de 12 ans). \n\n\n	Similaire
URL:https://crocoule.org/notre-evenement/le-bessat-bougez-dans-le-pilat-balade-pieds-nus/
LOCATION:Croix de Chaubouret\, Le Bessat\, France
CATEGORIES:06 ans +,Tous les événements
END:VEVENT
BEGIN:VEVENT
DTSTART;TZID=Europe/Paris:20250716T100000
DTEND;TZID=Europe/Paris:20250716T120000
DTSTAMP:20260421T193610
CREATED:20250603T095133Z
LAST-MODIFIED:20250603T095133Z
UID:10011547-1752660000-1752667200@crocoule.org
SUMMARY:Saint-Pierre-de-Boeuf | Bougez dans le Pilat - Sortie Rafting
DESCRIPTION:Sur la rivière artificielle de l’espace eaux vives\, venez pratiquer le raft à bord d’une embarcation gonflable maniée à la pagaie par plusieurs équipiers. Sensations garanties. Sortie encadrée. Savoir nager. Plein tarif : 20 € (à partir de 12 ans)\, Tarif réduit : 10 € (pour les moins de 12 ans). \n\n\n	Similaire
URL:https://crocoule.org/notre-evenement/saint-pierre-de-boeuf-bougez-dans-le-pilat-sortie-rafting-2/
LOCATION:Espace eaux vives\, Avenue du Rhône\, Saint-Pierre-de-Bœuf\, 42520\, France
CATEGORIES:08 ans +,Tous les événements
END:VEVENT
BEGIN:VEVENT
DTSTART;TZID=Europe/Paris:20250715T140000
DTEND;TZID=Europe/Paris:20250715T160000
DTSTAMP:20260421T193610
CREATED:20250603T095132Z
LAST-MODIFIED:20250603T095132Z
UID:10011546-1752588000-1752595200@crocoule.org
SUMMARY:Graix | Bougez dans le Pilat - Sortie Forest Game
DESCRIPTION:Réflexion et action au cœur de la forêt avec des épreuves ludiques\, techniques et tactiques accompagnées d’énigmes à résoudre. Sortie encadree. Plein tarif : 15 € (à partir de 12 ans)\, Tarif réduit : 10 € (pour les moins de 12 ans). \n\n\n	Similaire
URL:https://crocoule.org/notre-evenement/graix-bougez-dans-le-pilat-sortie-forest-game/
LOCATION:Graix
CATEGORIES:08 ans +,Tous les événements
END:VEVENT
BEGIN:VEVENT
DTSTART;TZID=Europe/Paris:20250710T090000
DTEND;TZID=Europe/Paris:20250710T120000
DTSTAMP:20260421T193610
CREATED:20250603T095131Z
LAST-MODIFIED:20250603T095131Z
UID:10011545-1752138000-1752148800@crocoule.org
SUMMARY:Planfoy | Bougez dans le Pilat - Sortie Via Ferrata
DESCRIPTION:Grimpe sur rocher sécurisé par une ligne de vie (câble) et équipé d’un agrès mixte avec balançoires\,sauts de puces… Sortie encadrée. Adultes et enfants à partir de 1m10. Parcours ados adulte proposé l’après-midi (à partir de 1m40). Plein tarif : 30 € (à partir de 12 ans)\, Tarif réduit : 15 € (pour les moins de 12 ans). \n\n\n	Similaire
URL:https://crocoule.org/notre-evenement/planfoy-bougez-dans-le-pilat-sortie-via-ferrata/
LOCATION:Planfoy
CATEGORIES:06 ans +,Tous les événements
END:VEVENT
BEGIN:VEVENT
DTSTART;TZID=Europe/Paris:20250708T133000
DTEND;TZID=Europe/Paris:20250708T153000
DTSTAMP:20260421T193610
CREATED:20250603T095130Z
LAST-MODIFIED:20250603T095130Z
UID:10011544-1751981400-1751988600@crocoule.org
SUMMARY:Saint-Pierre-de-Boeuf | Bougez dans le Pilat - Sortie Rafting
DESCRIPTION:Sur la rivière artificielle de l’espace eaux vives\, venez pratiquer le raft à bord d’une embarcation gonflable maniée à la pagaie par plusieurs équipiers. Sensations garanties. Sortie encadrée. Savoir nager. Plein tarif : 20 € (à partir de 12 ans)\, Tarif réduit : 10 € (pour les moins de 12 ans). \n\n\n	Similaire
URL:https://crocoule.org/notre-evenement/saint-pierre-de-boeuf-bougez-dans-le-pilat-sortie-rafting/
LOCATION:Espace eaux vives\, Avenue du Rhône\, Saint-Pierre-de-Bœuf\, 42520\, France
CATEGORIES:08 ans +,Tous les événements
END:VEVENT
BEGIN:VEVENT
DTSTART;TZID=Europe/Paris:20250307T140000
DTEND;TZID=Europe/Paris:20250307T160000
DTSTAMP:20260421T193610
CREATED:20241220T144008Z
LAST-MODIFIED:20241220T144008Z
UID:10010312-1741356000-1741363200@crocoule.org
SUMMARY:Saint-Régis-du-Coin | Cani-randonnée
DESCRIPTION:Équipés d’une ceinture autour de la taille\, partez pour une balade pédestre originale en compagnie des chiens nordiques. Participation d’une personne majeure obligatoire pour accompagner les enfants. Renseignements au 04 77 51 23 84 ou 04 77 39 63 49. \n\n\n	Similaire
URL:https://crocoule.org/notre-evenement/saint-regis-du-coin-cani-randonnee-3/
CATEGORIES:08 ans +,Tous les événements
END:VEVENT
BEGIN:VEVENT
DTSTART;TZID=Europe/Paris:20250306T140000
DTEND;TZID=Europe/Paris:20250306T160000
DTSTAMP:20260421T193610
CREATED:20241220T143953Z
LAST-MODIFIED:20241220T143953Z
UID:10010311-1741269600-1741276800@crocoule.org
SUMMARY:Le Bessat | Biathlon laser
DESCRIPTION:Challenge ludique mêlant course d’orientation et carabine laser. Participation d’une personne majeure obligatoire pour accompagner les enfants. Renseignements au 04 77 51 23 84 ou 04 77 39 63 49. \n\n\n	Similaire
URL:https://crocoule.org/notre-evenement/le-bessat-biathlon-laser-3/
CATEGORIES:10 ans +,Tous les événements
ATTACH;FMTTYPE=image/jpeg:https://crocoule.org/wp-content/uploads/2024/12/image-nRBDUR.tmp_.jpg
END:VEVENT
BEGIN:VEVENT
DTSTART;TZID=Europe/Paris:20250305T143000
DTEND;TZID=Europe/Paris:20250305T160000
DTSTAMP:20260421T193610
CREATED:20241220T143952Z
LAST-MODIFIED:20241220T143952Z
UID:10010310-1741185000-1741190400@crocoule.org
SUMMARY:Le Bessat | Jardin d'hiver Enfants
DESCRIPTION:Atelier ludique autour du ski de fond classique (matériel non fourni). En cas d’absence de neige\, animation autour de la découverte de la nature. Pour enfants de 5 à 12 ans. Renseignements au 04 77 51 23 84 ou 04 77 39 63 50 \n\n\n	Similaire
URL:https://crocoule.org/notre-evenement/le-bessat-jardin-dhiver-enfants-10/
CATEGORIES:05 ans +,06 ans +,07 ans +,08 ans +,09 ans +,10 ans +,11 ans +,Exterieur,Tous les événements
ATTACH;FMTTYPE=image/jpeg:https://crocoule.org/wp-content/uploads/2024/12/image-6fIzr8.tmp_.jpg
END:VEVENT
BEGIN:VEVENT
DTSTART;TZID=Europe/Paris:20250228T140000
DTEND;TZID=Europe/Paris:20250228T160000
DTSTAMP:20260421T193610
CREATED:20241220T143951Z
LAST-MODIFIED:20241220T143951Z
UID:10010309-1740751200-1740758400@crocoule.org
SUMMARY:Saint-Régis-du-Coin | Cani-randonnée
DESCRIPTION:Équipés d’une ceinture autour de la taille\, partez pour une balade pédestre originale en compagnie des chiens nordiques. Participation d’une personne majeure obligatoire pour accompagner les enfants. Renseignements au 04 77 51 23 84 ou 04 77 39 63 49. \n\n\n	Similaire
URL:https://crocoule.org/notre-evenement/saint-regis-du-coin-cani-randonnee-2/
CATEGORIES:08 ans +,Tous les événements
ATTACH;FMTTYPE=image/jpeg:https://crocoule.org/wp-content/uploads/2024/12/image-6fIzr8.tmp_.jpg
END:VEVENT
BEGIN:VEVENT
DTSTART;TZID=Europe/Paris:20250227T140000
DTEND;TZID=Europe/Paris:20250227T160000
DTSTAMP:20260421T193610
CREATED:20241220T143950Z
LAST-MODIFIED:20241220T143950Z
UID:10010308-1740664800-1740672000@crocoule.org
SUMMARY:Le Bessat | Biathlon laser
DESCRIPTION:Challenge ludique mêlant course d’orientation et carabine laser. Participation d’une personne majeure obligatoire pour accompagner les enfants. Renseignements au 04 77 51 23 84 ou 04 77 39 63 49. \n\n\n	Similaire
URL:https://crocoule.org/notre-evenement/le-bessat-biathlon-laser-2/
CATEGORIES:10 ans +,Tous les événements
ATTACH;FMTTYPE=image/jpeg:https://crocoule.org/wp-content/uploads/2024/12/image-nRBDUR.tmp_.jpg
END:VEVENT
BEGIN:VEVENT
DTSTART;TZID=Europe/Paris:20250226T143000
DTEND;TZID=Europe/Paris:20250226T160000
DTSTAMP:20260421T193610
CREATED:20241220T143948Z
LAST-MODIFIED:20241220T143948Z
UID:10010307-1740580200-1740585600@crocoule.org
SUMMARY:Le Bessat | Jardin d'hiver enfants
DESCRIPTION:Atelier ludique autour du ski de fond classique (matériel non fourni). En cas d’absence de neige\, animation autour de la découverte de la nature. Pour enfants de 5 à 12 ans. Renseignements au 04 77 51 23 84 ou 04 77 39 63 50 \n\n\n	Similaire
URL:https://crocoule.org/notre-evenement/le-bessat-jardin-dhiver-enfants-9/
CATEGORIES:05 ans +,06 ans +,07 ans +,08 ans +,09 ans +,10 ans +,11 ans +,Exterieur,Tous les événements
ATTACH;FMTTYPE=image/jpeg:https://crocoule.org/wp-content/uploads/2024/12/image-6fIzr8.tmp_.jpg
END:VEVENT
BEGIN:VEVENT
DTSTART;TZID=Europe/Paris:20250216T103000
DTEND;TZID=Europe/Paris:20250216T120000
DTSTAMP:20260421T193610
CREATED:20241220T143937Z
LAST-MODIFIED:20241220T143937Z
UID:10010306-1739701800-1739707200@crocoule.org
SUMMARY:Le Bessat | Jardin d'hiver enfants
DESCRIPTION:Atelier ludique autour du ski de fond classique (matériel non fourni). En cas d’absence de neige\, animation autour de la découverte de la nature. Pour enfants de 5 à 12 ans. Renseignements au 04 77 51 23 84 ou 04 77 39 63 50 \n\n\n	Similaire
URL:https://crocoule.org/notre-evenement/le-bessat-jardin-dhiver-enfants-8/
CATEGORIES:05 ans +,06 ans +,07 ans +,08 ans +,09 ans +,10 ans +,11 ans +,Exterieur,Tous les événements
ATTACH;FMTTYPE=image/jpeg:https://crocoule.org/wp-content/uploads/2024/12/image-6fIzr8.tmp_.jpg
END:VEVENT
BEGIN:VEVENT
DTSTART;TZID=Europe/Paris:20250209T103000
DTEND;TZID=Europe/Paris:20250209T120000
DTSTAMP:20260421T193610
CREATED:20241220T143936Z
LAST-MODIFIED:20241220T143936Z
UID:10010305-1739097000-1739102400@crocoule.org
SUMMARY:Le Bessat | Jardin d'hiver enfants
DESCRIPTION:Atelier ludique autour du ski de fond classique (matériel non fourni). En cas d’absence de neige\, animation autour de la découverte de la nature. Pour enfants de 5 à 12 ans. Renseignements au 04 77 51 23 84 ou 04 77 39 63 50 \n\n\n	Similaire
URL:https://crocoule.org/notre-evenement/le-bessat-jardin-dhiver-enfants-7/
CATEGORIES:05 ans +,06 ans +,07 ans +,08 ans +,09 ans +,10 ans +,11 ans +,Exterieur,Tous les événements
ATTACH;FMTTYPE=image/jpeg:https://crocoule.org/wp-content/uploads/2024/12/image-6fIzr8.tmp_.jpg
END:VEVENT
BEGIN:VEVENT
DTSTART;TZID=Europe/Paris:20250202T103000
DTEND;TZID=Europe/Paris:20250202T120000
DTSTAMP:20260421T193610
CREATED:20241220T143935Z
LAST-MODIFIED:20241220T143935Z
UID:10010304-1738492200-1738497600@crocoule.org
SUMMARY:Le Bessat | Jardin d'hiver enfants
DESCRIPTION:Atelier ludique autour du ski de fond classique (matériel non fourni). En cas d’absence de neige\, animation autour de la découverte de la nature. Pour enfants de 5 à 12 ans. Renseignements au 04 77 51 23 84 ou 04 77 39 63 50 \n\n\n	Similaire
URL:https://crocoule.org/notre-evenement/le-bessat-jardin-dhiver-enfants-6/
CATEGORIES:05 ans +,06 ans +,07 ans +,08 ans +,09 ans +,10 ans +,11 ans +,Exterieur,Tous les événements
ATTACH;FMTTYPE=image/jpeg:https://crocoule.org/wp-content/uploads/2024/12/image-6fIzr8.tmp_.jpg
END:VEVENT
BEGIN:VEVENT
DTSTART;TZID=Europe/Paris:20250126T103000
DTEND;TZID=Europe/Paris:20250126T120000
DTSTAMP:20260421T193610
CREATED:20241220T143934Z
LAST-MODIFIED:20241220T143934Z
UID:10010303-1737887400-1737892800@crocoule.org
SUMMARY:Le Bessat | Jardin d'hiver enfants
DESCRIPTION:Atelier ludique autour du ski de fond classique (matériel non fourni). En cas d’absence de neige\, animation autour de la découverte de la nature. Pour enfants de 5 à 12 ans. Renseignements au 04 77 51 23 84 ou 04 77 39 63 50 \n\n\n	Similaire
URL:https://crocoule.org/notre-evenement/le-bessat-jardin-dhiver-enfants-5/
CATEGORIES:05 ans +,06 ans +,07 ans +,08 ans +,09 ans +,10 ans +,11 ans +,Exterieur,Tous les événements
ATTACH;FMTTYPE=image/jpeg:https://crocoule.org/wp-content/uploads/2024/12/image-6fIzr8.tmp_.jpg
END:VEVENT
BEGIN:VEVENT
DTSTART;TZID=Europe/Paris:20250119T103000
DTEND;TZID=Europe/Paris:20250119T120000
DTSTAMP:20260421T193610
CREATED:20241220T143933Z
LAST-MODIFIED:20241220T143933Z
UID:10010302-1737282600-1737288000@crocoule.org
SUMMARY:Le Bessat | Jardin d'hiver enfants
DESCRIPTION:Atelier ludique autour du ski de fond classique (matériel non fourni). En cas d’absence de neige\, animation autour de la découverte de la nature. Pour enfants de 5 à 12 ans. Renseignements au 04 77 51 23 84 ou 04 77 39 63 50 \n\n\n	Similaire
URL:https://crocoule.org/notre-evenement/le-bessat-jardin-dhiver-enfants-4/
CATEGORIES:05 ans +,06 ans +,07 ans +,08 ans +,09 ans +,10 ans +,11 ans +,Exterieur,Tous les événements
ATTACH;FMTTYPE=image/jpeg:https://crocoule.org/wp-content/uploads/2024/12/image-6fIzr8.tmp_.jpg
END:VEVENT
BEGIN:VEVENT
DTSTART;TZID=Europe/Paris:20250112T103000
DTEND;TZID=Europe/Paris:20250112T120000
DTSTAMP:20260421T193610
CREATED:20241220T143930Z
LAST-MODIFIED:20241220T143930Z
UID:10010301-1736677800-1736683200@crocoule.org
SUMMARY:Le Bessat | Jardin d'hiver enfants
DESCRIPTION:Atelier ludique autour du ski de fond classique (matériel non fourni). En cas d’absence de neige\, animation autour de la découverte de la nature. Pour enfants de 5 à 12 ans. Renseignements au 04 77 51 23 84 ou 04 77 39 63 50 \n\n\n	Similaire
URL:https://crocoule.org/notre-evenement/le-bessat-jardin-dhiver-enfants-3/
CATEGORIES:05 ans +,06 ans +,07 ans +,08 ans +,09 ans +,10 ans +,11 ans +,12 ans +,Exterieur,Tous les événements
ATTACH;FMTTYPE=image/jpeg:https://crocoule.org/wp-content/uploads/2024/12/image-6fIzr8.tmp_.jpg
END:VEVENT
BEGIN:VEVENT
DTSTART;TZID=Europe/Paris:20250103T143000
DTEND;TZID=Europe/Paris:20250103T160000
DTSTAMP:20260421T193610
CREATED:20241220T143929Z
LAST-MODIFIED:20241220T143929Z
UID:10010300-1735914600-1735920000@crocoule.org
SUMMARY:Le Bessat | Jardin d'hiver enfants
DESCRIPTION:Atelier ludique autour du ski de fond classique (matériel non fourni). En cas d’absence de neige\, animation autour de la découverte de la nature. Pour enfants de 5 à 12 ans. Renseignements au 04 77 51 23 84 ou 04 77 39 63 50 \n\n\n	Similaire
URL:https://crocoule.org/notre-evenement/le-bessat-jardin-dhiver-enfants-2/
CATEGORIES:05 ans +,06 ans +,07 ans +,08 ans +,09 ans +,10 ans +,11 ans +,12 ans +,Exterieur,Tous les événements
ATTACH;FMTTYPE=image/jpeg:https://crocoule.org/wp-content/uploads/2024/12/image-6fIzr8.tmp_.jpg
END:VEVENT
BEGIN:VEVENT
DTSTART;TZID=Europe/Paris:20241230T140000
DTEND;TZID=Europe/Paris:20241230T160000
DTSTAMP:20260421T193610
CREATED:20241220T143927Z
LAST-MODIFIED:20241220T143927Z
UID:10010298-1735567200-1735574400@crocoule.org
SUMMARY:Le Bessat | Biathlon laser
DESCRIPTION:Challenge ludique mêlant course d’orientation et carabine laser. Participation d’une personne majeure obligatoire pour accompagner les enfants. Renseignements au 04 77 51 23 84 ou 04 77 39 63 49. \n\n\n	Similaire
URL:https://crocoule.org/notre-evenement/le-bessat-biathlon-laser/
CATEGORIES:10 ans +,Tous les événements
ATTACH;FMTTYPE=image/jpeg:https://crocoule.org/wp-content/uploads/2024/12/image-nRBDUR.tmp_.jpg
END:VEVENT
BEGIN:VEVENT
DTSTART;TZID=Europe/Paris:20241227T143000
DTEND;TZID=Europe/Paris:20241227T160000
DTSTAMP:20260421T193610
CREATED:20241220T143926Z
LAST-MODIFIED:20241220T143926Z
UID:10010297-1735309800-1735315200@crocoule.org
SUMMARY:Le Bessat | Jardin d'hiver enfants
DESCRIPTION:Atelier ludique autour du ski de fond classique (matériel non fourni). En cas d’absence de neige\, animation autour de la découverte de la nature. Pour enfants de 5 à 12 ans. Renseignements au 04 77 51 23 84 ou 04 77 39 63 50 \n\n\n	Similaire
URL:https://crocoule.org/notre-evenement/le-bessat-jardin-dhiver-enfants/
CATEGORIES:Jeune Public,Tous les événements
END:VEVENT
BEGIN:VEVENT
DTSTART;TZID=Europe/Paris:20240102T140000
DTEND;TZID=Europe/Paris:20240102T160000
DTSTAMP:20260421T193610
CREATED:20241220T143928Z
LAST-MODIFIED:20241220T143928Z
UID:10010299-1704204000-1704211200@crocoule.org
SUMMARY:Saint-Régis-du-Coin | Cani-randonnée
DESCRIPTION:Équipés d’une ceinture autour de la taille\, partez pour une balade pédestre originale en compagnie des chiens nordiques. Participation d’une personne majeure obligatoire pour accompagner les enfants. Renseignements au 04 77 51 23 84 ou 04 77 39 63 49. \n\n\n	Similaire
URL:https://crocoule.org/notre-evenement/saint-regis-du-coin-cani-randonnee/
CATEGORIES:08 ans +,Tous les événements
END:VEVENT
END:VCALENDAR