BEGIN:VCALENDAR
VERSION:2.0
PRODID:-//Crocoule - ECPv6.15.15//NONSGML v1.0//EN
CALSCALE:GREGORIAN
METHOD:PUBLISH
X-WR-CALNAME:Crocoule
X-ORIGINAL-URL:https://crocoule.org
X-WR-CALDESC:Évènements pour Crocoule
REFRESH-INTERVAL;VALUE=DURATION:PT1H
X-Robots-Tag:noindex
X-PUBLISHED-TTL:PT1H
BEGIN:VTIMEZONE
TZID:Europe/Paris
BEGIN:DAYLIGHT
TZOFFSETFROM:+0100
TZOFFSETTO:+0200
TZNAME:CEST
DTSTART:20240331T010000
END:DAYLIGHT
BEGIN:STANDARD
TZOFFSETFROM:+0200
TZOFFSETTO:+0100
TZNAME:CET
DTSTART:20241027T010000
END:STANDARD
BEGIN:DAYLIGHT
TZOFFSETFROM:+0100
TZOFFSETTO:+0200
TZNAME:CEST
DTSTART:20250330T010000
END:DAYLIGHT
BEGIN:STANDARD
TZOFFSETFROM:+0200
TZOFFSETTO:+0100
TZNAME:CET
DTSTART:20251026T010000
END:STANDARD
BEGIN:DAYLIGHT
TZOFFSETFROM:+0100
TZOFFSETTO:+0200
TZNAME:CEST
DTSTART:20260329T010000
END:DAYLIGHT
BEGIN:STANDARD
TZOFFSETFROM:+0200
TZOFFSETTO:+0100
TZNAME:CET
DTSTART:20261025T010000
END:STANDARD
BEGIN:DAYLIGHT
TZOFFSETFROM:+0100
TZOFFSETTO:+0200
TZNAME:CEST
DTSTART:20270328T010000
END:DAYLIGHT
BEGIN:STANDARD
TZOFFSETFROM:+0200
TZOFFSETTO:+0100
TZNAME:CET
DTSTART:20271031T010000
END:STANDARD
END:VTIMEZONE
BEGIN:VEVENT
DTSTART;TZID=Europe/Paris:20260416T143000
DTEND;TZID=Europe/Paris:20260416T160000
DTSTAMP:20260419T210327
CREATED:20260302T095722Z
LAST-MODIFIED:20260302T095722Z
UID:10013183-1776349800-1776355200@crocoule.org
SUMMARY:Bussières | Création d'attrape-rêves\, spéciale Pâques
DESCRIPTION:Apprends à créer ton propre attrape-rêves à partir de décorations textiles sur le thème de Pâques ! \n\n\n	Similaire
URL:https://crocoule.org/notre-evenement/bussieres-creation-dattrape-reves-speciale-paques/
CATEGORIES:03 ans +,Activité pendant les vacances,Intérieur,Jeune Public,Tous les événements
END:VEVENT
BEGIN:VEVENT
DTSTART;TZID=Europe/Paris:20260410T143000
DTEND;TZID=Europe/Paris:20260410T163000
DTSTAMP:20260419T210327
CREATED:20260302T095721Z
LAST-MODIFIED:20260302T095721Z
UID:10013182-1775831400-1775838600@crocoule.org
SUMMARY:Bussières | Cont'ines en boîte
DESCRIPTION:Reproduis des scènes de contes de notre enfance à partir de morceaux de tissus et de petites figurines ! Atelier proposé par la Ludothèque de Forez-Est. Possibilité de profiter de jeux sur place. \n\n\n	Similaire
URL:https://crocoule.org/notre-evenement/bussieres-contines-en-boite-2/
CATEGORIES:05 ans +,Activité pendant les vacances,Intérieur,Tous les événements
END:VEVENT
BEGIN:VEVENT
DTSTART;TZID=Europe/Paris:20260409T143000
DTEND;TZID=Europe/Paris:20260409T160000
DTSTAMP:20260419T210327
CREATED:20260302T095719Z
LAST-MODIFIED:20260302T095719Z
UID:10013180-1775745000-1775750400@crocoule.org
SUMMARY:Bussières | Tableau en tissus : la légende de Xi-Ling-Shi
DESCRIPTION:Connais-tu la Princesse Xi-Ling-Shi ? Il y a très longtemps\, elle a découvert le fil de soie en buvant son thé sous un mûrier blanc… Découvre son histoire et réalise un tableau la représentant\, elle ou différents personnages de sa cour\, à partir de jolis tissus ! \n\n\n	Similaire
URL:https://crocoule.org/notre-evenement/bussieres-tableau-en-tissus-la-legende-de-xi-ling-shi-2/
CATEGORIES:03 ans +,Activité pendant les vacances,Intérieur,Jeune Public,Tous les événements
END:VEVENT
BEGIN:VEVENT
DTSTART;TZID=Europe/Paris:20260408T143000
DTEND;TZID=Europe/Paris:20260408T163000
DTSTAMP:20260419T210327
CREATED:20260302T095720Z
LAST-MODIFIED:20260302T095720Z
UID:10013181-1775658600-1775665800@crocoule.org
SUMMARY:Bussières | Cont'ines en boîte
DESCRIPTION:Reproduis des scènes de contes de notre enfance à partir de morceaux de tissus et de petites figurines ! Atelier proposé par la Ludothèque de Forez-Est. Possibilité de profiter de jeux sur place. \n\n\n	Similaire
URL:https://crocoule.org/notre-evenement/bussieres-contines-en-boite/
CATEGORIES:05 ans +,Activité pendant les vacances,Intérieur,Tous les événements
END:VEVENT
BEGIN:VEVENT
DTSTART;TZID=Europe/Paris:20260407T143000
DTEND;TZID=Europe/Paris:20260407T160000
DTSTAMP:20260419T210327
CREATED:20260302T095717Z
LAST-MODIFIED:20260302T095717Z
UID:10013179-1775572200-1775577600@crocoule.org
SUMMARY:Bussières | Tableau en tissus : la légende de Xi-Ling-Shi
DESCRIPTION:Connais-tu la Princesse Xi-Ling-Shi ? Il y a très longtemps\, elle a découvert le fil de soie en buvant son thé sous un mûrier blanc… Découvre son histoire et réalise un tableau la représentant\, elle ou différents personnages de sa cour\, à partir de jolis tissus ! \n\n\n	Similaire
URL:https://crocoule.org/notre-evenement/bussieres-tableau-en-tissus-la-legende-de-xi-ling-shi/
CATEGORIES:03 ans +,Activité pendant les vacances,Intérieur,Jeune Public,Tous les événements
END:VEVENT
BEGIN:VEVENT
DTSTART;TZID=Europe/Paris:20251021T143000
DTEND;TZID=Europe/Paris:20251021T173000
DTSTAMP:20260419T210327
CREATED:20250826T150449Z
LAST-MODIFIED:20250826T150449Z
UID:10011886-1761057000-1761067800@crocoule.org
SUMMARY:Bussières | La laine s'en mêle !
DESCRIPTION:Réservation obligatoire. Chaque enfant doit être accompagné par au moins un adulte. \n\n\n	Similaire
URL:https://crocoule.org/notre-evenement/bussieres-la-laine-sen-mele-3/
CATEGORIES:05 ans +,Activité pendant les vacances,En famille,Exterieur,Intérieur,Tous les événements
END:VEVENT
BEGIN:VEVENT
DTSTART;TZID=Europe/Paris:20250920T140000
DTEND;TZID=Europe/Paris:20250921T180000
DTSTAMP:20260419T210327
CREATED:20250826T150448Z
LAST-MODIFIED:20250826T150448Z
UID:10011885-1758376800-1758477600@crocoule.org
SUMMARY:Bussières | Journées européennes du patrimoine
DESCRIPTION:Réservation uniquement pour la visite du village et de l’atelier Giraud (15h ou 16h) \n\n\n	Similaire
URL:https://crocoule.org/notre-evenement/bussieres-journees-europeennes-du-patrimoine/
CATEGORIES:Activité du week-end,Expo,Gratuit,Tous les événements,Tout public
ATTACH;FMTTYPE=image/jpeg:https://crocoule.org/wp-content/uploads/2025/08/dabb57_3c993bcff43846d1a308746c2e7203bbmv2-Z8zujJ.jpg
END:VEVENT
BEGIN:VEVENT
DTSTART;TZID=Europe/Paris:20250821T143000
DTEND;TZID=Europe/Paris:20250821T160000
DTSTAMP:20260419T210327
CREATED:20250603T094344Z
LAST-MODIFIED:20250603T094344Z
UID:10011471-1755786600-1755792000@crocoule.org
SUMMARY:Bussières | Du cocon au tissu
DESCRIPTION:Réservation obligatoire \n\n\n	Similaire
URL:https://crocoule.org/notre-evenement/bussieres-du-cocon-au-tissu-3/
CATEGORIES:03 ans +,Activité pendant les vacances,Adultes,Intérieur,Tous les événements
ATTACH;FMTTYPE=image/jpeg:https://crocoule.org/wp-content/uploads/2025/06/Papillon-S0grPU.jpg
END:VEVENT
BEGIN:VEVENT
DTSTART;TZID=Europe/Paris:20250819T143000
DTEND;TZID=Europe/Paris:20250819T160000
DTSTAMP:20260419T210327
CREATED:20250603T094328Z
LAST-MODIFIED:20250603T094338Z
UID:10011466-1755613800-1755619200@crocoule.org
SUMMARY:Bussières | Atelier création d'attrape-rêves
DESCRIPTION:Réservation obligatoire\, gratuit pour les accompagnateurs \n\n\n	Similaire
URL:https://crocoule.org/notre-evenement/bussieres-atelier-creation-dattrape-reves-3/
CATEGORIES:03 ans +,Activité pendant les vacances,Intérieur,Tous les événements
ATTACH;FMTTYPE=image/jpeg:https://crocoule.org/wp-content/uploads/2025/06/PXL_20240808_134428963_edited-FQyaQr.jpg
END:VEVENT
BEGIN:VEVENT
DTSTART;TZID=Europe/Paris:20250807T143000
DTEND;TZID=Europe/Paris:20250807T160000
DTSTAMP:20260419T210327
CREATED:20250603T094332Z
LAST-MODIFIED:20250603T094340Z
UID:10011468-1754577000-1754582400@crocoule.org
SUMMARY:Bussières | Du cocon au tissu
DESCRIPTION:Réservation obligatoire \n\n\n	Similaire
URL:https://crocoule.org/notre-evenement/bussieres-du-cocon-au-tissu-2/
CATEGORIES:03 ans +,Activité pendant les vacances,Adultes,Intérieur,Tous les événements
ATTACH;FMTTYPE=image/jpeg:https://crocoule.org/wp-content/uploads/2025/06/Papillon-S0grPU.jpg
END:VEVENT
BEGIN:VEVENT
DTSTART;TZID=Europe/Paris:20250804T143000
DTEND;TZID=Europe/Paris:20250804T173000
DTSTAMP:20260419T210327
CREATED:20250603T094348Z
LAST-MODIFIED:20250603T094348Z
UID:10011473-1754317800-1754328600@crocoule.org
SUMMARY:Bussières | La laine s'en mêle !
DESCRIPTION:Réservation obligatoire. Chaque enfant doit être accompagné par au moins un adulte. \n\n\n	Similaire
URL:https://crocoule.org/notre-evenement/bussieres-la-laine-sen-mele-2/
CATEGORIES:05 ans +,Activité pendant les vacances,Adultes,Exterieur,Intérieur,Tous les événements
ATTACH;FMTTYPE=image/jpeg:https://crocoule.org/wp-content/uploads/2025/06/PXL_20250304_134759041-6JV3xA.jpg
END:VEVENT
BEGIN:VEVENT
DTSTART;TZID=Europe/Paris:20250724T143000
DTEND;TZID=Europe/Paris:20250724T160000
DTSTAMP:20260419T210327
CREATED:20250603T094336Z
LAST-MODIFIED:20250603T094336Z
UID:10011470-1753367400-1753372800@crocoule.org
SUMMARY:Bussières | Atelier création d'attrape-rêves
DESCRIPTION:Réservation obligatoire\, gratuit pour les accompagnateurs \n\n\n	Similaire
URL:https://crocoule.org/notre-evenement/bussieres-atelier-creation-dattrape-reves-5/
ATTACH;FMTTYPE=image/jpeg:https://crocoule.org/wp-content/uploads/2025/06/PXL_20240808_134428963_edited-FQyaQr.jpg
END:VEVENT
BEGIN:VEVENT
DTSTART;TZID=Europe/Paris:20250724T143000
DTEND;TZID=Europe/Paris:20250724T160000
DTSTAMP:20260419T210327
CREATED:20250603T094327Z
LAST-MODIFIED:20250603T094327Z
UID:10011465-1753367400-1753372800@crocoule.org
SUMMARY:Bussières | Atelier création d'attrape-rêves
DESCRIPTION:Réservation obligatoire\, gratuit pour les accompagnateurs \n\n\n	Similaire
URL:https://crocoule.org/notre-evenement/bussieres-atelier-creation-dattrape-reves-2/
CATEGORIES:03 ans +,Activité pendant les vacances,Intérieur,Tous les événements
ATTACH;FMTTYPE=image/jpeg:https://crocoule.org/wp-content/uploads/2025/06/PXL_20240808_134428963_edited-FQyaQr.jpg
END:VEVENT
BEGIN:VEVENT
DTSTART;TZID=Europe/Paris:20250721T143000
DTEND;TZID=Europe/Paris:20250721T173000
DTSTAMP:20260419T210327
CREATED:20250603T094346Z
LAST-MODIFIED:20250603T094346Z
UID:10011472-1753108200-1753119000@crocoule.org
SUMMARY:Bussières | La laine s'en mêle !
DESCRIPTION:Réservation obligatoire. Chaque enfant doit être accompagné par au moins un adulte. \n\n\n	Similaire
URL:https://crocoule.org/notre-evenement/bussieres-la-laine-sen-mele/
CATEGORIES:05 ans +,Activité pendant les vacances,Adultes,Exterieur,Intérieur,Tous les événements
ATTACH;FMTTYPE=image/jpeg:https://crocoule.org/wp-content/uploads/2025/06/PXL_20250304_134759041-52Ylad.jpg
END:VEVENT
BEGIN:VEVENT
DTSTART;TZID=Europe/Paris:20250716T143000
DTEND;TZID=Europe/Paris:20250716T160000
DTSTAMP:20260419T210327
CREATED:20250603T094330Z
LAST-MODIFIED:20250603T094339Z
UID:10011467-1752676200-1752681600@crocoule.org
SUMMARY:Bussières | Du cocon au tissu
DESCRIPTION:Réservation obligatoire \n\n\n	Similaire
URL:https://crocoule.org/notre-evenement/bussieres-du-cocon-au-tissu/
CATEGORIES:03 ans +,Activité pendant les vacances,Adultes,Intérieur,Tous les événements
ATTACH;FMTTYPE=image/jpeg:https://crocoule.org/wp-content/uploads/2025/06/Papillon-S0grPU.jpg
END:VEVENT
BEGIN:VEVENT
DTSTART;TZID=Europe/Paris:20250710T143000
DTEND;TZID=Europe/Paris:20250710T160000
DTSTAMP:20260419T210327
CREATED:20250603T094334Z
LAST-MODIFIED:20250603T094334Z
UID:10011469-1752157800-1752163200@crocoule.org
SUMMARY:Bussières | Atelier création d'attrape-rêves
DESCRIPTION:Réservation obligatoire\, gratuit pour les accompagnateurs \n\n\n	Similaire
URL:https://crocoule.org/notre-evenement/bussieres-atelier-creation-dattrape-reves-4/
ATTACH;FMTTYPE=image/jpeg:https://crocoule.org/wp-content/uploads/2025/06/PXL_20240808_134428963_edited-FQyaQr.jpg
END:VEVENT
BEGIN:VEVENT
DTSTART;TZID=Europe/Paris:20250710T143000
DTEND;TZID=Europe/Paris:20250710T160000
DTSTAMP:20260419T210327
CREATED:20250603T094325Z
LAST-MODIFIED:20250603T094325Z
UID:10011464-1752157800-1752163200@crocoule.org
SUMMARY:Bussières | Atelier création d'attrape-rêves
DESCRIPTION:Réservation obligatoire\, gratuit pour les accompagnateurs \n\n\n	Similaire
URL:https://crocoule.org/notre-evenement/bussieres-atelier-creation-dattrape-reves/
CATEGORIES:03 ans +,Activité pendant les vacances,Intérieur,Tous les événements
ATTACH;FMTTYPE=image/jpeg:https://crocoule.org/wp-content/uploads/2025/06/PXL_20240808_134428963_edited-FQyaQr.jpg
END:VEVENT
END:VCALENDAR