BEGIN:VCALENDAR
VERSION:2.0
PRODID:-//Crocoule - ECPv6.15.15//NONSGML v1.0//EN
CALSCALE:GREGORIAN
METHOD:PUBLISH
X-ORIGINAL-URL:https://crocoule.org
X-WR-CALDESC:Évènements pour Crocoule
REFRESH-INTERVAL;VALUE=DURATION:PT1H
X-Robots-Tag:noindex
X-PUBLISHED-TTL:PT1H
BEGIN:VTIMEZONE
TZID:Europe/Paris
BEGIN:DAYLIGHT
TZOFFSETFROM:+0100
TZOFFSETTO:+0200
TZNAME:CEST
DTSTART:20240331T010000
END:DAYLIGHT
BEGIN:STANDARD
TZOFFSETFROM:+0200
TZOFFSETTO:+0100
TZNAME:CET
DTSTART:20241027T010000
END:STANDARD
BEGIN:DAYLIGHT
TZOFFSETFROM:+0100
TZOFFSETTO:+0200
TZNAME:CEST
DTSTART:20250330T010000
END:DAYLIGHT
BEGIN:STANDARD
TZOFFSETFROM:+0200
TZOFFSETTO:+0100
TZNAME:CET
DTSTART:20251026T010000
END:STANDARD
BEGIN:DAYLIGHT
TZOFFSETFROM:+0100
TZOFFSETTO:+0200
TZNAME:CEST
DTSTART:20260329T010000
END:DAYLIGHT
BEGIN:STANDARD
TZOFFSETFROM:+0200
TZOFFSETTO:+0100
TZNAME:CET
DTSTART:20261025T010000
END:STANDARD
END:VTIMEZONE
BEGIN:VEVENT
DTSTART;TZID=Europe/Paris:20251210T140000
DTEND;TZID=Europe/Paris:20251210T153000
DTSTAMP:20260421T171837
CREATED:20251201T105037Z
LAST-MODIFIED:20251201T105037Z
UID:10012599-1765375200-1765380600@crocoule.org
SUMMARY:Saint-Etienne  | Atelier enfant "Le Petit Nicolas"
DESCRIPTION:Atelier de la Féérie de Noël spéciale Petit Nicolas. Et pourquoi ne pas profiter des vacances scolaires qui s’annoncent pour découvrir l’album « Les vacances du Petit Nicolas »\, sortir de la grisaille de l’hiver et se replonger dans les vacances d’été et les souvenirs qu’elles évoquent aux enfants ?\nCette programmation est proposée dans le cadre de l’exposition temporaire « Souvenirs\, souvenirs ». Les enfants mettent en couleur les planches tirées d’une histoire du Petit Nicolas pour ensuite les animer sur une tablette à l’aide d’une application numérique. La participation à un des trois ateliers de la Féérie de Noël permet à l’enfant et à un parent de bénéficier de la gratuité pour la projection du film\, le 20/12 à 14h30 au musée.\nATTENTION ce film est projeté au musée d’Art et d’Industrie.  \n\n\n	Similaire
URL:https://crocoule.org/notre-evenement/saint-etienne-atelier-enfant-le-petit-nicolas-2/
LOCATION:Musée de la Mine\, 3 Rue du Maréchal Franchet d'Esperey\, Saint Etienne\, 42000
CATEGORIES:06 ans +,Tous les événements
END:VEVENT
BEGIN:VEVENT
DTSTART;TZID=Europe/Paris:20251207T140000
DTEND;TZID=Europe/Paris:20251207T160000
DTSTAMP:20260421T171837
CREATED:20251201T105037Z
LAST-MODIFIED:20251201T105037Z
UID:10012598-1765116000-1765123200@crocoule.org
SUMMARY:Saint-Etienne  | Atelier en famille "Minogravure"
DESCRIPTION:Il y a 300 millions d’années\, les animaux et les plantes ont laissé des traces dans la roche : des fossiles ! Après une rapide visite autour du jardin et des fossiles\, fabriquez vos propres empreintes grâce à la techniques de la linogravure et repartez avec vos créations. \n\n\n	Similaire
URL:https://crocoule.org/notre-evenement/saint-etienne-atelier-en-famille-minogravure-2/
LOCATION:Musée de la Mine\, 3 Rue du Maréchal Franchet d'Esperey\, Saint Etienne\, 42000
CATEGORIES:08 ans +,En famille,Tous les événements
END:VEVENT
BEGIN:VEVENT
DTSTART;TZID=Europe/Paris:20251203T140000
DTEND;TZID=Europe/Paris:20251203T150000
DTSTAMP:20260421T171837
CREATED:20251201T105036Z
LAST-MODIFIED:20251201T105036Z
UID:10012597-1764770400-1764774000@crocoule.org
SUMMARY:Saint-Etienne  | Atelier enfant "Le Petit Nicolas"
DESCRIPTION:Atelier de la Féérie de Noël spéciale Petit Nicolas. Et pourquoi ne pas profiter des vacances scolaires qui s’annoncent pour découvrir l’album « Les vacances du Petit Nicolas »\, sortir de la grisaille de l’hiver et se replonger dans les vacances d’été et les souvenirs qu’elles évoquent aux enfants ?\nCette programmation est proposée dans le cadre de l’exposition temporaire « Souvenirs\, souvenirs ». Après une lecture de l’histoire du Petit Nicolas\, les enfants colorient leur dessin puis partent en exploration\, à la découverte des souvenirs sous forme de céramiques colorées\, parfois curieuses et rigolotes. La participation à un des trois ateliers de la Féérie de Noël permet à l’enfant et à un parent de bénéficier de la gratuité pour la projection du film\, le 20/12 à 14h30 au musée.\nATTENTION ce film est projeté au musée d’Art et d’Industrie.  \n\n\n	Similaire
URL:https://crocoule.org/notre-evenement/saint-etienne-atelier-enfant-le-petit-nicolas/
LOCATION:Musée de la Mine\, 3 Rue du Maréchal Franchet d'Esperey\, Saint Etienne\, 42000
CATEGORIES:04 ans +,Tous les événements
END:VEVENT
BEGIN:VEVENT
DTSTART;TZID=Europe/Paris:20251130T101500
DTEND;TZID=Europe/Paris:20251130T121500
DTSTAMP:20260421T171837
CREATED:20250826T150409Z
LAST-MODIFIED:20250828T160207Z
UID:10011884-1764497700-1764504900@crocoule.org
SUMMARY:Saint-Etienne | Atelier en famille "Défis de l'ingénieur"
DESCRIPTION:Venez vous glisser dans la peau d’un ingénieur et relever les défis de la mine grâce aux expériences proposées en atelier. Une visite guidée du site suivra l’animation pour partir à la découverte de ces ingénieuses inventions. \n\n\n	Similaire
URL:https://crocoule.org/notre-evenement/saint-etienne-atelier-en-famille-defis-de-lingenieur/
LOCATION:Musée de la Mine\, 3 Rue du Maréchal Franchet d'Esperey\, Saint Etienne\, 42000
END:VEVENT
BEGIN:VEVENT
DTSTART;TZID=Europe/Paris:20251129T140000
DTEND;TZID=Europe/Paris:20251129T153000
DTSTAMP:20260421T171837
CREATED:20250826T150352Z
LAST-MODIFIED:20250828T160151Z
UID:10011867-1764424800-1764430200@crocoule.org
SUMMARY:Saint-Etienne | Atelier enfant "Mise en forme"
DESCRIPTION:Lignes\, diagonales\, géométries\, courbes… Il y a de quoi faire entre les murs du puits Couriot ! Munis d’un appareil photo\, les enfants auront pour mission de réaliser des photographies où s’affichent toutes les formes du musée. \n\n\n	Similaire
URL:https://crocoule.org/notre-evenement/saint-etienne-atelier-enfant-mise-en-forme/
LOCATION:Musée de la Mine\, 3 Rue du Maréchal Franchet d'Esperey\, Saint Etienne\, 42000
END:VEVENT
BEGIN:VEVENT
DTSTART;TZID=Europe/Paris:20251126T140000
DTEND;TZID=Europe/Paris:20251126T153000
DTSTAMP:20260421T171837
CREATED:20250826T150353Z
LAST-MODIFIED:20250828T160155Z
UID:10011871-1764165600-1764171000@crocoule.org
SUMMARY:Saint-Etienne | Jeu "1944 Mission libération"
DESCRIPTION:Dans un contexte de Seconde\nGuerre mondiale\, mets-toi dans la\npeau d’un mineur et organise un\ngroupe de résistance pour saboter\nun convoi d’armement ennemi.\nTa détermination sera mise à\nl’épreuve à travers plusieurs défis ! \n\n\n	Similaire
URL:https://crocoule.org/notre-evenement/saint-etienne-jeu-1944-mission-liberation-6/
LOCATION:Musée de la Mine\, 3 Rue du Maréchal Franchet d'Esperey\, Saint Etienne\, 42000
END:VEVENT
BEGIN:VEVENT
DTSTART;TZID=Europe/Paris:20251123T101500
DTEND;TZID=Europe/Paris:20251123T121500
DTSTAMP:20260421T171837
CREATED:20250826T150405Z
LAST-MODIFIED:20250828T160202Z
UID:10011879-1763892900-1763900100@crocoule.org
SUMMARY:Saint-Etienne | Atelier en famille "A vos pinceaux"
DESCRIPTION:Recouvertes de décors et de\ncouleurs\, les céramiques de\nl’exposition vous inspireront\nsûrement pour une création\nfamiliale de peinture sur\nporcelaine. De quoi ramener un\njoli souvenir de votre passage\nau musée ! \n\n\n	Similaire
URL:https://crocoule.org/notre-evenement/saint-etienne-atelier-en-famille-a-vos-pinceaux-12/
LOCATION:Musée de la Mine\, 3 Rue du Maréchal Franchet d'Esperey\, Saint Etienne\, 42000
END:VEVENT
BEGIN:VEVENT
DTSTART;TZID=Europe/Paris:20251122T140000
DTEND;TZID=Europe/Paris:20251122T150000
DTSTAMP:20260421T171837
CREATED:20250826T150339Z
LAST-MODIFIED:20250828T160138Z
UID:10011854-1763820000-1763823600@crocoule.org
SUMMARY:Saint-Etienne | Atelier enfant "Drôle de bestiaire"
DESCRIPTION:Découvre l’exposition temporaire du musée et retrouve les animaux représentés sur les différentes céramiques exposées\, puis crée ton propre bestiaire coloré en pâte à modeler pour décorer une céramique. Repars avec la photo de ta création en souvenir ! \n\n\n	Similaire
URL:https://crocoule.org/notre-evenement/saint-etienne-atelier-enfant-drole-de-bestiaire-10/
LOCATION:Musée de la Mine\, 3 Rue du Maréchal Franchet d'Esperey\, Saint Etienne\, 42000
END:VEVENT
BEGIN:VEVENT
DTSTART;TZID=Europe/Paris:20251119T140000
DTEND;TZID=Europe/Paris:20251119T153000
DTSTAMP:20260421T171837
CREATED:20250826T150348Z
LAST-MODIFIED:20250828T160148Z
UID:10011862-1763560800-1763566200@crocoule.org
SUMMARY:Saint-Etienne | Atelier enfant "Mine et une histoire d'automne"
DESCRIPTION:Ouvrez grands vos yeux\, tendez\nl’oreille et saisissez votre crayon\npour illustrer un conte au rythme\ndes quatre saisons : le jardin\nau printemps\, les souvenirs de\nvacances l’été\, les frissons en\nautomne et l’esprit de Noël en\nHiver ! \n\n\n	Similaire
URL:https://crocoule.org/notre-evenement/saint-etienne-atelier-enfant-mine-et-une-histoire-dautomne-3/
LOCATION:Musée de la Mine\, 3 Rue du Maréchal Franchet d'Esperey\, Saint Etienne\, 42000
END:VEVENT
BEGIN:VEVENT
DTSTART;TZID=Europe/Paris:20251116T101500
DTEND;TZID=Europe/Paris:20251116T121500
DTSTAMP:20260421T171837
CREATED:20250826T150408Z
LAST-MODIFIED:20250828T160207Z
UID:10011881-1763288100-1763295300@crocoule.org
SUMMARY:Saint-Etienne | Jeu en famille "Terrain miné"
DESCRIPTION:Dans un puits fictif des années\n50\, un soutènement s’effondre\net déstabilise les galeries. Une\néquipe est toujours au fond\, ainsi\nque plusieurs blessés dont on ne\nconnaît pas la position. L’entrée\nétant bouchée\, l’objectif est de\nremonter les blessés et toute\nl’équipe à la surface en trouvant\nun chemin dans la mine. \n\n\n	Similaire
URL:https://crocoule.org/notre-evenement/saint-etienne-jeu-en-famille-terrain-mine-3/
LOCATION:Musée de la Mine\, 3 Rue du Maréchal Franchet d'Esperey\, Saint Etienne\, 42000
END:VEVENT
BEGIN:VEVENT
DTSTART;TZID=Europe/Paris:20251115T140000
DTEND;TZID=Europe/Paris:20251115T160000
DTSTAMP:20260421T171837
CREATED:20250826T150349Z
LAST-MODIFIED:20250828T160151Z
UID:10011866-1763215200-1763222400@crocoule.org
SUMMARY:Saint-Etienne | Atelier enfant "Apprenti potier au musée"
DESCRIPTION:Au musée\, on met les mains dans\nla terre ! Découvre les céramiques\nde l’exposition puis\, avec de\nl’argile\, expérimente les formes\net les motifs et repars avec ta\ncréation ! \n\n\n	Similaire
URL:https://crocoule.org/notre-evenement/saint-etienne-atelier-enfant-apprenti-potier-au-musee-10/
LOCATION:Musée de la Mine\, 3 Rue du Maréchal Franchet d'Esperey\, Saint Etienne\, 42000
END:VEVENT
BEGIN:VEVENT
DTSTART;TZID=Europe/Paris:20251112T140000
DTEND;TZID=Europe/Paris:20251112T160000
DTSTAMP:20260421T171837
CREATED:20250826T150348Z
LAST-MODIFIED:20250828T160148Z
UID:10011863-1762956000-1762963200@crocoule.org
SUMMARY:Saint-Etienne | Atelier enfant "Mine de rien devient tout"
DESCRIPTION:Sais-tu qu’il est possible de\ntransformer une boîte d’oeufs\net des bouchons en locomotive\nminiature ? En prenant exemple\nsur des claquettes de mineurs\,\nrelève ce défi ! \n\n\n	Similaire
URL:https://crocoule.org/notre-evenement/saint-etienne-atelier-enfant-mine-de-rien-devient-tout-5/
LOCATION:Musée de la Mine\, 3 Rue du Maréchal Franchet d'Esperey\, Saint Etienne\, 42000
END:VEVENT
BEGIN:VEVENT
DTSTART;TZID=Europe/Paris:20251109T101500
DTEND;TZID=Europe/Paris:20251109T121500
DTSTAMP:20260421T171837
CREATED:20250826T150358Z
LAST-MODIFIED:20250828T160156Z
UID:10011874-1762683300-1762690500@crocoule.org
SUMMARY:Saint-Etienne | Atelier en famille " Mille feuille à 4 mains"
DESCRIPTION:Dans cette animation inédite en\nbinôme adulte-enfant\, redécouvrez\nla mine et son univers puis créez à 4 mains votre boite souvenir de la mine \n\n\n	Similaire
URL:https://crocoule.org/notre-evenement/saint-etienne-atelier-en-famille-mille-feuille-a-4-mains-3/
LOCATION:Musée de la Mine\, 3 Rue du Maréchal Franchet d'Esperey\, Saint Etienne\, 42000
END:VEVENT
BEGIN:VEVENT
DTSTART;TZID=Europe/Paris:20251108T140000
DTEND;TZID=Europe/Paris:20251108T153000
DTSTAMP:20260421T171837
CREATED:20250826T150339Z
LAST-MODIFIED:20250828T160143Z
UID:10011856-1762610400-1762615800@crocoule.org
SUMMARY:Saint-Etienne | Atelier enfant "Mine en désordre"
DESCRIPTION:Une galerie de mine s’est\neffondrée\, ce qui a entraîné la\ndestruction de certains bâtiments.\nLes enfants reconstruiront le\nmusée à partir de puzzles de\nphotos des différents espaces. \n\n\n	Similaire
URL:https://crocoule.org/notre-evenement/saint-etienne-atelier-enfant-mine-en-desordre-3/
LOCATION:Musée de la Mine\, 3 Rue du Maréchal Franchet d'Esperey\, Saint Etienne\, 42000
END:VEVENT
BEGIN:VEVENT
DTSTART;TZID=Europe/Paris:20251105T140000
DTEND;TZID=Europe/Paris:20251105T153000
DTSTAMP:20260421T171837
CREATED:20250826T150353Z
LAST-MODIFIED:20250828T160152Z
UID:10011870-1762351200-1762356600@crocoule.org
SUMMARY:Saint-Etienne | Jeu "1944 Mission libération"
DESCRIPTION:Dans un contexte de Seconde\nGuerre mondiale\, mets-toi dans la\npeau d’un mineur et organise un\ngroupe de résistance pour saboter\nun convoi d’armement ennemi.\nTa détermination sera mise à\nl’épreuve à travers plusieurs défis ! \n\n\n	Similaire
URL:https://crocoule.org/notre-evenement/saint-etienne-jeu-1944-mission-liberation-5/
LOCATION:Musée de la Mine\, 3 Rue du Maréchal Franchet d'Esperey\, Saint Etienne\, 42000
END:VEVENT
BEGIN:VEVENT
DTSTART;TZID=Europe/Paris:20251102T140000
DTEND;TZID=Europe/Paris:20251102T160000
DTSTAMP:20260421T171837
CREATED:20250826T150409Z
LAST-MODIFIED:20250828T160207Z
UID:10011883-1762092000-1762099200@crocoule.org
SUMMARY:Saint-Etienne | Atelier en famille "Défis en briques"
DESCRIPTION:Avec les Legos® à votre disposition\,\nsaurez-vous recréer un pic de\nmineur ou une benne de charbon ?\nRelèvez le défi en famille ! \n\n\n	Similaire
URL:https://crocoule.org/notre-evenement/saint-etienne-atelier-en-famille-defis-en-briques-6/
LOCATION:Musée de la Mine\, 3 Rue du Maréchal Franchet d'Esperey\, Saint Etienne\, 42000
END:VEVENT
BEGIN:VEVENT
DTSTART;TZID=Europe/Paris:20251030T140000
DTEND;TZID=Europe/Paris:20251030T153000
DTSTAMP:20260421T171837
CREATED:20250826T150344Z
LAST-MODIFIED:20250828T160148Z
UID:10011861-1761832800-1761838200@crocoule.org
SUMMARY:Saint-Etienne | Atelier enfant "Mine et une histoire d'automne"
DESCRIPTION:Ouvrez grands vos yeux\, tendez\nl’oreille et saisissez votre crayon\npour illustrer un conte au rythme\ndes quatre saisons : le jardin\nau printemps\, les souvenirs de\nvacances l’été\, les frissons en\nautomne et l’esprit de Noël en\nHiver ! \n\n\n	Similaire
URL:https://crocoule.org/notre-evenement/saint-etienne-atelier-enfant-mine-et-une-histoire-dautomne-2/
LOCATION:Musée de la Mine\, 3 Rue du Maréchal Franchet d'Esperey\, Saint Etienne\, 42000
END:VEVENT
BEGIN:VEVENT
DTSTART;TZID=Europe/Paris:20251029T140000
DTEND;TZID=Europe/Paris:20251029T150000
DTSTAMP:20260421T171837
CREATED:20250826T150338Z
LAST-MODIFIED:20250828T160137Z
UID:10011853-1761746400-1761750000@crocoule.org
SUMMARY:Saint-Etienne | Atelier enfant "Drôle de bestiaire"
DESCRIPTION:Découvre l’exposition temporaire du musée et retrouve les animaux représentés sur les différentes céramiques exposées\, puis crée ton propre bestiaire coloré en pâte à modeler pour décorer une céramique. Repars avec la photo de ta création en souvenir ! \n\n\n	Similaire
URL:https://crocoule.org/notre-evenement/saint-etienne-atelier-enfant-drole-de-bestiaire-9/
LOCATION:Musée de la Mine\, 3 Rue du Maréchal Franchet d'Esperey\, Saint Etienne\, 42000
END:VEVENT
BEGIN:VEVENT
DTSTART;TZID=Europe/Paris:20251028T104500
DTEND;TZID=Europe/Paris:20251028T113000
DTSTAMP:20260421T171837
CREATED:20250826T150334Z
LAST-MODIFIED:20250828T160132Z
UID:10011848-1761648300-1761651000@crocoule.org
SUMMARY:Saint-Etienne | Atelier enfant "Le voyage coloré"
DESCRIPTION:Rouge\, orange\, noir\, viens sentir le souffle du volcan ; poissons\,\ncoquillages et crustacés\, viens\nplonger dans l’océan… Enfants et\nparents découvrent l’exposition\ntemporaire à travers plusieurs\noeuvres emblématiques. \n\n\n	Similaire
URL:https://crocoule.org/notre-evenement/saint-etienne-atelier-enfant-le-voyage-colore-11/
LOCATION:Musée de la Mine\, 3 Rue du Maréchal Franchet d'Esperey\, Saint Etienne\, 42000
CATEGORIES:01 an +,Tous les événements
END:VEVENT
BEGIN:VEVENT
DTSTART;TZID=Europe/Paris:20251026T101500
DTEND;TZID=Europe/Paris:20251026T114500
DTSTAMP:20260421T171837
CREATED:20250826T150408Z
LAST-MODIFIED:20250828T160202Z
UID:10011880-1761473700-1761479100@crocoule.org
SUMMARY:Saint-Etienne | Atelier en famille "Mine et une histoire d'automne"
DESCRIPTION:Ouvrez grands vos yeux\, tendez\nl’oreille et saisissez votre crayon\npour illustrer un conte au rythme\ndes quatre saisons : le jardin\nau printemps\, les souvenirs de\nvacances l’été\, les frissons en\nautomne et l’esprit de Noël en\nhiver ! \n\n\n	Similaire
URL:https://crocoule.org/notre-evenement/saint-etienne-atelier-en-famille-mine-et-une-histoire-dautomne/
LOCATION:Musée de la Mine\, 3 Rue du Maréchal Franchet d'Esperey\, Saint Etienne\, 42000
END:VEVENT
BEGIN:VEVENT
DTSTART;TZID=Europe/Paris:20251023T140000
DTEND;TZID=Europe/Paris:20251023T160000
DTSTAMP:20260421T171837
CREATED:20250826T150358Z
LAST-MODIFIED:20250828T160156Z
UID:10011872-1761228000-1761235200@crocoule.org
SUMMARY:Saint-Etienne | Stage enfant "Céra'mine"
DESCRIPTION:Découvre le musée et son exposition temporaire pour t’inspirer ! Modelage d’argile et peinture sur porcelaine te permettront de t’initier à quelques techniques de la céramique. \n\n\n	Similaire
URL:https://crocoule.org/notre-evenement/saint-etienne-stage-enfant-ceramine/
LOCATION:Musée de la Mine\, 3 Rue du Maréchal Franchet d'Esperey\, Saint Etienne\, 42000
END:VEVENT
BEGIN:VEVENT
DTSTART;TZID=Europe/Paris:20251022T140000
DTEND;TZID=Europe/Paris:20251022T160000
DTSTAMP:20260421T171837
CREATED:20250826T150343Z
LAST-MODIFIED:20250828T160143Z
UID:10011858-1761141600-1761148800@crocoule.org
SUMMARY:Saint-Etienne | Atelier enfant "Matières"
DESCRIPTION:Tu connais les herbiers\, les carnets\nde voyage… Cette fois\, nous\nt’invitons à raconter ton expérience\ngrâce à un « carnet de matières » !\nAprès avoir obervé les matières qui\ncomposent Couriot :pierre\, brique\,\nbéton\, verre…\, tu pourras concevoir\nton propre portrait du musée sous\nforme de carnet constitué de\nmatières et de photographies. \n\n\n	Similaire
URL:https://crocoule.org/notre-evenement/saint-etienne-atelier-enfant-matieres-7/
LOCATION:Musée de la Mine\, 3 Rue du Maréchal Franchet d'Esperey\, Saint Etienne\, 42000
END:VEVENT
BEGIN:VEVENT
DTSTART;TZID=Europe/Paris:20251019T101500
DTEND;TZID=Europe/Paris:20251019T121500
DTSTAMP:20260421T171837
CREATED:20250826T150404Z
LAST-MODIFIED:20250828T160202Z
UID:10011878-1760868900-1760876100@crocoule.org
SUMMARY:Saint-Etienne | Atelier en famille "A vos pinceaux"
DESCRIPTION:Recouvertes de décors et de\ncouleurs\, les céramiques de\nl’exposition vous inspireront\nsûrement pour une création\nfamiliale de peinture sur\nporcelaine. De quoi ramener un\njoli souvenir de votre passage\nau musée ! \n\n\n	Similaire
URL:https://crocoule.org/notre-evenement/saint-etienne-atelier-en-famille-a-vos-pinceaux-11/
LOCATION:Musée de la Mine\, 3 Rue du Maréchal Franchet d'Esperey\, Saint Etienne\, 42000
END:VEVENT
BEGIN:VEVENT
DTSTART;TZID=Europe/Paris:20251018T140000
DTEND;TZID=Europe/Paris:20251018T153000
DTSTAMP:20260421T171837
CREATED:20250826T150339Z
LAST-MODIFIED:20250828T160138Z
UID:10011855-1760796000-1760801400@crocoule.org
SUMMARY:Saint-Etienne | Atelier enfant "Mine en désordre"
DESCRIPTION:Une galerie de mine s’est\neffondrée\, ce qui a entraîné la\ndestruction de certains bâtiments.\nLes enfants reconstruiront le\nmusée à partir de puzzles de\nphotos des différents espaces. \n\n\n	Similaire
URL:https://crocoule.org/notre-evenement/saint-etienne-atelier-enfant-mine-en-desordre-2/
LOCATION:Musée de la Mine\, 3 Rue du Maréchal Franchet d'Esperey\, Saint Etienne\, 42000
END:VEVENT
BEGIN:VEVENT
DTSTART;TZID=Europe/Paris:20251015T140000
DTEND;TZID=Europe/Paris:20251015T153000
DTSTAMP:20260421T171837
CREATED:20250826T150352Z
LAST-MODIFIED:20250828T160151Z
UID:10011869-1760536800-1760542200@crocoule.org
SUMMARY:Saint-Etienne | Jeu "1944 Mission libération"
DESCRIPTION:Dans un contexte de Seconde\nGuerre mondiale\, mets-toi dans la\npeau d’un mineur et organise un\ngroupe de résistance pour saboter\nun convoi d’armement ennemi.\nTa détermination sera mise à\nl’épreuve à travers plusieurs défis ! \n\n\n	Similaire
URL:https://crocoule.org/notre-evenement/saint-etienne-jeu-1944-mission-liberation-4/
LOCATION:Musée de la Mine\, 3 Rue du Maréchal Franchet d'Esperey\, Saint Etienne\, 42000
END:VEVENT
BEGIN:VEVENT
DTSTART;TZID=Europe/Paris:20251012T101500
DTEND;TZID=Europe/Paris:20251012T121500
DTSTAMP:20260421T171837
CREATED:20250826T150409Z
LAST-MODIFIED:20250828T160207Z
UID:10011882-1760264100-1760271300@crocoule.org
SUMMARY:Saint-Etienne | Atelier en famille "Minogravure"
DESCRIPTION:Les animaux et les plantes d’il y a 300 millions d’années ont laissé des traces dans la roche : des fossiles ! Et si vous fabriquiez vos propres empreintes grâce à la linogravure ! Après une rapide visite autour du jardin et des fossiles\, venez expérimenter cette technique et repartez avec vos créations. \n\n\n	Similaire
URL:https://crocoule.org/notre-evenement/saint-etienne-atelier-en-famille-minogravure/
LOCATION:Musée de la Mine\, 3 Rue du Maréchal Franchet d'Esperey\, Saint Etienne\, 42000
END:VEVENT
BEGIN:VEVENT
DTSTART;TZID=Europe/Paris:20251008T140000
DTEND;TZID=Europe/Paris:20251008T153000
DTSTAMP:20260421T171837
CREATED:20250826T150343Z
LAST-MODIFIED:20250828T160144Z
UID:10011860-1759932000-1759937400@crocoule.org
SUMMARY:Saint-Etienne | Atelier enfant "Mine et une histoire d'automne"
DESCRIPTION:Ouvrez grands vos yeux\, tendez\nl’oreille et saisissez votre crayon\npour illustrer un conte au rythme\ndes quatre saisons : le jardin\nau printemps\, les souvenirs de\nvacances l’été\, les frissons en\nautomne et l’esprit de Noël en\nHiver ! \n\n\n	Similaire
URL:https://crocoule.org/notre-evenement/saint-etienne-atelier-enfant-mine-et-une-histoire-dautomne/
LOCATION:Musée de la Mine\, 3 Rue du Maréchal Franchet d'Esperey\, Saint Etienne\, 42000
END:VEVENT
BEGIN:VEVENT
DTSTART;TZID=Europe/Paris:20251005T140000
DTEND;TZID=Europe/Paris:20251005T160000
DTSTAMP:20260421T171837
CREATED:20250826T150404Z
LAST-MODIFIED:20250828T160202Z
UID:10011877-1759672800-1759680000@crocoule.org
SUMMARY:Saint-Etienne | Atelier en famille "A vos pinceaux"
DESCRIPTION:Recouvertes de décors et de\ncouleurs\, les céramiques de\nl’exposition vous inspireront\nsûrement pour une création\nfamiliale de peinture sur\nporcelaine. De quoi ramener un\njoli souvenir de votre passage\nau musée ! \n\n\n	Similaire
URL:https://crocoule.org/notre-evenement/saint-etienne-atelier-en-famille-a-vos-pinceaux-10/
LOCATION:Musée de la Mine\, 3 Rue du Maréchal Franchet d'Esperey\, Saint Etienne\, 42000
END:VEVENT
BEGIN:VEVENT
DTSTART;TZID=Europe/Paris:20251004T140000
DTEND;TZID=Europe/Paris:20251004T150000
DTSTAMP:20260421T171837
CREATED:20250826T150338Z
LAST-MODIFIED:20250828T160137Z
UID:10011852-1759586400-1759590000@crocoule.org
SUMMARY:Saint-Etienne | Atelier enfant "Drôle de bestiaire"
DESCRIPTION:Découvre l’exposition temporaire du musée et retrouve les animaux représentés sur les différentes céramiques exposées\, puis crée ton propre bestiaire coloré en pâte à modeler pour décorer une céramique. Repars avec la photo de ta création en souvenir ! \n\n\n	Similaire
URL:https://crocoule.org/notre-evenement/saint-etienne-atelier-enfant-drole-de-bestiaire-8/
LOCATION:Musée de la Mine\, 3 Rue du Maréchal Franchet d'Esperey\, Saint Etienne\, 42000
END:VEVENT
BEGIN:VEVENT
DTSTART;TZID=Europe/Paris:20251001T140000
DTEND;TZID=Europe/Paris:20251001T160000
DTSTAMP:20260421T171837
CREATED:20250826T150349Z
LAST-MODIFIED:20250828T160149Z
UID:10011865-1759327200-1759334400@crocoule.org
SUMMARY:Saint-Etienne | Atelier enfant "Apprenti potier au musée"
DESCRIPTION:Au musée\, on met les mains dans\nla terre ! Découvre les céramiques\nde l’exposition puis\, avec de\nl’argile\, expérimente les formes\net les motifs et repars avec ta\ncréation ! \n\n\n	Similaire
URL:https://crocoule.org/notre-evenement/saint-etienne-atelier-enfant-apprenti-potier-au-musee-9/
LOCATION:Musée de la Mine\, 3 Rue du Maréchal Franchet d'Esperey\, Saint Etienne\, 42000
END:VEVENT
END:VCALENDAR