BEGIN:VCALENDAR
VERSION:2.0
PRODID:-//Crocoule - ECPv6.15.15//NONSGML v1.0//EN
CALSCALE:GREGORIAN
METHOD:PUBLISH
X-ORIGINAL-URL:https://crocoule.org
X-WR-CALDESC:Évènements pour Crocoule
REFRESH-INTERVAL;VALUE=DURATION:PT1H
X-Robots-Tag:noindex
X-PUBLISHED-TTL:PT1H
BEGIN:VTIMEZONE
TZID:Europe/Paris
BEGIN:DAYLIGHT
TZOFFSETFROM:+0100
TZOFFSETTO:+0200
TZNAME:CEST
DTSTART:20240331T010000
END:DAYLIGHT
BEGIN:STANDARD
TZOFFSETFROM:+0200
TZOFFSETTO:+0100
TZNAME:CET
DTSTART:20241027T010000
END:STANDARD
BEGIN:DAYLIGHT
TZOFFSETFROM:+0100
TZOFFSETTO:+0200
TZNAME:CEST
DTSTART:20250330T010000
END:DAYLIGHT
BEGIN:STANDARD
TZOFFSETFROM:+0200
TZOFFSETTO:+0100
TZNAME:CET
DTSTART:20251026T010000
END:STANDARD
BEGIN:DAYLIGHT
TZOFFSETFROM:+0100
TZOFFSETTO:+0200
TZNAME:CEST
DTSTART:20260329T010000
END:DAYLIGHT
BEGIN:STANDARD
TZOFFSETFROM:+0200
TZOFFSETTO:+0100
TZNAME:CET
DTSTART:20261025T010000
END:STANDARD
BEGIN:DAYLIGHT
TZOFFSETFROM:+0100
TZOFFSETTO:+0200
TZNAME:CEST
DTSTART:20270328T010000
END:DAYLIGHT
BEGIN:STANDARD
TZOFFSETFROM:+0200
TZOFFSETTO:+0100
TZNAME:CET
DTSTART:20271031T010000
END:STANDARD
END:VTIMEZONE
BEGIN:VEVENT
DTSTART;TZID=Europe/Paris:20260204T140000
DTEND;TZID=Europe/Paris:20260204T151500
DTSTAMP:20260421T135927
CREATED:20251201T105144Z
LAST-MODIFIED:20251201T105144Z
UID:10012624-1770213600-1770218100@crocoule.org
SUMMARY:Saint-Etienne  | Atelier enfant "Mettre en lumière"
DESCRIPTION:Visite les espaces du jour du musée et observe les contrastes d’ombre et de lumière. Lors de l’atelier arts plastiques\, réalise ton dessin avec la technique de la carte à gratter. \n\n\n	Similaire
URL:https://crocoule.org/notre-evenement/saint-etienne-atelier-enfant-mettre-en-lumiere-6/
LOCATION:Musée de la Mine\, 3 Rue du Maréchal Franchet d'Esperey\, Saint Etienne\, 42000
CATEGORIES:04 ans +,Tous les événements
END:VEVENT
BEGIN:VEVENT
DTSTART;TZID=Europe/Paris:20260201T140000
DTEND;TZID=Europe/Paris:20260201T153000
DTSTAMP:20260421T135927
CREATED:20251201T105143Z
LAST-MODIFIED:20251201T105143Z
UID:10012623-1769954400-1769959800@crocoule.org
SUMMARY:Saint-Etienne  | Atelier en famille "Défi en briques !"
DESCRIPTION:Avec les Lego® à ta disposition\,\nsauras-tu recréer une benne de\ncharbon ? Relève le défi après\navoir découvert les bâtiments du\nmusée. \n\n\n	Similaire
URL:https://crocoule.org/notre-evenement/saint-etienne-atelier-en-famille-defi-en-briques-2/
LOCATION:Musée de la Mine\, 3 Rue du Maréchal Franchet d'Esperey\, Saint Etienne\, 42000
CATEGORIES:06 ans +,En famille,Tous les événements
END:VEVENT
BEGIN:VEVENT
DTSTART;TZID=Europe/Paris:20260128T140000
DTEND;TZID=Europe/Paris:20260128T153000
DTSTAMP:20260421T135927
CREATED:20251201T105142Z
LAST-MODIFIED:20251201T105142Z
UID:10012622-1769608800-1769614200@crocoule.org
SUMMARY:Saint-Etienne  | Atelier enfant "Mine et une histoire"
DESCRIPTION:Ouvrez grands vos yeux\, tendez\nl’oreille et saisissez votre crayon\npour illustrer un conte au rythme\ndes quatre saisons : le jardin\nau printemps\, les souvenirs de\nvacances l’été\, les frissons en\nautomne et l’esprit de Noël en\nhiver ! \n\n\n	Similaire
URL:https://crocoule.org/notre-evenement/saint-etienne-atelier-enfant-mine-et-une-histoire-6/
LOCATION:Musée de la Mine\, 3 Rue du Maréchal Franchet d'Esperey\, Saint Etienne\, 42000
CATEGORIES:06 ans +,Tous les événements
END:VEVENT
BEGIN:VEVENT
DTSTART;TZID=Europe/Paris:20260128T104500
DTEND;TZID=Europe/Paris:20260128T113000
DTSTAMP:20260421T135927
CREATED:20251201T105130Z
LAST-MODIFIED:20251201T105130Z
UID:10012621-1769597100-1769599800@crocoule.org
SUMMARY:Saint-Etienne  | Atelier tout petit "Le voyage coloré"
DESCRIPTION:Rouge\, orange\, noir\, viens sentir le souffle du volcan ; poissons\,\ncoquillages et crustacés\, viens\nplonger dans l’océan… Enfants et\nparents découvrent l’exposition\ntemporaire à travers plusieurs\noeuvres emblématiques. \n\n\n	Similaire
URL:https://crocoule.org/notre-evenement/saint-etienne-atelier-tout-petit-le-voyage-colore-4/
LOCATION:Musée de la Mine\, 3 Rue du Maréchal Franchet d'Esperey\, Saint Etienne\, 42000
CATEGORIES:01 an +,Tous les événements
END:VEVENT
BEGIN:VEVENT
DTSTART;TZID=Europe/Paris:20260125T101500
DTEND;TZID=Europe/Paris:20260125T121500
DTSTAMP:20260421T135927
CREATED:20251201T105130Z
LAST-MODIFIED:20251201T105130Z
UID:10012620-1769336100-1769343300@crocoule.org
SUMMARY:Saint-Etienne  | Atelier en famille "A vos pinceaux"
DESCRIPTION:Recouvertes de décors et de\ncouleurs\, les céramiques de\nl’exposition vous inspireront\nsûrement pour une création\nfamiliale de peinture sur\nporcelaine. De quoi ramener un\njoli souvenir de votre passage\nau musée ! \n\n\n	Similaire
URL:https://crocoule.org/notre-evenement/saint-etienne-atelier-en-famille-a-vos-pinceaux-15/
LOCATION:Musée de la Mine\, 3 Rue du Maréchal Franchet d'Esperey\, Saint Etienne\, 42000
CATEGORIES:08 ans +,En famille,Tous les événements
END:VEVENT
BEGIN:VEVENT
DTSTART;TZID=Europe/Paris:20260124T140000
DTEND;TZID=Europe/Paris:20260124T160000
DTSTAMP:20260421T135927
CREATED:20251201T105129Z
LAST-MODIFIED:20251201T105129Z
UID:10012619-1769263200-1769270400@crocoule.org
SUMMARY:Saint-Etienne  | Jeu "terrain miné"
DESCRIPTION:Dans un puits fictif des années\n50\, un soutènement s’effondre\net déstabilise les galeries. Une\néquipe est toujours au fond\, ainsi\nque plusieurs blessés dont on ne\nconnaît pas la position. L’entrée\nétant bouchée\, l’objectif est de\nremonter les blessés et toute\nl’équipe à la surface en trouvant\nun chemin dans la mine. \n\n\n	Similaire
URL:https://crocoule.org/notre-evenement/saint-etienne-jeu-terrain-mine-11/
LOCATION:Musée de la Mine\, 3 Rue du Maréchal Franchet d'Esperey\, Saint Etienne\, 42000
CATEGORIES:12 ans +,Tous les événements
END:VEVENT
BEGIN:VEVENT
DTSTART;TZID=Europe/Paris:20260118T101500
DTEND;TZID=Europe/Paris:20260118T101500
DTSTAMP:20260421T135927
CREATED:20251201T105129Z
LAST-MODIFIED:20251201T105129Z
UID:10012618-1768731300-1768731300@crocoule.org
SUMMARY:Saint-Etienne  | Atelier en famille "Défi en briques !"
DESCRIPTION:Avec les Lego® à ta disposition\,\nsauras-tu recréer une benne de\ncharbon ? Relève le défi après\navoir découvert les bâtiments du\nmusée. \n\n\n	Similaire
URL:https://crocoule.org/notre-evenement/saint-etienne-atelier-en-famille-defi-en-briques/
LOCATION:Musée de la Mine\, 3 Rue du Maréchal Franchet d'Esperey\, Saint Etienne\, 42000
CATEGORIES:06 ans +,En famille,Tous les événements
END:VEVENT
BEGIN:VEVENT
DTSTART;TZID=Europe/Paris:20260114T140000
DTEND;TZID=Europe/Paris:20260114T153000
DTSTAMP:20260421T135928
CREATED:20251201T105128Z
LAST-MODIFIED:20251201T105128Z
UID:10012617-1768399200-1768404600@crocoule.org
SUMMARY:Saint-Etienne  | Atelier enfant "C'est toi le guide"
DESCRIPTION:Au musée\, d’habitude\, il faut\nsuivre le guide ! Et si cette fois\,\nc’est toi qui faisais la visite ? \n\n\n	Similaire
URL:https://crocoule.org/notre-evenement/saint-etienne-atelier-enfant-cest-toi-le-guide-4/
LOCATION:Musée de la Mine\, 3 Rue du Maréchal Franchet d'Esperey\, Saint Etienne\, 42000
CATEGORIES:08 ans +,Tous les événements
END:VEVENT
BEGIN:VEVENT
DTSTART;TZID=Europe/Paris:20260111T101500
DTEND;TZID=Europe/Paris:20260111T121500
DTSTAMP:20260421T135928
CREATED:20251201T105114Z
LAST-MODIFIED:20251201T105114Z
UID:10012616-1768126500-1768133700@crocoule.org
SUMMARY:Saint-Etienne  | Atelier en famille "Histoire de crassiers"
DESCRIPTION:Collines artificielles\, tas de pierres\,\nmamelles de Saint-Étienne… les\ncrassiers de Couriot font partie de\nla ville et portent une symbolique\net un imaginaire fort autour de la\nmine. Créez votre propre histoire\net illustrez-la façon « manga ». \n\n\n	Similaire
URL:https://crocoule.org/notre-evenement/saint-etienne-atelier-en-famille-histoire-de-crassiers-2/
LOCATION:Musée de la Mine\, 3 Rue du Maréchal Franchet d'Esperey\, Saint Etienne\, 42000
CATEGORIES:08 ans +,En famille,Tous les événements
END:VEVENT
BEGIN:VEVENT
DTSTART;TZID=Europe/Paris:20260110T140000
DTEND;TZID=Europe/Paris:20260110T153000
DTSTAMP:20260421T135928
CREATED:20251201T105114Z
LAST-MODIFIED:20251201T105114Z
UID:10012615-1768053600-1768059000@crocoule.org
SUMMARY:Saint-Etienne  | Jeu "1944 Mission libération"
DESCRIPTION:Dans un contexte de Seconde\nGuerre mondiale\, mets-toi dans la\npeau d’un mineur et organise un\ngroupe de résistance pour saboter\nun convoi d’armement ennemi.\nTa détermination sera mise à\nl’épreuve à travers plusieurs défis ! \n\n\n	Similaire
URL:https://crocoule.org/notre-evenement/saint-etienne-jeu-1944-mission-liberation-7/
LOCATION:Musée de la Mine\, 3 Rue du Maréchal Franchet d'Esperey\, Saint Etienne\, 42000
CATEGORIES:12 ans +,Tous les événements
END:VEVENT
BEGIN:VEVENT
DTSTART;TZID=Europe/Paris:20260107T140000
DTEND;TZID=Europe/Paris:20260107T150000
DTSTAMP:20260421T135928
CREATED:20251201T105114Z
LAST-MODIFIED:20251201T105114Z
UID:10012614-1767794400-1767798000@crocoule.org
SUMMARY:Saint-Etienne  | Atelier enfant "Façonnne ta façade"
DESCRIPTION:Grandes fenêtres\, briques orange\, portes d’entrée grises parfois surmontées de marquises… Voici ce qui caractérise la façade des bâtiments du Puits Couriot. Après une visite à la découverte des bâtiments en taille réelle du musée viens à ton tour créer une façade imaginaire. \n\n\n	Similaire
URL:https://crocoule.org/notre-evenement/saint-etienne-atelier-enfant-faconnne-ta-facade/
LOCATION:Musée de la Mine\, 3 Rue du Maréchal Franchet d'Esperey\, Saint Etienne\, 42000
CATEGORIES:04 ans +,Tous les événements
END:VEVENT
BEGIN:VEVENT
DTSTART;TZID=Europe/Paris:20260104T140000
DTEND;TZID=Europe/Paris:20260104T160000
DTSTAMP:20260421T135928
CREATED:20251201T105113Z
LAST-MODIFIED:20251201T105113Z
UID:10012613-1767535200-1767542400@crocoule.org
SUMMARY:Saint-Etienne  | Atelier en famille "A vos pinceaux"
DESCRIPTION:Recouvertes de décors et de\ncouleurs\, les céramiques de\nl’exposition vous inspireront\nsûrement pour une création\nfamiliale de peinture sur\nporcelaine. De quoi ramener un\njoli souvenir de votre passage\nau musée ! \n\n\n	Similaire
URL:https://crocoule.org/notre-evenement/saint-etienne-atelier-en-famille-a-vos-pinceaux-14/
LOCATION:Musée de la Mine\, 3 Rue du Maréchal Franchet d'Esperey\, Saint Etienne\, 42000
CATEGORIES:08 ans +,En famille,Tous les événements
END:VEVENT
BEGIN:VEVENT
DTSTART;TZID=Europe/Paris:20260103T140000
DTEND;TZID=Europe/Paris:20260103T160000
DTSTAMP:20260421T135928
CREATED:20251201T105113Z
LAST-MODIFIED:20251201T105113Z
UID:10012612-1767448800-1767456000@crocoule.org
SUMMARY:Saint-Etienne  | Atelier enfant "Apprenti potier au musée"
DESCRIPTION:Au musée\, on met les mains dans\nla terre ! Découvre les céramiques\nde l’exposition puis\, avec de\nl’argile\, expérimente les formes\net les motifs et repars avec ta\ncréation ! \n\n\n	Similaire
URL:https://crocoule.org/notre-evenement/saint-etienne-atelier-enfant-apprenti-potier-au-musee-11/
LOCATION:Musée de la Mine\, 3 Rue du Maréchal Franchet d'Esperey\, Saint Etienne\, 42000
CATEGORIES:08 ans +,Tous les événements
END:VEVENT
BEGIN:VEVENT
DTSTART;TZID=Europe/Paris:20251231T140000
DTEND;TZID=Europe/Paris:20251231T153000
DTSTAMP:20260421T135928
CREATED:20251201T105059Z
LAST-MODIFIED:20251201T105059Z
UID:10012611-1767189600-1767195000@crocoule.org
SUMMARY:Saint-Etienne  | Atelier enfant "Mine et une histoire"
DESCRIPTION:Ouvrez grands vos yeux\, tendez\nl’oreille et saisissez votre crayon\npour illustrer un conte au rythme\ndes quatre saisons : le jardin\nau printemps\, les souvenirs de\nvacances l’été\, les frissons en\nautomne et l’esprit de Noël en\nhiver ! \n\n\n	Similaire
URL:https://crocoule.org/notre-evenement/saint-etienne-atelier-enfant-mine-et-une-histoire-5/
LOCATION:Musée de la Mine\, 3 Rue du Maréchal Franchet d'Esperey\, Saint Etienne\, 42000
CATEGORIES:06 ans +,Tous les événements
END:VEVENT
BEGIN:VEVENT
DTSTART;TZID=Europe/Paris:20251228T101500
DTEND;TZID=Europe/Paris:20251228T121500
DTSTAMP:20260421T135928
CREATED:20251201T105059Z
LAST-MODIFIED:20251201T105059Z
UID:10012610-1766916900-1766924100@crocoule.org
SUMMARY:Saint-Etienne  | Jeu "terrain miné"
DESCRIPTION:Dans un puits fictif des années\n50\, un soutènement s’effondre\net déstabilise les galeries. Une\néquipe est toujours au fond\, ainsi\nque plusieurs blessés dont on ne\nconnaît pas la position. L’entrée\nétant bouchée\, l’objectif est de\nremonter les blessés et toute\nl’équipe à la surface en trouvant\nun chemin dans la mine. \n\n\n	Similaire
URL:https://crocoule.org/notre-evenement/saint-etienne-jeu-terrain-mine-10/
LOCATION:Musée de la Mine\, 3 Rue du Maréchal Franchet d'Esperey\, Saint Etienne\, 42000
CATEGORIES:08 ans +,En famille,Tous les événements
END:VEVENT
BEGIN:VEVENT
DTSTART;TZID=Europe/Paris:20251227T104500
DTEND;TZID=Europe/Paris:20251227T113000
DTSTAMP:20260421T135928
CREATED:20251201T105058Z
LAST-MODIFIED:20251201T105058Z
UID:10012608-1766832300-1766835000@crocoule.org
SUMMARY:Saint-Etienne  | Atelier tout petit "Le voyage coloré"
DESCRIPTION:Rouge\, orange\, noir\, viens sentir le souffle du volcan ; poissons\,\ncoquillages et crustacés\, viens\nplonger dans l’océan… Enfants et\nparents découvrent l’exposition\ntemporaire à travers plusieurs\noeuvres emblématiques. \n\n\n	Similaire
URL:https://crocoule.org/notre-evenement/saint-etienne-atelier-tout-petit-le-voyage-colore-3/
LOCATION:Musée de la Mine\, 3 Rue du Maréchal Franchet d'Esperey\, Saint Etienne\, 42000
CATEGORIES:01 an +,Tous les événements
END:VEVENT
BEGIN:VEVENT
DTSTART;TZID=Europe/Paris:20251224T140000
DTEND;TZID=Europe/Paris:20251224T160000
DTSTAMP:20260421T135928
CREATED:20251201T105057Z
LAST-MODIFIED:20251201T105057Z
UID:10012607-1766584800-1766592000@crocoule.org
SUMMARY:Saint-Etienne  | Atelier enfant "Mine de rien devient tout"
DESCRIPTION:Sais-tu qu’il est possible de\ntransformer une boîte d’oeufs\net des bouchons en locomotive\nminiature ? En prenant exemple\nsur des claquettes de mineurs\,\nrelève ce défi ! \n\n\n	Similaire
URL:https://crocoule.org/notre-evenement/saint-etienne-atelier-enfant-mine-de-rien-devient-tout-6/
LOCATION:Musée de la Mine\, 3 Rue du Maréchal Franchet d'Esperey\, Saint Etienne\, 42000
CATEGORIES:06 ans +,Tous les événements
END:VEVENT
BEGIN:VEVENT
DTSTART;TZID=Europe/Paris:20251223T100000
DTEND;TZID=Europe/Paris:20251223T123000
DTSTAMP:20260421T135928
CREATED:20251201T105044Z
LAST-MODIFIED:20251201T105044Z
UID:10012606-1766484000-1766493000@crocoule.org
SUMMARY:Saint-Etienne  | Stage en famille "Terrain de jeu"
DESCRIPTION:Galeries sombres\, mystérieuse\, interminables…explorez la mine et essayez d’en sortir sans coup fourré ! A travers une visite et des jeux de société\, découvrez le développement de la mine et ses différents métiers du XIXeme au XXeme siècle. Saurez-vous tirer votre épingle du jeu ? Stage sur deux séances : le matin de 10h à 12h30 et l’après-midi de 14h à 16h30. La participation aux deux séances est obligatoire. \n\n\n	Similaire
URL:https://crocoule.org/notre-evenement/saint-etienne-stage-en-famille-terrain-de-jeu/
LOCATION:Musée de la Mine\, 3 Rue du Maréchal Franchet d'Esperey\, Saint Etienne\, 42000
CATEGORIES:08 ans +,En famille,Tous les événements
END:VEVENT
BEGIN:VEVENT
DTSTART;TZID=Europe/Paris:20251221T101500
DTEND;TZID=Europe/Paris:20251221T114500
DTSTAMP:20260421T135928
CREATED:20251201T105044Z
LAST-MODIFIED:20251201T105044Z
UID:10012605-1766312100-1766317500@crocoule.org
SUMMARY:Saint-Etienne  | Atelier en famille "Mine et une histoire"
DESCRIPTION:Ouvrez grands vos yeux\, tendez\nl’oreille et saisissez votre crayon\npour illustrer un conte au rythme\ndes quatre saisons : le jardin\nau printemps\, les souvenirs de\nvacances l’été\, les frissons en\nautomne et l’esprit de Noël en\nhiver ! \n\n\n	Similaire
URL:https://crocoule.org/notre-evenement/saint-etienne-atelier-en-famille-mine-et-une-histoire/
LOCATION:Musée de la Mine\, 3 Rue du Maréchal Franchet d'Esperey\, Saint Etienne\, 42000
CATEGORIES:06 ans +,En famille,Tous les événements
END:VEVENT
BEGIN:VEVENT
DTSTART;TZID=Europe/Paris:20251220T140000
DTEND;TZID=Europe/Paris:20251220T153000
DTSTAMP:20260421T135928
CREATED:20251201T105044Z
LAST-MODIFIED:20251201T105044Z
UID:10012604-1766239200-1766244600@crocoule.org
SUMMARY:Saint-Etienne  | Atelier enfant "C'est toi le guide"
DESCRIPTION:Au musée\, d’habitude\, il faut\nsuivre le guide ! Et si cette fois\,\nc’est toi qui faisais la visite ? \n\n\n	Similaire
URL:https://crocoule.org/notre-evenement/saint-etienne-atelier-enfant-cest-toi-le-guide-3/
LOCATION:Musée de la Mine\, 3 Rue du Maréchal Franchet d'Esperey\, Saint Etienne\, 42000
CATEGORIES:08 ans +,Tous les événements
END:VEVENT
BEGIN:VEVENT
DTSTART;TZID=Europe/Paris:20251217T140000
DTEND;TZID=Europe/Paris:20251217T160000
DTSTAMP:20260421T135928
CREATED:20251201T105043Z
LAST-MODIFIED:20251201T105043Z
UID:10012603-1765980000-1765987200@crocoule.org
SUMMARY:Saint-Etienne  | Atelier enfant "Le Petit Nicolas"
DESCRIPTION:Atelier de la Féérie de Noël spéciale Petit Nicolas. Et pourquoi ne pas profiter des vacances scolaires qui s’annoncent pour découvrir l’album « Les vacances du Petit Nicolas »\, sortir de la grisaille de l’hiver et se replonger dans les vacances d’été et les souvenirs qu’elles évoquent aux enfants ?\nCette programmation est proposée dans le cadre de l’exposition temporaire « Souvenirs\, souvenirs ». Et si plonger dans « Les vacances du Petit Nicolas » était l’occasion de créer son flip book en allant à la pèche aux indice dans  l’exposition « Souvenir\, souvenirs ». La participation à un des trois ateliers de la Féérie de Noël permet à l’enfant et à un parent de bénéficier de la gratuité pour la projection du film\, le 20/12 à 14h30 au musée.\nATTENTION ce film est projeté au musée d’Art et d’Industrie. \n\n\n	Similaire
URL:https://crocoule.org/notre-evenement/saint-etienne-atelier-enfant-le-petit-nicolas-3/
LOCATION:Musée de la Mine\, 3 Rue du Maréchal Franchet d'Esperey\, Saint Etienne\, 42000
CATEGORIES:08 ans +,Tous les événements
END:VEVENT
BEGIN:VEVENT
DTSTART;TZID=Europe/Paris:20251214T104500
DTEND;TZID=Europe/Paris:20251214T113000
DTSTAMP:20260421T135928
CREATED:20251201T105038Z
LAST-MODIFIED:20251201T105038Z
UID:10012601-1765709100-1765711800@crocoule.org
SUMMARY:Saint-Etienne  | Atelier tout petit "Le voyage coloré"
DESCRIPTION:Rouge\, orange\, noir\, viens sentir le souffle du volcan ; poissons\,\ncoquillages et crustacés\, viens\nplonger dans l’océan… Enfants et\nparents découvrent l’exposition\ntemporaire à travers plusieurs\noeuvres emblématiques. \n\n\n	Similaire
URL:https://crocoule.org/notre-evenement/saint-etienne-atelier-tout-petit-le-voyage-colore-2/
LOCATION:Musée de la Mine\, 3 Rue du Maréchal Franchet d'Esperey\, Saint Etienne\, 42000
CATEGORIES:01 an +,Tous les événements
END:VEVENT
BEGIN:VEVENT
DTSTART;TZID=Europe/Paris:20251214T101500
DTEND;TZID=Europe/Paris:20251214T121500
DTSTAMP:20260421T135928
CREATED:20251201T105043Z
LAST-MODIFIED:20251201T105043Z
UID:10012602-1765707300-1765714500@crocoule.org
SUMMARY:Saint-Etienne  | Atelier en famille "A vos pinceaux"
DESCRIPTION:Recouvertes de décors et de\ncouleurs\, les céramiques de\nl’exposition vous inspireront\nsûrement pour une création\nfamiliale de peinture sur\nporcelaine. De quoi ramener un\njoli souvenir de votre passage\nau musée ! \n\n\n	Similaire
URL:https://crocoule.org/notre-evenement/saint-etienne-atelier-en-famille-a-vos-pinceaux-13/
LOCATION:Musée de la Mine\, 3 Rue du Maréchal Franchet d'Esperey\, Saint Etienne\, 42000
CATEGORIES:02 ans +,08 ans +,En famille,Tous les événements
END:VEVENT
BEGIN:VEVENT
DTSTART;TZID=Europe/Paris:20251213T140000
DTEND;TZID=Europe/Paris:20251213T150000
DTSTAMP:20260421T135928
CREATED:20251201T105037Z
LAST-MODIFIED:20251201T105037Z
UID:10012600-1765634400-1765638000@crocoule.org
SUMMARY:Saint-Etienne  | Atelier enfant "Drôle de bestiaire"
DESCRIPTION:Découvre l’exposition temporaire\ndu musée et retrouve les animaux\nreprésentés sur les différentes\ncéramiques exposées\, puis crée\nton propre bestiaire coloré en\npâte à modeler pour décorer une\ncéramique. Repars avec la photo\nde ta création en souvenir ! \n\n\n	Similaire
URL:https://crocoule.org/notre-evenement/saint-etienne-atelier-enfant-drole-de-bestiaire-11/
LOCATION:Musée de la Mine\, 3 Rue du Maréchal Franchet d'Esperey\, Saint Etienne\, 42000
CATEGORIES:04 ans +,Tous les événements
END:VEVENT
BEGIN:VEVENT
DTSTART;TZID=Europe/Paris:20251210T140000
DTEND;TZID=Europe/Paris:20251210T153000
DTSTAMP:20260421T135928
CREATED:20251201T105037Z
LAST-MODIFIED:20251201T105037Z
UID:10012599-1765375200-1765380600@crocoule.org
SUMMARY:Saint-Etienne  | Atelier enfant "Le Petit Nicolas"
DESCRIPTION:Atelier de la Féérie de Noël spéciale Petit Nicolas. Et pourquoi ne pas profiter des vacances scolaires qui s’annoncent pour découvrir l’album « Les vacances du Petit Nicolas »\, sortir de la grisaille de l’hiver et se replonger dans les vacances d’été et les souvenirs qu’elles évoquent aux enfants ?\nCette programmation est proposée dans le cadre de l’exposition temporaire « Souvenirs\, souvenirs ». Les enfants mettent en couleur les planches tirées d’une histoire du Petit Nicolas pour ensuite les animer sur une tablette à l’aide d’une application numérique. La participation à un des trois ateliers de la Féérie de Noël permet à l’enfant et à un parent de bénéficier de la gratuité pour la projection du film\, le 20/12 à 14h30 au musée.\nATTENTION ce film est projeté au musée d’Art et d’Industrie.  \n\n\n	Similaire
URL:https://crocoule.org/notre-evenement/saint-etienne-atelier-enfant-le-petit-nicolas-2/
LOCATION:Musée de la Mine\, 3 Rue du Maréchal Franchet d'Esperey\, Saint Etienne\, 42000
CATEGORIES:06 ans +,Tous les événements
END:VEVENT
BEGIN:VEVENT
DTSTART;TZID=Europe/Paris:20251207T140000
DTEND;TZID=Europe/Paris:20251207T160000
DTSTAMP:20260421T135928
CREATED:20251201T105037Z
LAST-MODIFIED:20251201T105037Z
UID:10012598-1765116000-1765123200@crocoule.org
SUMMARY:Saint-Etienne  | Atelier en famille "Minogravure"
DESCRIPTION:Il y a 300 millions d’années\, les animaux et les plantes ont laissé des traces dans la roche : des fossiles ! Après une rapide visite autour du jardin et des fossiles\, fabriquez vos propres empreintes grâce à la techniques de la linogravure et repartez avec vos créations. \n\n\n	Similaire
URL:https://crocoule.org/notre-evenement/saint-etienne-atelier-en-famille-minogravure-2/
LOCATION:Musée de la Mine\, 3 Rue du Maréchal Franchet d'Esperey\, Saint Etienne\, 42000
CATEGORIES:08 ans +,En famille,Tous les événements
END:VEVENT
BEGIN:VEVENT
DTSTART;TZID=Europe/Paris:20251203T140000
DTEND;TZID=Europe/Paris:20251203T150000
DTSTAMP:20260421T135928
CREATED:20251201T105036Z
LAST-MODIFIED:20251201T105036Z
UID:10012597-1764770400-1764774000@crocoule.org
SUMMARY:Saint-Etienne  | Atelier enfant "Le Petit Nicolas"
DESCRIPTION:Atelier de la Féérie de Noël spéciale Petit Nicolas. Et pourquoi ne pas profiter des vacances scolaires qui s’annoncent pour découvrir l’album « Les vacances du Petit Nicolas »\, sortir de la grisaille de l’hiver et se replonger dans les vacances d’été et les souvenirs qu’elles évoquent aux enfants ?\nCette programmation est proposée dans le cadre de l’exposition temporaire « Souvenirs\, souvenirs ». Après une lecture de l’histoire du Petit Nicolas\, les enfants colorient leur dessin puis partent en exploration\, à la découverte des souvenirs sous forme de céramiques colorées\, parfois curieuses et rigolotes. La participation à un des trois ateliers de la Féérie de Noël permet à l’enfant et à un parent de bénéficier de la gratuité pour la projection du film\, le 20/12 à 14h30 au musée.\nATTENTION ce film est projeté au musée d’Art et d’Industrie.  \n\n\n	Similaire
URL:https://crocoule.org/notre-evenement/saint-etienne-atelier-enfant-le-petit-nicolas/
LOCATION:Musée de la Mine\, 3 Rue du Maréchal Franchet d'Esperey\, Saint Etienne\, 42000
CATEGORIES:04 ans +,Tous les événements
END:VEVENT
BEGIN:VEVENT
DTSTART;TZID=Europe/Paris:20251130T101500
DTEND;TZID=Europe/Paris:20251130T121500
DTSTAMP:20260421T135928
CREATED:20250826T150409Z
LAST-MODIFIED:20250828T160207Z
UID:10011884-1764497700-1764504900@crocoule.org
SUMMARY:Saint-Etienne | Atelier en famille "Défis de l'ingénieur"
DESCRIPTION:Venez vous glisser dans la peau d’un ingénieur et relever les défis de la mine grâce aux expériences proposées en atelier. Une visite guidée du site suivra l’animation pour partir à la découverte de ces ingénieuses inventions. \n\n\n	Similaire
URL:https://crocoule.org/notre-evenement/saint-etienne-atelier-en-famille-defis-de-lingenieur/
LOCATION:Musée de la Mine\, 3 Rue du Maréchal Franchet d'Esperey\, Saint Etienne\, 42000
END:VEVENT
BEGIN:VEVENT
DTSTART;TZID=Europe/Paris:20251129T140000
DTEND;TZID=Europe/Paris:20251129T153000
DTSTAMP:20260421T135928
CREATED:20250826T150352Z
LAST-MODIFIED:20250828T160151Z
UID:10011867-1764424800-1764430200@crocoule.org
SUMMARY:Saint-Etienne | Atelier enfant "Mise en forme"
DESCRIPTION:Lignes\, diagonales\, géométries\, courbes… Il y a de quoi faire entre les murs du puits Couriot ! Munis d’un appareil photo\, les enfants auront pour mission de réaliser des photographies où s’affichent toutes les formes du musée. \n\n\n	Similaire
URL:https://crocoule.org/notre-evenement/saint-etienne-atelier-enfant-mise-en-forme/
LOCATION:Musée de la Mine\, 3 Rue du Maréchal Franchet d'Esperey\, Saint Etienne\, 42000
END:VEVENT
BEGIN:VEVENT
DTSTART;TZID=Europe/Paris:20251126T140000
DTEND;TZID=Europe/Paris:20251126T153000
DTSTAMP:20260421T135928
CREATED:20250826T150353Z
LAST-MODIFIED:20250828T160155Z
UID:10011871-1764165600-1764171000@crocoule.org
SUMMARY:Saint-Etienne | Jeu "1944 Mission libération"
DESCRIPTION:Dans un contexte de Seconde\nGuerre mondiale\, mets-toi dans la\npeau d’un mineur et organise un\ngroupe de résistance pour saboter\nun convoi d’armement ennemi.\nTa détermination sera mise à\nl’épreuve à travers plusieurs défis ! \n\n\n	Similaire
URL:https://crocoule.org/notre-evenement/saint-etienne-jeu-1944-mission-liberation-6/
LOCATION:Musée de la Mine\, 3 Rue du Maréchal Franchet d'Esperey\, Saint Etienne\, 42000
END:VEVENT
END:VCALENDAR