BEGIN:VCALENDAR
VERSION:2.0
PRODID:-//Crocoule - ECPv6.15.15//NONSGML v1.0//EN
CALSCALE:GREGORIAN
METHOD:PUBLISH
X-WR-CALNAME:Crocoule
X-ORIGINAL-URL:https://crocoule.org
X-WR-CALDESC:Évènements pour Crocoule
REFRESH-INTERVAL;VALUE=DURATION:PT1H
X-Robots-Tag:noindex
X-PUBLISHED-TTL:PT1H
BEGIN:VTIMEZONE
TZID:Europe/Paris
BEGIN:DAYLIGHT
TZOFFSETFROM:+0100
TZOFFSETTO:+0200
TZNAME:CEST
DTSTART:20240331T010000
END:DAYLIGHT
BEGIN:STANDARD
TZOFFSETFROM:+0200
TZOFFSETTO:+0100
TZNAME:CET
DTSTART:20241027T010000
END:STANDARD
BEGIN:DAYLIGHT
TZOFFSETFROM:+0100
TZOFFSETTO:+0200
TZNAME:CEST
DTSTART:20250330T010000
END:DAYLIGHT
BEGIN:STANDARD
TZOFFSETFROM:+0200
TZOFFSETTO:+0100
TZNAME:CET
DTSTART:20251026T010000
END:STANDARD
BEGIN:DAYLIGHT
TZOFFSETFROM:+0100
TZOFFSETTO:+0200
TZNAME:CEST
DTSTART:20260329T010000
END:DAYLIGHT
BEGIN:STANDARD
TZOFFSETFROM:+0200
TZOFFSETTO:+0100
TZNAME:CET
DTSTART:20261025T010000
END:STANDARD
BEGIN:DAYLIGHT
TZOFFSETFROM:+0100
TZOFFSETTO:+0200
TZNAME:CEST
DTSTART:20270328T010000
END:DAYLIGHT
BEGIN:STANDARD
TZOFFSETFROM:+0200
TZOFFSETTO:+0100
TZNAME:CET
DTSTART:20271031T010000
END:STANDARD
END:VTIMEZONE
BEGIN:VEVENT
DTSTART;TZID=Europe/Paris:20260307T143000
DTEND;TZID=Europe/Paris:20260307T143000
DTSTAMP:20260421T141409
CREATED:20260301T113045Z
LAST-MODIFIED:20260301T113045Z
UID:10013087-1772893800-1772893800@crocoule.org
SUMMARY:Saint-Priest-en-Jarez | Dans tous les sens
DESCRIPTION:Une visite où les enfants de 5 à 11 ans découvrent les trois expositions à travers des activités variées : jeu de construction\, activation de performance\, lecture de conte\, et plus encore. Bonne idée : profitez-en pour participer à la visite découverte du musée pour adultes (tous les samedis et dimanches à 14h30) ! \n\n\n	Similaire
URL:https://crocoule.org/notre-evenement/saint-priest-en-jarez-dans-tous-les-sens-3/
LOCATION:MAMC\, Saint Priest en Jarez
CATEGORIES:05 ans +,Activité du week-end,Tous les événements
ATTACH;FMTTYPE=image/jpeg:https://crocoule.org/wp-content/uploads/2025/11/VISITE_Dans_tous_les_sens-2e2O7S.jpg
END:VEVENT
BEGIN:VEVENT
DTSTART;TZID=Europe/Paris:20260304T160000
DTEND;TZID=Europe/Paris:20260304T171500
DTSTAMP:20260421T141409
CREATED:20260301T113044Z
LAST-MODIFIED:20260301T113044Z
UID:10013086-1772640000-1772644500@crocoule.org
SUMMARY:Saint-Priest-en-Jarez | Ensemble !
DESCRIPTION:Venez en famille explorer les expositions lors d’une visite ludique et participative\, pensée pour petits et grands \n\n\n	Similaire
URL:https://crocoule.org/notre-evenement/saint-priest-en-jarez-ensemble-3/
LOCATION:MAMC\, Saint Priest en Jarez
CATEGORIES:06 ans +,Activité du week-end,Activité en semaine,Tous les événements
ATTACH;FMTTYPE=image/jpeg:https://crocoule.org/wp-content/uploads/2025/11/VISITE_Ensemble-UqJYQv.jpg
END:VEVENT
BEGIN:VEVENT
DTSTART;TZID=Europe/Paris:20260301T160000
DTEND;TZID=Europe/Paris:20260301T171500
DTSTAMP:20260421T141409
CREATED:20260301T113042Z
LAST-MODIFIED:20260301T113042Z
UID:10013085-1772380800-1772385300@crocoule.org
SUMMARY:Saint-Priest-en-Jarez | Ensemble !
DESCRIPTION:Venez en famille explorer les expositions lors d’une visite ludique et participative\, pensée pour petits et grands \n\n\n	Similaire
URL:https://crocoule.org/notre-evenement/saint-priest-en-jarez-ensemble-2/
LOCATION:MAMC\, Saint Priest en Jarez
CATEGORIES:06 ans +,Activité du week-end,Activité en semaine,Tous les événements
ATTACH;FMTTYPE=image/jpeg:https://crocoule.org/wp-content/uploads/2025/11/VISITE_Ensemble-UqJYQv.jpg
END:VEVENT
BEGIN:VEVENT
DTSTART;TZID=Europe/Paris:20260301T143000
DTEND;TZID=Europe/Paris:20260301T143000
DTSTAMP:20260421T141409
CREATED:20260301T113040Z
LAST-MODIFIED:20260301T113040Z
UID:10013084-1772375400-1772375400@crocoule.org
SUMMARY:Saint-Priest-en-Jarez | Dans tous les sens
DESCRIPTION:Une visite où les enfants de 5 à 11 ans découvrent les trois expositions à travers des activités variées : jeu de construction\, activation de performance\, lecture de conte\, et plus encore. Bonne idée : profitez-en pour participer à la visite découverte du musée pour adultes (tous les samedis et dimanches à 14h30) ! \n\n\n	Similaire
URL:https://crocoule.org/notre-evenement/saint-priest-en-jarez-dans-tous-les-sens-2/
LOCATION:MAMC\, Saint Priest en Jarez
CATEGORIES:05 ans +,Activité du week-end,Tous les événements
ATTACH;FMTTYPE=image/jpeg:https://crocoule.org/wp-content/uploads/2025/11/VISITE_Dans_tous_les_sens-2e2O7S.jpg
END:VEVENT
BEGIN:VEVENT
DTSTART;TZID=Europe/Paris:20260228T160000
DTEND;TZID=Europe/Paris:20260228T170000
DTSTAMP:20260421T141409
CREATED:20251202T120857Z
LAST-MODIFIED:20251202T120857Z
UID:10012682-1772294400-1772298000@crocoule.org
SUMMARY:Saint-Priest-en-Jarez | Jeu d'enquête au musée - Sixième sens
DESCRIPTION:Et si l’art lui-même était une énigme ? En équipe\, menez l’enquête dans les expositions du musée : résolvez les énigmes\, suivez les indices… et questionnez ce qui fait oeuvre. \n\n\n	Similaire
URL:https://crocoule.org/notre-evenement/saint-priest-en-jarez-jeu-denquete-au-musee-sixieme-sens-2/2026-02-28/
LOCATION:MAMC\, Saint Priest en Jarez
CATEGORIES:11 ans +,12 ans +,En famille,Expo,Intérieur,Tous les événements,Tout public
END:VEVENT
BEGIN:VEVENT
DTSTART;TZID=Europe/Paris:20260221T160000
DTEND;TZID=Europe/Paris:20260221T170000
DTSTAMP:20260421T141409
CREATED:20251202T120857Z
LAST-MODIFIED:20251202T120857Z
UID:10012681-1771689600-1771693200@crocoule.org
SUMMARY:Saint-Priest-en-Jarez | Jeu d'enquête au musée - Sixième sens
DESCRIPTION:Et si l’art lui-même était une énigme ? En équipe\, menez l’enquête dans les expositions du musée : résolvez les énigmes\, suivez les indices… et questionnez ce qui fait oeuvre. \n\n\n	Similaire
URL:https://crocoule.org/notre-evenement/saint-priest-en-jarez-jeu-denquete-au-musee-sixieme-sens-2/2026-02-21/
LOCATION:MAMC\, Saint Priest en Jarez
CATEGORIES:11 ans +,12 ans +,En famille,Expo,Intérieur,Tous les événements,Tout public
END:VEVENT
BEGIN:VEVENT
DTSTART;TZID=Europe/Paris:20260214T160000
DTEND;TZID=Europe/Paris:20260214T170000
DTSTAMP:20260421T141409
CREATED:20251202T120857Z
LAST-MODIFIED:20251202T120857Z
UID:10012680-1771084800-1771088400@crocoule.org
SUMMARY:Saint-Priest-en-Jarez | Jeu d'enquête au musée - Sixième sens
DESCRIPTION:Et si l’art lui-même était une énigme ? En équipe\, menez l’enquête dans les expositions du musée : résolvez les énigmes\, suivez les indices… et questionnez ce qui fait oeuvre. \n\n\n	Similaire
URL:https://crocoule.org/notre-evenement/saint-priest-en-jarez-jeu-denquete-au-musee-sixieme-sens-2/2026-02-14/
LOCATION:MAMC\, Saint Priest en Jarez
CATEGORIES:11 ans +,12 ans +,En famille,Expo,Intérieur,Tous les événements,Tout public
END:VEVENT
BEGIN:VEVENT
DTSTART;TZID=Europe/Paris:20260207T160000
DTEND;TZID=Europe/Paris:20260207T170000
DTSTAMP:20260421T141409
CREATED:20251202T120857Z
LAST-MODIFIED:20251202T120857Z
UID:10012679-1770480000-1770483600@crocoule.org
SUMMARY:Saint-Priest-en-Jarez | Jeu d'enquête au musée - Sixième sens
DESCRIPTION:Et si l’art lui-même était une énigme ? En équipe\, menez l’enquête dans les expositions du musée : résolvez les énigmes\, suivez les indices… et questionnez ce qui fait oeuvre. \n\n\n	Similaire
URL:https://crocoule.org/notre-evenement/saint-priest-en-jarez-jeu-denquete-au-musee-sixieme-sens-2/2026-02-07/
LOCATION:MAMC\, Saint Priest en Jarez
CATEGORIES:11 ans +,12 ans +,En famille,Expo,Intérieur,Tous les événements,Tout public
END:VEVENT
BEGIN:VEVENT
DTSTART;TZID=Europe/Paris:20260131T160000
DTEND;TZID=Europe/Paris:20260131T170000
DTSTAMP:20260421T141409
CREATED:20251202T120857Z
LAST-MODIFIED:20251202T120857Z
UID:10012678-1769875200-1769878800@crocoule.org
SUMMARY:Saint-Priest-en-Jarez | Jeu d'enquête au musée - Sixième sens
DESCRIPTION:Et si l’art lui-même était une énigme ? En équipe\, menez l’enquête dans les expositions du musée : résolvez les énigmes\, suivez les indices… et questionnez ce qui fait oeuvre. \n\n\n	Similaire
URL:https://crocoule.org/notre-evenement/saint-priest-en-jarez-jeu-denquete-au-musee-sixieme-sens-2/2026-01-31/
LOCATION:MAMC\, Saint Priest en Jarez
CATEGORIES:11 ans +,12 ans +,En famille,Expo,Intérieur,Tous les événements,Tout public
END:VEVENT
BEGIN:VEVENT
DTSTART;TZID=Europe/Paris:20260124T160000
DTEND;TZID=Europe/Paris:20260124T170000
DTSTAMP:20260421T141409
CREATED:20251202T120857Z
LAST-MODIFIED:20251202T120857Z
UID:10012677-1769270400-1769274000@crocoule.org
SUMMARY:Saint-Priest-en-Jarez | Jeu d'enquête au musée - Sixième sens
DESCRIPTION:Et si l’art lui-même était une énigme ? En équipe\, menez l’enquête dans les expositions du musée : résolvez les énigmes\, suivez les indices… et questionnez ce qui fait oeuvre. \n\n\n	Similaire
URL:https://crocoule.org/notre-evenement/saint-priest-en-jarez-jeu-denquete-au-musee-sixieme-sens-2/2026-01-24/
LOCATION:MAMC\, Saint Priest en Jarez
CATEGORIES:11 ans +,12 ans +,En famille,Expo,Intérieur,Tous les événements,Tout public
END:VEVENT
BEGIN:VEVENT
DTSTART;TZID=Europe/Paris:20260117T160000
DTEND;TZID=Europe/Paris:20260117T170000
DTSTAMP:20260421T141409
CREATED:20251202T120857Z
LAST-MODIFIED:20251202T120857Z
UID:10012676-1768665600-1768669200@crocoule.org
SUMMARY:Saint-Priest-en-Jarez | Jeu d'enquête au musée - Sixième sens
DESCRIPTION:Et si l’art lui-même était une énigme ? En équipe\, menez l’enquête dans les expositions du musée : résolvez les énigmes\, suivez les indices… et questionnez ce qui fait oeuvre. \n\n\n	Similaire
URL:https://crocoule.org/notre-evenement/saint-priest-en-jarez-jeu-denquete-au-musee-sixieme-sens-2/2026-01-17/
LOCATION:MAMC\, Saint Priest en Jarez
CATEGORIES:11 ans +,12 ans +,En famille,Expo,Intérieur,Tous les événements,Tout public
END:VEVENT
BEGIN:VEVENT
DTSTART;TZID=Europe/Paris:20260110T160000
DTEND;TZID=Europe/Paris:20260110T170000
DTSTAMP:20260421T141409
CREATED:20251202T120857Z
LAST-MODIFIED:20251202T120857Z
UID:10012675-1768060800-1768064400@crocoule.org
SUMMARY:Saint-Priest-en-Jarez | Jeu d'enquête au musée - Sixième sens
DESCRIPTION:Et si l’art lui-même était une énigme ? En équipe\, menez l’enquête dans les expositions du musée : résolvez les énigmes\, suivez les indices… et questionnez ce qui fait oeuvre. \n\n\n	Similaire
URL:https://crocoule.org/notre-evenement/saint-priest-en-jarez-jeu-denquete-au-musee-sixieme-sens-2/2026-01-10/
LOCATION:MAMC\, Saint Priest en Jarez
CATEGORIES:11 ans +,12 ans +,En famille,Expo,Intérieur,Tous les événements,Tout public
END:VEVENT
BEGIN:VEVENT
DTSTART;TZID=Europe/Paris:20260103T160000
DTEND;TZID=Europe/Paris:20260103T170000
DTSTAMP:20260421T141409
CREATED:20251202T120857Z
LAST-MODIFIED:20251202T120857Z
UID:10012674-1767456000-1767459600@crocoule.org
SUMMARY:Saint-Priest-en-Jarez | Jeu d'enquête au musée - Sixième sens
DESCRIPTION:Et si l’art lui-même était une énigme ? En équipe\, menez l’enquête dans les expositions du musée : résolvez les énigmes\, suivez les indices… et questionnez ce qui fait oeuvre. \n\n\n	Similaire
URL:https://crocoule.org/notre-evenement/saint-priest-en-jarez-jeu-denquete-au-musee-sixieme-sens-2/2026-01-03/
LOCATION:MAMC\, Saint Priest en Jarez
CATEGORIES:11 ans +,12 ans +,En famille,Expo,Intérieur,Tous les événements,Tout public
END:VEVENT
BEGIN:VEVENT
DTSTART;TZID=Europe/Paris:20251231T090000
DTEND;TZID=Europe/Paris:20251231T120000
DTSTAMP:20260421T141409
CREATED:20251127T140913Z
LAST-MODIFIED:20260228T145649Z
UID:10012490-1767171600-1767182400@crocoule.org
SUMMARY:Saint-Priest-en-Jarez | Transparence
DESCRIPTION:Les enfants de 4 à 6 ans créent un assemblage d’objets et matériaux transparents\, puis le dessinent en jouant avec les effets de lumière et de transparence. Un atelier pour éveiller le regard. \n\n\n	Similaire
URL:https://crocoule.org/notre-evenement/saint-priest-en-jarez-transparence-2/
LOCATION:MAMC\, Saint Priest en Jarez
CATEGORIES:Activité pendant les vacances,Tous les événements
ATTACH;FMTTYPE=image/jpeg:https://crocoule.org/wp-content/uploads/2025/11/DESSIN_ESPACE-HMyh4M.jpg
END:VEVENT
BEGIN:VEVENT
DTSTART;TZID=Europe/Paris:20251229T090000
DTEND;TZID=Europe/Paris:20251229T170000
DTSTAMP:20260421T141409
CREATED:20251127T140914Z
LAST-MODIFIED:20260228T145649Z
UID:10012491-1766998800-1767027600@crocoule.org
SUMMARY:Saint-Priest-en-Jarez | Laboratoire créatif
DESCRIPTION:Les enfants de 7 à 10 ans explorent la lumière et la couleur en créant des volumes transparents. Un atelier pour expérimenter avec la matière et jouer avec l’immatériel ! \n\n\n	Similaire
URL:https://crocoule.org/notre-evenement/saint-priest-en-jarez-laboratoire-creatif-2/
LOCATION:MAMC\, Saint Priest en Jarez
CATEGORIES:Activité pendant les vacances,Tous les événements
ATTACH;FMTTYPE=image/jpeg:https://crocoule.org/wp-content/uploads/2025/11/ATELIER_ENFANT_Motif_photo-h31rCO.jpg
END:VEVENT
BEGIN:VEVENT
DTSTART;TZID=Europe/Paris:20251227T160000
DTEND;TZID=Europe/Paris:20251227T170000
DTSTAMP:20260421T141409
CREATED:20251202T120857Z
LAST-MODIFIED:20251202T120857Z
UID:10012673-1766851200-1766854800@crocoule.org
SUMMARY:Saint-Priest-en-Jarez | Jeu d'enquête au musée - Sixième sens
DESCRIPTION:Et si l’art lui-même était une énigme ? En équipe\, menez l’enquête dans les expositions du musée : résolvez les énigmes\, suivez les indices… et questionnez ce qui fait oeuvre. \n\n\n	Similaire
URL:https://crocoule.org/notre-evenement/saint-priest-en-jarez-jeu-denquete-au-musee-sixieme-sens-2/2025-12-27/
LOCATION:MAMC\, Saint Priest en Jarez
CATEGORIES:11 ans +,12 ans +,En famille,Expo,Intérieur,Tous les événements,Tout public
END:VEVENT
BEGIN:VEVENT
DTSTART;TZID=Europe/Paris:20251226T090000
DTEND;TZID=Europe/Paris:20251226T170000
DTSTAMP:20260421T141409
CREATED:20251127T140901Z
LAST-MODIFIED:20260228T145645Z
UID:10012486-1766739600-1766768400@crocoule.org
SUMMARY:Saint-Priest-en-Jarez | Sculpture de lumière
DESCRIPTION:Les adolescents de 11 à 14 ans composent des assemblages d’objets translucides et explorent les jeux de lumière en les mettant en scène. Un atelier pour expérimenter les effets de la lumière à travers les matériaux. \n\n\n	Similaire
URL:https://crocoule.org/notre-evenement/saint-priest-en-jarez-sculpture-de-lumiere/
LOCATION:MAMC\, Saint Priest en Jarez
CATEGORIES:Activité pendant les vacances,Tous les événements
ATTACH;FMTTYPE=image/jpeg:https://crocoule.org/wp-content/uploads/2025/11/ATELIER_ado-BLyn0K.jpg
END:VEVENT
BEGIN:VEVENT
DTSTART;TZID=Europe/Paris:20251224T090000
DTEND;TZID=Europe/Paris:20251224T120000
DTSTAMP:20260421T141409
CREATED:20251127T140858Z
LAST-MODIFIED:20260228T145643Z
UID:10012484-1766566800-1766577600@crocoule.org
SUMMARY:Saint-Priest-en-Jarez | Transparence
DESCRIPTION:Les enfants de 4 à 6 ans créent un assemblage d’objets et matériaux transparents\, puis le dessinent en jouant avec les effets de lumière et de transparence. Un atelier pour éveiller le regard. \n\n\n	Similaire
URL:https://crocoule.org/notre-evenement/saint-priest-en-jarez-transparence/
LOCATION:MAMC\, Saint Priest en Jarez
CATEGORIES:Activité pendant les vacances,Tous les événements
ATTACH;FMTTYPE=image/jpeg:https://crocoule.org/wp-content/uploads/2025/11/DESSIN_ESPACE-HMyh4M.jpg
END:VEVENT
BEGIN:VEVENT
DTSTART;TZID=Europe/Paris:20251222T090000
DTEND;TZID=Europe/Paris:20251222T170000
DTSTAMP:20260421T141409
CREATED:20251127T140900Z
LAST-MODIFIED:20260228T145644Z
UID:10012485-1766394000-1766422800@crocoule.org
SUMMARY:Saint-Priest-en-Jarez | Laboratoire créatif
DESCRIPTION:Les enfants de 7 à 10 ans explorent la lumière et la couleur en créant des volumes transparents. Un atelier pour expérimenter avec la matière et jouer avec l’immatériel ! \n\n\n	Similaire
URL:https://crocoule.org/notre-evenement/saint-priest-en-jarez-laboratoire-creatif/
LOCATION:MAMC\, Saint Priest en Jarez
CATEGORIES:Activité pendant les vacances,Tous les événements
ATTACH;FMTTYPE=image/jpeg:https://crocoule.org/wp-content/uploads/2025/11/ATELIER_ENFANT_Motif_photo-h31rCO.jpg
END:VEVENT
BEGIN:VEVENT
DTSTART;TZID=Europe/Paris:20251220T160000
DTEND;TZID=Europe/Paris:20251220T170000
DTSTAMP:20260421T141409
CREATED:20251202T120857Z
LAST-MODIFIED:20251202T120857Z
UID:10012672-1766246400-1766250000@crocoule.org
SUMMARY:Saint-Priest-en-Jarez | Jeu d'enquête au musée - Sixième sens
DESCRIPTION:Et si l’art lui-même était une énigme ? En équipe\, menez l’enquête dans les expositions du musée : résolvez les énigmes\, suivez les indices… et questionnez ce qui fait oeuvre. \n\n\n	Similaire
URL:https://crocoule.org/notre-evenement/saint-priest-en-jarez-jeu-denquete-au-musee-sixieme-sens-2/2025-12-20/
LOCATION:MAMC\, Saint Priest en Jarez
CATEGORIES:11 ans +,12 ans +,En famille,Expo,Intérieur,Tous les événements,Tout public
END:VEVENT
BEGIN:VEVENT
DTSTART;TZID=Europe/Paris:20251213T160000
DTEND;TZID=Europe/Paris:20251213T170000
DTSTAMP:20260421T141409
CREATED:20251202T120857Z
LAST-MODIFIED:20251202T120857Z
UID:10012671-1765641600-1765645200@crocoule.org
SUMMARY:Saint-Priest-en-Jarez | Jeu d'enquête au musée - Sixième sens
DESCRIPTION:Et si l’art lui-même était une énigme ? En équipe\, menez l’enquête dans les expositions du musée : résolvez les énigmes\, suivez les indices… et questionnez ce qui fait oeuvre. \n\n\n	Similaire
URL:https://crocoule.org/notre-evenement/saint-priest-en-jarez-jeu-denquete-au-musee-sixieme-sens-2/2025-12-13/
LOCATION:MAMC\, Saint Priest en Jarez
CATEGORIES:11 ans +,12 ans +,En famille,Expo,Intérieur,Tous les événements,Tout public
END:VEVENT
BEGIN:VEVENT
DTSTART;TZID=Europe/Paris:20251206T160000
DTEND;TZID=Europe/Paris:20251206T170000
DTSTAMP:20260421T141409
CREATED:20251202T120857Z
LAST-MODIFIED:20251202T120857Z
UID:10012670-1765036800-1765040400@crocoule.org
SUMMARY:Saint-Priest-en-Jarez | Jeu d'enquête au musée - Sixième sens
DESCRIPTION:Et si l’art lui-même était une énigme ? En équipe\, menez l’enquête dans les expositions du musée : résolvez les énigmes\, suivez les indices… et questionnez ce qui fait oeuvre. \n\n\n	Similaire
URL:https://crocoule.org/notre-evenement/saint-priest-en-jarez-jeu-denquete-au-musee-sixieme-sens-2/2025-12-06/
LOCATION:MAMC\, Saint Priest en Jarez
CATEGORIES:11 ans +,12 ans +,En famille,Expo,Intérieur,Tous les événements,Tout public
END:VEVENT
BEGIN:VEVENT
DTSTART;TZID=Europe/Paris:20251122T143000
DTEND;TZID=Europe/Paris:20251122T143000
DTSTAMP:20260421T141409
CREATED:20251127T140905Z
LAST-MODIFIED:20260228T145646Z
UID:10012488-1763821800-1763821800@crocoule.org
SUMMARY:Saint-Priest-en-Jarez | Dans tous les sens
DESCRIPTION:Une visite où les enfants de 5 à 11 ans découvrent les trois expositions à travers des activités variées : jeu de construction\, activation de performance\, lecture de conte\, et plus encore. Bonne idée : profitez-en pour participer à la visite découverte du musée pour adultes (tous les samedis et dimanches à 14h30) ! \n\n\n	Similaire
URL:https://crocoule.org/notre-evenement/saint-priest-en-jarez-dans-tous-les-sens/
LOCATION:MAMC\, Saint Priest en Jarez
CATEGORIES:05 ans +,Activité du week-end,Tous les événements
ATTACH;FMTTYPE=image/jpeg:https://crocoule.org/wp-content/uploads/2025/11/VISITE_Dans_tous_les_sens-2e2O7S.jpg
END:VEVENT
BEGIN:VEVENT
DTSTART;TZID=Europe/Paris:20251119T160000
DTEND;TZID=Europe/Paris:20251119T171500
DTSTAMP:20260421T141409
CREATED:20251127T140903Z
LAST-MODIFIED:20260228T145645Z
UID:10012487-1763568000-1763572500@crocoule.org
SUMMARY:Saint-Priest-en-Jarez | Ensemble !
DESCRIPTION:Venez en famille explorer les expositions lors d’une visite ludique et participative\, pensée pour petits et grands \n\n\n	Similaire
URL:https://crocoule.org/notre-evenement/saint-priest-en-jarez-ensemble/
LOCATION:MAMC\, Saint Priest en Jarez
CATEGORIES:06 ans +,Activité du week-end,Activité en semaine,Tous les événements
ATTACH;FMTTYPE=image/jpeg:https://crocoule.org/wp-content/uploads/2025/11/VISITE_Ensemble-UqJYQv.jpg
END:VEVENT
BEGIN:VEVENT
DTSTART;TZID=Europe/Paris:20251108T160000
DTEND;TZID=Europe/Paris:20260315T171500
DTSTAMP:20260421T141409
CREATED:20260228T145648Z
LAST-MODIFIED:20260228T145648Z
UID:10012825-1762617600-1773594900@crocoule.org
SUMMARY:Saint-Priest-en-Jarez | Jeu d'enquête au musée - Sixième sens
DESCRIPTION:Et si l’art lui-même était une énigme ? En équipe\, menez l’enquête dans les expositions du musée : résolvez les énigmes\, suivez les indices… et questionnez ce qui fait oeuvre. \n\n\n	Similaire
URL:https://crocoule.org/notre-evenement/saint-priest-en-jarez-jeu-denquete-au-musee-sixieme-sens-3/
LOCATION:MAMC\, Saint Priest en Jarez
CATEGORIES:11 ans +,Activité du week-end,Tous les événements
ATTACH;FMTTYPE=image/jpeg:https://crocoule.org/wp-content/uploads/2025/11/Jeu_Sixieme_Sens_Hubert-Genouilhac-gwl0ch.jpg
END:VEVENT
BEGIN:VEVENT
DTSTART;TZID=Europe/Paris:20250220T090000
DTEND;TZID=Europe/Paris:20260220T170000
DTSTAMP:20260421T141409
CREATED:20251127T140925Z
LAST-MODIFIED:20260228T145708Z
UID:10012498-1740042000-1771606800@crocoule.org
SUMMARY:Saint-Priest-en-Jarez | Sculpture de lumière
DESCRIPTION:Les adolescents de 11 à 14 ans composent des assemblages d’objets translucides et explorent les jeux de lumière en les mettant en scène. Un atelier pour expérimenter les effets de la lumière à travers les matériaux. \n\n\n	Similaire
URL:https://crocoule.org/notre-evenement/saint-priest-en-jarez-sculpture-de-lumiere-4/
LOCATION:MAMC\, Saint Priest en Jarez
CATEGORIES:Activité pendant les vacances,Tous les événements
ATTACH;FMTTYPE=image/jpeg:https://crocoule.org/wp-content/uploads/2025/11/ATELIER_ado-BLyn0K.jpg
END:VEVENT
BEGIN:VEVENT
DTSTART;TZID=Europe/Paris:20250218T090000
DTEND;TZID=Europe/Paris:20260218T120000
DTSTAMP:20260421T141409
CREATED:20251127T140920Z
LAST-MODIFIED:20260228T145704Z
UID:10012494-1739869200-1771416000@crocoule.org
SUMMARY:Saint-Priest-en-Jarez | Transparence
DESCRIPTION:Les enfants de 4 à 6 ans créent un assemblage d’objets et matériaux transparents\, puis le dessinent en jouant avec les effets de lumière et de transparence. Un atelier pour éveiller le regard. \n\n\n	Similaire
URL:https://crocoule.org/notre-evenement/saint-priest-en-jarez-transparence-4/
LOCATION:MAMC\, Saint Priest en Jarez
CATEGORIES:Activité pendant les vacances,Tous les événements
ATTACH;FMTTYPE=image/jpeg:https://crocoule.org/wp-content/uploads/2025/11/DESSIN_ESPACE-HMyh4M.jpg
END:VEVENT
BEGIN:VEVENT
DTSTART;TZID=Europe/Paris:20250213T090000
DTEND;TZID=Europe/Paris:20260213T170000
DTSTAMP:20260421T141409
CREATED:20251127T140924Z
LAST-MODIFIED:20260228T145707Z
UID:10012497-1739437200-1771002000@crocoule.org
SUMMARY:Saint-Priest-en-Jarez | Sculpture de lumière
DESCRIPTION:Les adolescents de 11 à 14 ans composent des assemblages d’objets translucides et explorent les jeux de lumière en les mettant en scène. Un atelier pour expérimenter les effets de la lumière à travers les matériaux. \n\n\n	Similaire
URL:https://crocoule.org/notre-evenement/saint-priest-en-jarez-sculpture-de-lumiere-3/
LOCATION:MAMC\, Saint Priest en Jarez
CATEGORIES:Activité pendant les vacances,Tous les événements
ATTACH;FMTTYPE=image/jpeg:https://crocoule.org/wp-content/uploads/2025/11/ATELIER_ado-BLyn0K.jpg
END:VEVENT
BEGIN:VEVENT
DTSTART;TZID=Europe/Paris:20250212T090000
DTEND;TZID=Europe/Paris:20260212T170000
DTSTAMP:20260421T141409
CREATED:20251127T140921Z
LAST-MODIFIED:20260228T145706Z
UID:10012495-1739350800-1770915600@crocoule.org
SUMMARY:Saint-Priest-en-Jarez | Laboratoire créatif
DESCRIPTION:Les enfants de 7 à 10 ans explorent la lumière et la couleur en créant des volumes transparents. Un atelier pour expérimenter avec la matière et jouer avec l’immatériel ! \n\n\n	Similaire
URL:https://crocoule.org/notre-evenement/saint-priest-en-jarez-laboratoire-creatif-3/
LOCATION:MAMC\, Saint Priest en Jarez
CATEGORIES:Activité pendant les vacances,Tous les événements
ATTACH;FMTTYPE=image/jpeg:https://crocoule.org/wp-content/uploads/2025/11/ATELIER_ENFANT_Motif_photo-h31rCO.jpg
END:VEVENT
BEGIN:VEVENT
DTSTART;TZID=Europe/Paris:20250211T090000
DTEND;TZID=Europe/Paris:20260211T120000
DTSTAMP:20260421T141409
CREATED:20251127T140917Z
LAST-MODIFIED:20260228T145650Z
UID:10012493-1739264400-1770811200@crocoule.org
SUMMARY:Saint-Priest-en-Jarez | Transparence
DESCRIPTION:Les enfants de 4 à 6 ans créent un assemblage d’objets et matériaux transparents\, puis le dessinent en jouant avec les effets de lumière et de transparence. Un atelier pour éveiller le regard. \n\n\n	Similaire
URL:https://crocoule.org/notre-evenement/saint-priest-en-jarez-transparence-3/
LOCATION:MAMC\, Saint Priest en Jarez
CATEGORIES:Activité pendant les vacances,Tous les événements
ATTACH;FMTTYPE=image/jpeg:https://crocoule.org/wp-content/uploads/2025/11/DESSIN_ESPACE-HMyh4M.jpg
END:VEVENT
END:VCALENDAR