BEGIN:VCALENDAR
VERSION:2.0
PRODID:-//Crocoule - ECPv6.15.15//NONSGML v1.0//EN
CALSCALE:GREGORIAN
METHOD:PUBLISH
X-ORIGINAL-URL:https://crocoule.org
X-WR-CALDESC:Évènements pour Crocoule
REFRESH-INTERVAL;VALUE=DURATION:PT1H
X-Robots-Tag:noindex
X-PUBLISHED-TTL:PT1H
BEGIN:VTIMEZONE
TZID:Europe/Paris
BEGIN:DAYLIGHT
TZOFFSETFROM:+0100
TZOFFSETTO:+0200
TZNAME:CEST
DTSTART:20240331T010000
END:DAYLIGHT
BEGIN:STANDARD
TZOFFSETFROM:+0200
TZOFFSETTO:+0100
TZNAME:CET
DTSTART:20241027T010000
END:STANDARD
BEGIN:DAYLIGHT
TZOFFSETFROM:+0100
TZOFFSETTO:+0200
TZNAME:CEST
DTSTART:20250330T010000
END:DAYLIGHT
BEGIN:STANDARD
TZOFFSETFROM:+0200
TZOFFSETTO:+0100
TZNAME:CET
DTSTART:20251026T010000
END:STANDARD
BEGIN:DAYLIGHT
TZOFFSETFROM:+0100
TZOFFSETTO:+0200
TZNAME:CEST
DTSTART:20260329T010000
END:DAYLIGHT
BEGIN:STANDARD
TZOFFSETFROM:+0200
TZOFFSETTO:+0100
TZNAME:CET
DTSTART:20261025T010000
END:STANDARD
BEGIN:DAYLIGHT
TZOFFSETFROM:+0100
TZOFFSETTO:+0200
TZNAME:CEST
DTSTART:20270328T010000
END:DAYLIGHT
BEGIN:STANDARD
TZOFFSETFROM:+0200
TZOFFSETTO:+0100
TZNAME:CET
DTSTART:20271031T010000
END:STANDARD
END:VTIMEZONE
BEGIN:VEVENT
DTSTART;TZID=Europe/Paris:20251031T150000
DTEND;TZID=Europe/Paris:20251031T170000
DTSTAMP:20260421T135855
CREATED:20250904T134047Z
LAST-MODIFIED:20250908T135731Z
UID:10012083-1761922800-1761930000@crocoule.org
SUMMARY:Montbrison | Jeux effrayants :)
DESCRIPTION:A l’occasion d’Halloween\, la Ludothèque de Montbrison anime des jeux drôles et effrayants à partager en famille. Entrée gratuite pour toutes personnes costumées ! Réservation conseillée \n\n\n	Similaire
URL:https://crocoule.org/notre-evenement/montbrison-jeux-effrayants/
CATEGORIES:05 ans +,06 ans +,07 ans +,08 ans +,09 ans +,10 ans +,11 ans +,12 ans +,Activité en semaine,Activité pendant les vacances,En famille,Gratuit,Intérieur,Jeune Public,Tous les événements,Tout public
END:VEVENT
BEGIN:VEVENT
DTSTART;TZID=Europe/Paris:20251030T153000
DTEND;TZID=Europe/Paris:20251030T163000
DTSTAMP:20260421T135855
CREATED:20250904T133850Z
LAST-MODIFIED:20250908T135730Z
UID:10012082-1761838200-1761841800@crocoule.org
SUMMARY:Montbrison | Visite commentée
DESCRIPTION:Visite commentée histoire SURnaturellle de Jean Fontaine. Tarif adulte : 5 € – gratuit pour les enfants \n\n\n	Similaire
URL:https://crocoule.org/notre-evenement/montbrison-visite-commentee-2/
LOCATION:Musee Allard\, 13 Bd de la Préfecture\, montbrison\, 42600\, France
CATEGORIES:10 ans +,11 ans +,12 ans +,Activité en semaine,Activité pendant les vacances,En famille,Expo,Intérieur,Tous les événements
ATTACH;FMTTYPE=image/jpeg:https://crocoule.org/wp-content/uploads/2025/09/514526272_1312605004206017_3190837599324949483_n-REa3y7.jpg
END:VEVENT
BEGIN:VEVENT
DTSTART;TZID=Europe/Paris:20250517T140000
DTEND;TZID=Europe/Paris:20260104T180000
DTSTAMP:20260421T135855
CREATED:20250217T160128Z
LAST-MODIFIED:20250331T100523Z
UID:10010556-1747490400-1767549600@crocoule.org
SUMMARY:Montbriosn | Histoire (sur)naturelle de Jean Fontaine
DESCRIPTION:Le musée d’Allard vous invite à une rencontre inédite entre l’univers fascinant de l’exposition « Histoire (sur)naturelle… ». Jean Fontaine nous invite à une réflexion sur la place de l’humain dans ce processus d’hybridation. \n\n\n	Similaire
URL:https://crocoule.org/notre-evenement/montbriosn-histoire-surnaturelle-de-jean-fontaine/
CATEGORIES:Tous les événements,Tout public
END:VEVENT
BEGIN:VEVENT
DTSTART;TZID=Europe/Paris:20250517T140000
DTEND;TZID=Europe/Paris:20250517T230000
DTSTAMP:20260421T135855
CREATED:20250217T160129Z
LAST-MODIFIED:20250331T100524Z
UID:10010557-1747490400-1747522800@crocoule.org
SUMMARY:Montbrison  | Nuit des musées
DESCRIPTION:Laissez-vous guider par vos sens et découvrez les sculptures de Jean Fontaine d’une manière inédite. Lors de cette journée spéciale\, vous aurez la possibilité de rencontrer l’artiste et de toucher les œuvres à l’aveugle\, une expérience qui vous permettra de ressentir la matière\, les formes\, les textures d’une manière nouvelle. \n\n\n	Similaire
URL:https://crocoule.org/notre-evenement/montbrison-nuit-des-musees/
CATEGORIES:En famille,Tous les événements,Tout public
END:VEVENT
BEGIN:VEVENT
DTSTART;TZID=Europe/Paris:20250430T153000
DTEND;TZID=Europe/Paris:20250430T170000
DTSTAMP:20260421T135855
CREATED:20250217T160127Z
LAST-MODIFIED:20250331T100325Z
UID:10010555-1746027000-1746032400@crocoule.org
SUMMARY:Montbrison | Atelier  Créatif
DESCRIPTION:Recyclez Créez et repartez avec une boîte unique (retro) Un atelier ludique et créatif pour toute le famille \n\n\n	Similaire
URL:https://crocoule.org/notre-evenement/montbrison-atelier-creatif-3/
CATEGORIES:En famille,Tous les événements
END:VEVENT
BEGIN:VEVENT
DTSTART;TZID=Europe/Paris:20250423T153000
DTEND;TZID=Europe/Paris:20250423T170000
DTSTAMP:20260421T135855
CREATED:20250217T160126Z
LAST-MODIFIED:20250331T100324Z
UID:10010554-1745422200-1745427600@crocoule.org
SUMMARY:Montbrison | Atelier Créatif
DESCRIPTION:Venez créer votre cadavre exquis comme dans le cabinet des merveilles \n\n\n	Similaire
URL:https://crocoule.org/notre-evenement/montbrison-atelier-creatif-2/
CATEGORIES:En famille,Tous les événements
END:VEVENT
BEGIN:VEVENT
DTSTART;TZID=Europe/Paris:20250405T153000
DTEND;TZID=Europe/Paris:20250405T160000
DTSTAMP:20260421T135855
CREATED:20250217T160125Z
LAST-MODIFIED:20250331T100324Z
UID:10010553-1743867000-1743868800@crocoule.org
SUMMARY:Montbrison | Tapis à histoires
DESCRIPTION:Les enfants de 18 mois à 3 ans découvrent pour la première fois le musée et ses collections d’histoire naturelle au travers d’un tapis à histoires et de comptines\, \n\n\n	Similaire
URL:https://crocoule.org/notre-evenement/montbrison-tapis-a-histoires-2/
CATEGORIES:En famille,Tous les événements
END:VEVENT
BEGIN:VEVENT
DTSTART;TZID=Europe/Paris:20250315T140000
DTEND;TZID=Europe/Paris:20250316T180000
DTSTAMP:20260421T135855
CREATED:20250331T100323Z
LAST-MODIFIED:20250331T100323Z
UID:10010860-1742047200-1742148000@crocoule.org
SUMMARY:Montbrison | Découverte du cabinet des merveilles
DESCRIPTION:Le Musée d’Allard dévoile son tout nouvel espace dédié aux familles : un véritable Cabinet des Merveilles où petits et grands partiront à la découverte des secrets fascinants de la nature !\nAu programme : une immersion ludique et interactive pour explorer les phénomènes extraordinaires du vivant\, les curiosités de la faune et de la flore\, et se laisser conter les histoires fabuleuses d’êtres chimériques !  \nExpositions temporaires\, animations originales et activités ludiques font de ce musée un lieu  unique et attachant qui ne manquera pas de vous surprendre !  \nVisites théatralisées par Camille Renversade tout au long du weekend. \n\n\n	Similaire
URL:https://crocoule.org/notre-evenement/montbrison-decouverte-du-cabinet-des-merveilles/
CATEGORIES:En famille,Tous les événements
END:VEVENT
END:VCALENDAR