BEGIN:VCALENDAR
VERSION:2.0
PRODID:-//Crocoule - ECPv6.15.20//NONSGML v1.0//EN
CALSCALE:GREGORIAN
METHOD:PUBLISH
X-ORIGINAL-URL:https://crocoule.org
X-WR-CALDESC:Évènements pour Crocoule
REFRESH-INTERVAL;VALUE=DURATION:PT1H
X-Robots-Tag:noindex
X-PUBLISHED-TTL:PT1H
BEGIN:VTIMEZONE
TZID:Europe/Paris
BEGIN:DAYLIGHT
TZOFFSETFROM:+0100
TZOFFSETTO:+0200
TZNAME:CEST
DTSTART:20230326T010000
END:DAYLIGHT
BEGIN:STANDARD
TZOFFSETFROM:+0200
TZOFFSETTO:+0100
TZNAME:CET
DTSTART:20231029T010000
END:STANDARD
BEGIN:DAYLIGHT
TZOFFSETFROM:+0100
TZOFFSETTO:+0200
TZNAME:CEST
DTSTART:20240331T010000
END:DAYLIGHT
BEGIN:STANDARD
TZOFFSETFROM:+0200
TZOFFSETTO:+0100
TZNAME:CET
DTSTART:20241027T010000
END:STANDARD
BEGIN:DAYLIGHT
TZOFFSETFROM:+0100
TZOFFSETTO:+0200
TZNAME:CEST
DTSTART:20250330T010000
END:DAYLIGHT
BEGIN:STANDARD
TZOFFSETFROM:+0200
TZOFFSETTO:+0100
TZNAME:CET
DTSTART:20251026T010000
END:STANDARD
END:VTIMEZONE
BEGIN:VEVENT
DTSTART;TZID=Europe/Paris:20241109T100000
DTEND;TZID=Europe/Paris:20241109T113000
DTSTAMP:20260425T171458
CREATED:20241107T160108Z
LAST-MODIFIED:20241107T160108Z
UID:10009297-1731146400-1731151800@crocoule.org
SUMMARY:MAMC _visite_Dans tous les sens
DESCRIPTION:MAMC _visite_Dans tous les sens \nUne visite sans les parents où les enfants vont découvrir les tableaux géants de l’exposition de la collection du musée Hors Format : Collections en chantier\, grâce à des activités variées telles que puzzle\, jeux de piste\, contes\, manipulations\, etc.  \nPour les enfants de 5 à 11 ans  \nLes samedis à 10h et 14h30  \nLes dimanches à 10h30 et 14h30  \nDurée : 1h15  \nTarif : gratuit  \n\n\n	Similaire
URL:https://crocoule.org/notre-evenement/mamc-_visite_dans-tous-les-sens_famille_saint-etienne/2024-11-09/1/
LOCATION:MAMC\, Saint Priest en Jarez
CATEGORIES:05 ans +,06 ans +,07 ans +,08 ans +,09 ans +,10 ans +,Intérieur,Tous les événements
ATTACH;FMTTYPE=image/jpeg:https://crocoule.org/wp-content/uploads/2024/11/MA-VISITE-famille-enfants-VISITE-ENFANTS-Pierre-Grasset-StEtienne_0210361-L3000.jpeg
END:VEVENT
END:VCALENDAR