BEGIN:VCALENDAR
VERSION:2.0
PRODID:-//Crocoule - ECPv6.15.15//NONSGML v1.0//EN
CALSCALE:GREGORIAN
METHOD:PUBLISH
X-WR-CALNAME:Crocoule
X-ORIGINAL-URL:https://crocoule.org
X-WR-CALDESC:Évènements pour Crocoule
REFRESH-INTERVAL;VALUE=DURATION:PT1H
X-Robots-Tag:noindex
X-PUBLISHED-TTL:PT1H
BEGIN:VTIMEZONE
TZID:Europe/Paris
BEGIN:DAYLIGHT
TZOFFSETFROM:+0100
TZOFFSETTO:+0200
TZNAME:CEST
DTSTART:20200329T010000
END:DAYLIGHT
BEGIN:STANDARD
TZOFFSETFROM:+0200
TZOFFSETTO:+0100
TZNAME:CET
DTSTART:20201025T010000
END:STANDARD
BEGIN:DAYLIGHT
TZOFFSETFROM:+0100
TZOFFSETTO:+0200
TZNAME:CEST
DTSTART:20210328T010000
END:DAYLIGHT
BEGIN:STANDARD
TZOFFSETFROM:+0200
TZOFFSETTO:+0100
TZNAME:CET
DTSTART:20211031T010000
END:STANDARD
BEGIN:DAYLIGHT
TZOFFSETFROM:+0100
TZOFFSETTO:+0200
TZNAME:CEST
DTSTART:20220327T010000
END:DAYLIGHT
BEGIN:STANDARD
TZOFFSETFROM:+0200
TZOFFSETTO:+0100
TZNAME:CET
DTSTART:20221030T010000
END:STANDARD
END:VTIMEZONE
BEGIN:VEVENT
DTSTART;TZID=Europe/Paris:20210120T133000
DTEND;TZID=Europe/Paris:20210120T163000
DTSTAMP:20260421T054637
CREATED:20201230T104633Z
LAST-MODIFIED:20201230T104634Z
UID:10000043-1611149400-1611160200@crocoule.org
SUMMARY:Club Nature Pic & Pêche en forêt
DESCRIPTION:Un accueil pour passer du temps\, jouer \, découvrir les richesses de la nature au fil des saisons en restant DEHORS dans un bois aménagé ! Tous les mercredis après midi de 13h30 à 16h30 pour les 7- 12 ans sur réservation \n\n\n\n\n\n\n\n\n\n\n\n\n	Similaire
URL:https://crocoule.org/notre-evenement/club-nature-pic-peche-en-foret-3/
ORGANIZER;CN="Les Chaumettes":MAILTO:bionheur.en.herbe@gmail.com
END:VEVENT
BEGIN:VEVENT
DTSTART;TZID=Europe/Paris:20210113T133000
DTEND;TZID=Europe/Paris:20210113T163000
DTSTAMP:20260421T054637
CREATED:20201230T102209Z
LAST-MODIFIED:20201230T102210Z
UID:10000038-1610544600-1610555400@crocoule.org
SUMMARY:Club Nature Pic & Pêche en forêt
DESCRIPTION:Un accueil pour passer du temps\, jouer \, découvrir les richesses de la nature au fil des saisons en restant DEHORS dans un bois aménagé ! Tous les mercredis après midi de 13h30 à 16h30 pour les 7- 12 ans sur réservation \n\n\n\n\n\n\n\n\n\n\n\n\n	Similaire
URL:https://crocoule.org/notre-evenement/club-nature-pic-peche-en-foret-2/
ORGANIZER;CN="Les Chaumettes":MAILTO:bionheur.en.herbe@gmail.com
END:VEVENT
BEGIN:VEVENT
DTSTART;TZID=Europe/Paris:20210106T133000
DTEND;TZID=Europe/Paris:20210106T163000
DTSTAMP:20260421T054637
CREATED:20201230T100754Z
LAST-MODIFIED:20201230T100755Z
UID:10000035-1609939800-1609950600@crocoule.org
SUMMARY:Club Nature Pic & Pêche en forêt
DESCRIPTION:Un accueil pour passer du temps\, jouer \, découvrir les richesses de la nature au fil des saisons en restant DEHORS dans un bois aménagé ! Tous les mercredis après midi de 13h30 à 16h30 pour les 7- 12 ans sur réservation \n\n\n\n\n\n\n\n\n\n\n	Similaire
URL:https://crocoule.org/notre-evenement/club-nature-pic-peche-en-foret/
LOCATION:Retournac
ORGANIZER;CN="Les Chaumettes":MAILTO:bionheur.en.herbe@gmail.com
END:VEVENT
END:VCALENDAR