BEGIN:VCALENDAR
VERSION:2.0
PRODID:-//Crocoule - ECPv6.15.15//NONSGML v1.0//EN
CALSCALE:GREGORIAN
METHOD:PUBLISH
X-WR-CALNAME:Crocoule
X-ORIGINAL-URL:https://crocoule.org
X-WR-CALDESC:Évènements pour Crocoule
REFRESH-INTERVAL;VALUE=DURATION:PT1H
X-Robots-Tag:noindex
X-PUBLISHED-TTL:PT1H
BEGIN:VTIMEZONE
TZID:Europe/Paris
BEGIN:DAYLIGHT
TZOFFSETFROM:+0100
TZOFFSETTO:+0200
TZNAME:CEST
DTSTART:20240331T010000
END:DAYLIGHT
BEGIN:STANDARD
TZOFFSETFROM:+0200
TZOFFSETTO:+0100
TZNAME:CET
DTSTART:20241027T010000
END:STANDARD
BEGIN:DAYLIGHT
TZOFFSETFROM:+0100
TZOFFSETTO:+0200
TZNAME:CEST
DTSTART:20250330T010000
END:DAYLIGHT
BEGIN:STANDARD
TZOFFSETFROM:+0200
TZOFFSETTO:+0100
TZNAME:CET
DTSTART:20251026T010000
END:STANDARD
BEGIN:DAYLIGHT
TZOFFSETFROM:+0100
TZOFFSETTO:+0200
TZNAME:CEST
DTSTART:20260329T010000
END:DAYLIGHT
BEGIN:STANDARD
TZOFFSETFROM:+0200
TZOFFSETTO:+0100
TZNAME:CET
DTSTART:20261025T010000
END:STANDARD
BEGIN:DAYLIGHT
TZOFFSETFROM:+0100
TZOFFSETTO:+0200
TZNAME:CEST
DTSTART:20270328T010000
END:DAYLIGHT
BEGIN:STANDARD
TZOFFSETFROM:+0200
TZOFFSETTO:+0100
TZNAME:CET
DTSTART:20271031T010000
END:STANDARD
END:VTIMEZONE
BEGIN:VEVENT
DTSTART;TZID=Europe/Paris:20260418T203000
DTEND;TZID=Europe/Paris:20260418T221500
DTSTAMP:20260421T152659
CREATED:20260301T113331Z
LAST-MODIFIED:20260301T113331Z
UID:10013124-1776544200-1776550500@crocoule.org
SUMMARY:La Talaudière  | Des sorcières comme les autres Matacha & La Souris Noire
DESCRIPTION:Par son verbe et ses positions\, elle a dessiné de nouvelles rives\nféminines\, élargissant l’horizon de la chanson francophone pour\nlui donner ses lettres plurielles\, originales et insolentes\nCette création\, en mêlant son répertoire à celui de ces cinq\nautrices\, interprètes et compositrices\, se fait le reflet de ce\nqu’Anne Sylvestre a su leur insuffler. De la tendresse à la force\,\nla rencontre de ces univers fait résonner son chant au creux\nde leurs rimes et les réunis quelque part entre ses bras\, en\nfrangines. Avec Yoanna (chant\, accordéon\, set\npercussion)\, Lily Luca (chant\, guitare)\,\nNawel Dombrowsky (chant\, tambour\nchamane)\, Garance (chant\, guitare)\,\nLouise O’sman (chant\, accordéon\,\ntambourin)\nTextes Anne Sylvestre\nArrangements Yoanna\,  Lily Luca\,\nNawel Dombrowsky\, Garance\, Louise\no’sman\nMise en scène Laetitia Grimaldi\nCo-production : MATCHA ; La souris Noire.\nAvec le soutien de La maison de l’eau –\nThéâtre d’Allègre-les-Fumades ; CNM \n\n\n	Similaire
URL:https://crocoule.org/notre-evenement/la-talaudiere-des-sorcieres-comme-les-autres-matacha-la-souris-noire/
LOCATION:Centre culturel Le Sou\, Rue Romain Rolland\, La Talaudière\, 42350\, France
CATEGORIES:Activité du week-end,En famille,Intérieur,Tous les événements,Tout public
ORGANIZER;CN="Le Sou":MAILTO:billetterie-lesou@latalaudiere.fr
END:VEVENT
BEGIN:VEVENT
DTSTART;TZID=Europe/Paris:20260306T203000
DTEND;TZID=Europe/Paris:20260306T214500
DTSTAMP:20260421T152659
CREATED:20251126T151201Z
LAST-MODIFIED:20260301T113331Z
UID:10012445-1772829000-1772833500@crocoule.org
SUMMARY:La Talaudière  | Ça déménage Cie Racines Carrées
DESCRIPTION:Ça déménage : En chantier\, comme une vie passée à construire et déconstruire ! Un déménagement chorégraphique\, où le jeu\, le plaisir laisse place à l’imprévu. Une danse urbaine dynamique\, spontanée et poétique qui s’affranchit de toute considération esthétique stéréotypée et qui s’engage et transcende pour que l’Art soit une fenêtre pour tous. 1ère partie Cap Danse (Le Voyage d’Ankthi) Le Voyage d’Ankthi nous fait découvrir Ankhti\, une jeune égyptienne\, qui depuis le port d’Alexandrie en -27 avant notre ère commune\, rêve de voyage et de découverte. Représentation au Pôle Festif de La Talaudière Rue du Stade 42350 La Talaudière \n\n\n	Similaire
URL:https://crocoule.org/notre-evenement/la-talaudiere-ca-demenage-cie-racines-carrees/
LOCATION:Centre culturel Le Sou\, Rue Romain Rolland\, La Talaudière\, 42350\, France
CATEGORIES:12 ans +,En famille,Intérieur,Tous les événements
ORGANIZER;CN="Le Sou":MAILTO:billetterie-lesou@latalaudiere.fr
END:VEVENT
BEGIN:VEVENT
DTSTART;TZID=Europe/Paris:20260228T203000
DTEND;TZID=Europe/Paris:20260228T214500
DTSTAMP:20260421T152659
CREATED:20251126T151147Z
LAST-MODIFIED:20251126T151154Z
UID:10012442-1772310600-1772315100@crocoule.org
SUMMARY:La Talaudière  | Entrée des Artistes Cie Madani
DESCRIPTION:« Il me vient souvent cette pensée de n’être pas au niveau de ceux qui ont eu la chance de parler la même langue que leurs parents. C’est dans ce hiatus\, cette béance des mots non-dits\, et non compris\, que ma volonté de raconter ce qu’on ne voit pas du monde se tient. La question du désir d’art\, de poésie\, d’écriture\, me hante depuis toujours. Comment et pourquoi devient-on artiste dramatique est la seule question que j’ai posée à ces jeunes gens. Y a-t-il une réponse possible ? C’est tout l’enjeu de cette Entrée des artistes qui amène ces élèves comédiennes et comédiens à rechercher au plus profond d’eux l’origine de leur désir de théâtre ». « Ahmed Madani\, tel un passeur de parole\, a construit un spectacle avec une écriture épatante de fluidité. Son théâtre est pour tous\, généreux et profond\, réjouissant et bouleversant. » Sandrine Blanchard – Le Monde \n\n\n	Similaire
URL:https://crocoule.org/notre-evenement/la-talaudiere-entree-des-artistes-cie-madani/
LOCATION:Centre culturel Le Sou\, Rue Romain Rolland\, La Talaudière\, 42350\, France
CATEGORIES:12 ans +,Intérieur,Tous les événements,Tout public
ORGANIZER;CN="Le Sou":MAILTO:billetterie-lesou@latalaudiere.fr
END:VEVENT
BEGIN:VEVENT
DTSTART;TZID=Europe/Paris:20260220T203000
DTEND;TZID=Europe/Paris:20260220T220000
DTSTAMP:20260421T152659
CREATED:20251126T151145Z
LAST-MODIFIED:20251126T151153Z
UID:10012441-1771619400-1771624800@crocoule.org
SUMMARY:La Talaudière  | Parents Mélissa et Fred
DESCRIPTION:On en appelle à tous les parents\, jeunes parents\, parents d’ados\, grands-parents\, parents d’enfant unique\, de famille nombreuse ou recomposée. Darons\, daronnes\, expérimentés ou en devenir\, ce spectacle est fait pour vous ! « Avant on avait des principes\, aujourd’hui on a des enfants… » Dans cette création\, Mélissa et Fred parlent de la parentalité sans complexe. Sans langue de bois\, ce spectacle retranscrit tout ce qu’on n’ose pas toujours dire à voix haute\, vous en ressortirez en vous disant que vous n’êtes pas tout seul… « Le duo d’humoristes Mélissa & Fred cartonne sur les réseaux comme sur scène\, à voir ! » La Dépêche du Midi \n\n\n	Similaire
URL:https://crocoule.org/notre-evenement/la-talaudiere-parents-melissa-et-fred/
LOCATION:Centre culturel Le Sou\, Rue Romain Rolland\, La Talaudière\, 42350\, France
CATEGORIES:08 ans +,En famille,Intérieur,Tous les événements,Tout public
ORGANIZER;CN="Le Sou":MAILTO:billetterie-lesou@latalaudiere.fr
END:VEVENT
BEGIN:VEVENT
DTSTART;TZID=Europe/Paris:20260205T200000
DTEND;TZID=Europe/Paris:20260205T214000
DTSTAMP:20260421T152659
CREATED:20251126T151144Z
LAST-MODIFIED:20251126T151152Z
UID:10012440-1770321600-1770327600@crocoule.org
SUMMARY:La Talaudière  | 4 211 km Cie Nouveau Jour
DESCRIPTION:Yalda\, leur fille née à Paris\, nous raconte leur vie exilée\, leur combat pour la liberté\, l’amour d’un pays et l’espoir d’un retour. Elle nous balade entre ses deux mondes : sa famille\, des déracinés qui ne se plaignent jamais\, et la société française dans laquelle elle cherche désespérément sa place. C’est l’histoire d’un héritage que l’on aime et que l’on déteste\, c’est l’histoire d’hommes et de femmes qui cherchent à se frayer un nouveau chemin. Alors qu’en Iran le peuple se révolte depuis plus d’un an\, cette pièce résonne de manière particulière. Elle nous éclaire sur la barbarie du régime islamique et témoigne du combat que mènent les Iraniens depuis plus de 44 ans – ceux qui ne sont plus là\, ceux qui sont restés et les exilés. « Un grand récit qui emporte et bouleverse\, grâce à sa fluidité remarquable et à l’engagement des comédiens. (…) tout est juste\, savamment dosé et mû par une émotion retenue. De cette pudeur émane la beauté\, mais aussi la force d’un combat pour la liberté\, plus essentiel et d’actualité que jamais. » TTT – Télérama \n\n\n	Similaire
URL:https://crocoule.org/notre-evenement/la-talaudiere-4-211-km-cie-nouveau-jour/
LOCATION:Centre culturel Le Sou\, Rue Romain Rolland\, La Talaudière\, 42350\, France
CATEGORIES:12 ans +,Activité en semaine,En famille,Intérieur,Tous les événements
ORGANIZER;CN="Le Sou":MAILTO:billetterie-lesou@latalaudiere.fr
END:VEVENT
BEGIN:VEVENT
DTSTART;TZID=Europe/Paris:20260122T190000
DTEND;TZID=Europe/Paris:20260122T203000
DTSTAMP:20260421T152659
CREATED:20251126T151150Z
LAST-MODIFIED:20251126T151150Z
UID:10012444-1769108400-1769113800@crocoule.org
SUMMARY:La Talaudière  | La Cogneuse Cie Halte
DESCRIPTION:Un laboratoire d’influences à ciel ouvert où voix\, instruments acoustiques et sonorités synthético-organiques fusionnent et rendent un travail fin et léché sur le texte\, les effets\, les arrangements et le son du groupe. C’est aussi la rencontre de sensibilités fortes au cursus spécifique ; une chanteuse claviériste solo\, un percussionniste perfectionné en MAO (musique assistée par ordinateur)\, et un auteur multi-instrumentiste au long bagage théâtral. La Cogneuse propose un concert-spectacle\, mélange aérien prêt à vous faire survoler de lointains espaces\, un voyage en orbite et sans retour… \n\n\n	Similaire
URL:https://crocoule.org/notre-evenement/la-talaudiere-la-cogneuse-cie-halte-2/
LOCATION:Centre culturel Le Sou\, Rue Romain Rolland\, La Talaudière\, 42350\, France
ORGANIZER;CN="Le Sou":MAILTO:billetterie-lesou@latalaudiere.fr
END:VEVENT
BEGIN:VEVENT
DTSTART;TZID=Europe/Paris:20260122T190000
DTEND;TZID=Europe/Paris:20260122T203000
DTSTAMP:20260421T152659
CREATED:20251126T151142Z
LAST-MODIFIED:20251126T151142Z
UID:10012439-1769108400-1769113800@crocoule.org
SUMMARY:La Talaudière  | La Cogneuse Cie Halte
DESCRIPTION:Un laboratoire d’influences à ciel ouvert où voix\, instruments acoustiques et sonorités synthético-organiques fusionnent et rendent un travail fin et léché sur le texte\, les effets\, les arrangements et le son du groupe. C’est aussi la rencontre de sensibilités fortes au cursus spécifique ; une chanteuse claviériste solo\, un percussionniste perfectionné en MAO (musique assistée par ordinateur)\, et un auteur multi-instrumentiste au long bagage théâtral. La Cogneuse propose un concert-spectacle\, mélange aérien prêt à vous faire survoler de lointains espaces\, un voyage en orbite et sans retour… \n\n\n	Similaire
URL:https://crocoule.org/notre-evenement/la-talaudiere-la-cogneuse-cie-halte/
LOCATION:Centre culturel Le Sou\, Rue Romain Rolland\, La Talaudière\, 42350\, France
CATEGORIES:08 ans +,Activité du week-end,En famille,Intérieur,Tous les événements,Tout public
ORGANIZER;CN="Le Sou":MAILTO:billetterie-lesou@latalaudiere.fr
END:VEVENT
BEGIN:VEVENT
DTSTART;TZID=Europe/Paris:20260121T140000
DTEND;TZID=Europe/Paris:20260121T150000
DTSTAMP:20260421T152659
CREATED:20251126T151149Z
LAST-MODIFIED:20251126T151149Z
UID:10012443-1769004000-1769007600@crocoule.org
SUMMARY:La Talaudière  | Le petit Frankenstein Cie Intermezzo
DESCRIPTION:M. et Mme Frankenstein ont tout ce qu’ils désirent dans la vie\, sauf un enfant. À l’aide d’un croquis\, d’une imprimante 3D et d’une petite Intelligence Artificielle\, ils tentent d’en fabriquer un… Puis partent en vacances. Lorsque l’enfant s’éveille\, il est\, comment dire… Vraiment très moche. Livré à lui-même\, il sort à la rencontre des autres et découvre que tous le rejettent. Exclu\, il apprend à apprivoiser ses émotions\, nous raconte ses tourments et partage son regard candide\, drôle et décalé sur le monde. Grâce à un dispositif sonore et musical original\, la compagnie grenobloise Intermezzo nous invite à vivre de manière intime cette réécriture futuriste du conte de Frankenstein qui parle avec humour et sensibilité de différence et de quête d’identité. Durée : 1h20 Spectacle Chanson Électro-folk Tout public\, à partir de 8 ans Clavier et chant Aurélie Sivaciyan Guitare\, MAO\, batterie et chœur Jean Adam Accordéon\, guitare et chant Grégoire Béranger Son Bruno Germain Lumière Serge Lattanzi Textes Grégoire Béranger Musique La Cogneuse Production : Compagnie Halte ; Administration : Béatrice Barthélémy Le compagnie Halte est conventionnée par la ville de St-Etienne et le département de La Loire. La Compagnie Halte est associée au Centre Culturel de La Ricamarie (42) – scène conventionnée d’intérêt nationale\, scène régionale et scène départementale. Le Petit Frankenstein est une invitation à découvrir une fiction radio-scénique en direct et sous casque. Spectacle accessible aux spectateur·ices aveugles et malvoyant·es. Avec Erwan Flageul\, Valérie Gourru\, Bastien Lombardo\, Marie Neichel Écriture Angelina Galvani (La Parlote) Régie générale Vincent Collonges et Guillaume Tourdias Création lumière Manue Joubier Scénographie Daniel Martin Regard extérieur Florent Barat (Collectif Belge Wow!) Production : Compagnie Intermezzo ; diffusion et production : Romane Bossy et Marie Wehrlé \n\n\n	Similaire
URL:https://crocoule.org/notre-evenement/la-talaudiere-le-petit-frankenstein-cie-intermezzo-2/
LOCATION:Centre culturel Le Sou\, Rue Romain Rolland\, La Talaudière\, 42350\, France
ORGANIZER;CN="Le Sou":MAILTO:billetterie-lesou@latalaudiere.fr
END:VEVENT
BEGIN:VEVENT
DTSTART;TZID=Europe/Paris:20260121T140000
DTEND;TZID=Europe/Paris:20260121T150000
DTSTAMP:20260421T152659
CREATED:20251126T151140Z
LAST-MODIFIED:20251126T151140Z
UID:10012438-1769004000-1769007600@crocoule.org
SUMMARY:La Talaudière  | Le petit Frankenstein Cie Intermezzo
DESCRIPTION:M. et Mme Frankenstein ont tout ce qu’ils désirent dans la vie\, sauf un enfant. À l’aide d’un croquis\, d’une imprimante 3D et d’une petite Intelligence Artificielle\, ils tentent d’en fabriquer un… Puis partent en vacances. Lorsque l’enfant s’éveille\, il est\, comment dire… Vraiment très moche. Livré à lui-même\, il sort à la rencontre des autres et découvre que tous le rejettent. Exclu\, il apprend à apprivoiser ses émotions\, nous raconte ses tourments et partage son regard candide\, drôle et décalé sur le monde. Grâce à un dispositif sonore et musical original\, la compagnie grenobloise Intermezzo nous invite à vivre de manière intime cette réécriture futuriste du conte de Frankenstein qui parle avec humour et sensibilité de différence et de quête d’identité. Durée : 1h20 Spectacle Chanson Électro-folk Tout public\, à partir de 8 ans Clavier et chant Aurélie Sivaciyan Guitare\, MAO\, batterie et chœur Jean Adam Accordéon\, guitare et chant Grégoire Béranger Son Bruno Germain Lumière Serge Lattanzi Textes Grégoire Béranger Musique La Cogneuse Production : Compagnie Halte ; Administration : Béatrice Barthélémy Le compagnie Halte est conventionnée par la ville de St-Etienne et le département de La Loire. La Compagnie Halte est associée au Centre Culturel de La Ricamarie (42) – scène conventionnée d’intérêt nationale\, scène régionale et scène départementale. Le Petit Frankenstein est une invitation à découvrir une fiction radio-scénique en direct et sous casque. Spectacle accessible aux spectateur·ices aveugles et malvoyant·es. Avec Erwan Flageul\, Valérie Gourru\, Bastien Lombardo\, Marie Neichel Écriture Angelina Galvani (La Parlote) Régie générale Vincent Collonges et Guillaume Tourdias Création lumière Manue Joubier Scénographie Daniel Martin Regard extérieur Florent Barat (Collectif Belge Wow!) Production : Compagnie Intermezzo ; diffusion et production : Romane Bossy et Marie Wehrlé \n\n\n	Similaire
URL:https://crocoule.org/notre-evenement/la-talaudiere-le-petit-frankenstein-cie-intermezzo/
LOCATION:Centre culturel Le Sou\, Rue Romain Rolland\, La Talaudière\, 42350\, France
CATEGORIES:08 ans +,En famille,Intérieur,Tous les événements,Tout public
ORGANIZER;CN="Le Sou":MAILTO:billetterie-lesou@latalaudiere.fr
END:VEVENT
BEGIN:VEVENT
DTSTART;TZID=Europe/Paris:20251128T203000
DTEND;TZID=Europe/Paris:20251128T220000
DTSTAMP:20260421T152659
CREATED:20250826T144510Z
LAST-MODIFIED:20250828T164720Z
UID:10011790-1764361800-1764367200@crocoule.org
SUMMARY:La Talaudiere  | Spectacle KANT
DESCRIPTION:Kristoffer a 8 ans… Et il n’arrive pas à dormir… Kristoffer a 8 ans… Et le soir\, il pense… « Si c’est vrai qu’on ne peut pas savoir si l’univers a une fin ou s’il continue\, si les deux sont possibles\, alors il y a beaucoup de choses qui sont possibles. » Dans la solitude de la nuit\, le temps s’étire et l’on se retrouve seul au milieu de l’immensité. Vertige ! L’infini s’engouffre dans la chambre d’enfant\, et la pensée pousse les murs !  Heureusement\, son papa est là\, pas loin\, et lui aussi s’est souvent posé ces questions… Kant\, c’est un récit théâtral porté par une interprète ; un récit comme un conte ; un conte où tout devient possible : sons\, lumières\, hiboux\, bruit des pensées qui cheminent et ciel étoilé qui crève le plafond. Vous aviez découvert la Cie la Peau de l’Ours à table avec Remember\, venez les rencontrer autour des constellations ! \n\n\n	Similaire
URL:https://crocoule.org/notre-evenement/la-talaudiere-spectacle-kant/
LOCATION:Centre culturel Le Sou\, Rue Romain Rolland\, La Talaudière\, 42350\, France
CATEGORIES:08 ans +,Tous les événements
ORGANIZER;CN="Le Sou":MAILTO:billetterie-lesou@latalaudiere.fr
END:VEVENT
BEGIN:VEVENT
DTSTART;TZID=Europe/Paris:20251115T203000
DTEND;TZID=Europe/Paris:20251115T223000
DTSTAMP:20260421T152659
CREATED:20250826T144509Z
LAST-MODIFIED:20250828T164720Z
UID:10011789-1763238600-1763245800@crocoule.org
SUMMARY:La Talaudiere  | Spectacle Momentos
DESCRIPTION:Entourée de deux danseurs et de quatre musiciens\, Valérie Ortiz crée douze tableaux uniques qui révèlent la poésie\, l’élégance et l’intensité de cette création flamenca. L’alternance de solo\, duo et trio permet une proposition musicale riche et rythmée. Momentos n’hésite pas à bousculer les codes du Flamenco traditionnel laissant la place à d’autres sonorités\, notamment par la présence inattendue de l’accordéon ou encore par un extrait de Zarzuela avec castagnettes chorégraphié par Antonio Najarro\, l’emblématique Directeur du Ballet National d’Espagne…Fidèle à son goût pour les costumes\, les lumières et la scénographie\, Valérie Ortiz crée un “Momento” qui saura séduire novices et aficionados du Flamenco. \n\n\n	Similaire
URL:https://crocoule.org/notre-evenement/la-talaudiere-spectacle-momentos/
LOCATION:Centre culturel Le Sou\, Rue Romain Rolland\, La Talaudière\, 42350\, France
CATEGORIES:05 ans +,Tous les événements
ORGANIZER;CN="Le Sou":MAILTO:billetterie-lesou@latalaudiere.fr
END:VEVENT
BEGIN:VEVENT
DTSTART;TZID=Europe/Paris:20251017T203000
DTEND;TZID=Europe/Paris:20251017T223000
DTSTAMP:20260421T152659
CREATED:20250826T144418Z
LAST-MODIFIED:20250828T164719Z
UID:10011788-1760733000-1760740200@crocoule.org
SUMMARY:La Talaudiere  | Spectacle Dafné Kritharas
DESCRIPTION:Sauvage ou d’un raffinement absolu\, la voix de Dafné Kritharas emporte celui qui l’entend dans un univers mystique\, sensible et enflammé. Dans ses chansons en Grec et en Français (de ses deux pays d’origine)\, elle passe à travers une infinité de nuances et exprime des sentiments qui semblent venir d’un autre temps et nous touchent pourtant au fond du cœur. Musicienne autodidacte\, elle est portée par un instinct brut et puissant vers un style qui réunit de multiples influences (musiques traditionnelles de Grèce et d’Anatolie\, classique\, jazz\, rock alternatif\, etc.). À travers certaines compositions\, elle se montre éruptive et épique\, en invoquant des figures sombres et magiques. Parfois elle exprime la douceur et la mélancolie d’un temps perdu. Accompagnée par des musiciens virtuoses (piano\, cordes\, électro\, percussions\, bouzouki\, cornemuse…) elle transmet également le sens le plus pur de la joie et de la fête des rives de la mer Égée.  \n\n\n	Similaire
URL:https://crocoule.org/notre-evenement/la-talaudiere-spectacle-dafne-kritharas/
LOCATION:Centre culturel Le Sou\, Rue Romain Rolland\, La Talaudière\, 42350\, France
CATEGORIES:En famille,Tous les événements
ORGANIZER;CN="Le Sou":MAILTO:billetterie-lesou@latalaudiere.fr
END:VEVENT
BEGIN:VEVENT
DTSTART;TZID=Europe/Paris:20251010T203000
DTEND;TZID=Europe/Paris:20251010T214500
DTSTAMP:20260421T152659
CREATED:20250826T144418Z
LAST-MODIFIED:20250828T164710Z
UID:10011787-1760128200-1760132700@crocoule.org
SUMMARY:La Talaudiere  | Spectacle Les mots qu'on ne me dit pas
DESCRIPTION:Durant la Semaine Bleue\, le Pôle Culture se mobilise avec l’ensemble des acteurs du territoire afin de proposer des animations\, cafés-signes et autres actions de sensibilisation. Des échanges autour de ce spectacle se feront plus particulièrement en direction des seniors et des classes de collégiens (5èmes)\, dans une volonté de partage intergénérationnel. Les mots qu’on ne me dit pas est une histoire autobiographique en mots\, en signes et en chansignes ! Dans un récit intime\, plein d’humour et d’une sincérité désarmante\, Véronique Poulain se raconte depuis son expérience d’entendante-fille-de-parentssourds\, qui grandit tiraillée entre deux langues\, deux cultures : deux mondes. Éric Massé confie l’interprétation de ces mots qu’on ne dit pas à un trio complice. Dans un univers musical\, croisant des compositions et chansons écrites par Julie Binot et des bruitages produits en direct\, les trois interprètes nous initient aux signes et à la culture sourde. Elles nous confient les secrets et petits mensonges de ce huis-clos familial et lèvent de nombreux tabous sur « le pays des sourds » et les difficultés d’un enfant « entendant ». Bord de scène à l’issue des représentations \n\n\n	Similaire
URL:https://crocoule.org/notre-evenement/la-talaudiere-spectacle-les-mots-quon-ne-me-dit-pas-2/
LOCATION:Centre culturel Le Sou\, Rue Romain Rolland\, La Talaudière\, 42350\, France
ORGANIZER;CN="Le Sou":MAILTO:billetterie-lesou@latalaudiere.fr
END:VEVENT
BEGIN:VEVENT
DTSTART;TZID=Europe/Paris:20250920T203000
DTEND;TZID=Europe/Paris:20250920T220000
DTSTAMP:20260421T152659
CREATED:20250826T144417Z
LAST-MODIFIED:20250828T164709Z
UID:10011785-1758400200-1758405600@crocoule.org
SUMMARY:La Talaudiere  | Spectacle Diva Syndicat
DESCRIPTION:Le thème des Journées Européennes du Patrimoine 2025 est l’architecture. Le Pôle Culture souhaite proposer à cette occasion plusieurs évènements sur la commune de La Talaudière : un atelier de mesure géométrique à la Maison du Patrimoine et de la Mesure\, une conférence sur les femmes puissantes dans la musique à la Bibliothèque et un spectacle Diva syndicat au Sou. 1000 ans de musique au féminin. Du Moyen-Âge à nos jours\, d’Hildegarde de Bingen à Aya Nakamura. Diva Syndicat nous conte une nouvelle histoire de la musique occidentale… Celle des femmes ! Femmes oubliées\, femmes invisibles… Mais surtout femmes musiciennes\, compositrices\, interprètes. Nos deux Divas Syndicalistes nous présentent dix siècles de musique remise au goût du jour. Afin de redonner aux femmes musiciennes la place qui leur revient\, les artistes s’amusent à endosser leurs rôles\, ceux qu’elles ont pris\, ceux qu’on leur a donnés. C’est un véritable ovni musical et théâtral que nous propose ce duo extravagant ! \n\n\n	Similaire
URL:https://crocoule.org/notre-evenement/la-talaudiere-spectacle-diva-syndicat/
LOCATION:Centre culturel Le Sou\, Rue Romain Rolland\, La Talaudière\, 42350\, France
ORGANIZER;CN="Le Sou":MAILTO:billetterie-lesou@latalaudiere.fr
END:VEVENT
BEGIN:VEVENT
DTSTART;TZID=Europe/Paris:20250906T203000
DTEND;TZID=Europe/Paris:20250906T223000
DTSTAMP:20260421T152659
CREATED:20250826T144416Z
LAST-MODIFIED:20250828T164709Z
UID:10011784-1757190600-1757197800@crocoule.org
SUMMARY:La Talaudiere  | Spectacle La Première fois
DESCRIPTION:Cette saison\, Le Sou donne carte blanche à la Cie La Neige est un Mystère. Elle présentera deux spectacles La première fois en ouverture de saison et La dernière fois en clôture de saison.  Elle sera également en résidence de création au Sou pour La dernière fois. Deux clowns se questionnent sur nos origines. Une conférence intense et déroutante. Ruth et Etienne Palin\, mari et femme\, vous présentent leur toute première conférence sur le thème d’Adam et Eve. Ensemble\, ils créent le paradis tel qu’ils l’imaginent. Mais l’histoire du couple mythique les rattrape. Sous le regard du public\, Ruth et Etienne se retrouvent confrontés à tout ce qu’ils sont l’un pour l’autre. Cette première fois les envahit d’émotion et la conférence dérape. Ils se perdent dans le fantasque jardin d’Eden et ne savent plus se situer entre les personnages d’Adam et Eve\, leur rôle de conférencier et leur relation de couple. \n\n\n	Similaire
URL:https://crocoule.org/notre-evenement/la-talaudiere-spectacle-la-premiere-fois/
LOCATION:Centre culturel Le Sou\, Rue Romain Rolland\, La Talaudière\, 42350\, France
ORGANIZER;CN="Le Sou":MAILTO:billetterie-lesou@latalaudiere.fr
END:VEVENT
END:VCALENDAR