BEGIN:VCALENDAR
VERSION:2.0
PRODID:-//Crocoule - ECPv6.15.15//NONSGML v1.0//EN
CALSCALE:GREGORIAN
METHOD:PUBLISH
X-ORIGINAL-URL:https://crocoule.org
X-WR-CALDESC:Évènements pour Crocoule
REFRESH-INTERVAL;VALUE=DURATION:PT1H
X-Robots-Tag:noindex
X-PUBLISHED-TTL:PT1H
BEGIN:VTIMEZONE
TZID:Europe/Paris
BEGIN:DAYLIGHT
TZOFFSETFROM:+0100
TZOFFSETTO:+0200
TZNAME:CEST
DTSTART:20240331T010000
END:DAYLIGHT
BEGIN:STANDARD
TZOFFSETFROM:+0200
TZOFFSETTO:+0100
TZNAME:CET
DTSTART:20241027T010000
END:STANDARD
BEGIN:DAYLIGHT
TZOFFSETFROM:+0100
TZOFFSETTO:+0200
TZNAME:CEST
DTSTART:20250330T010000
END:DAYLIGHT
BEGIN:STANDARD
TZOFFSETFROM:+0200
TZOFFSETTO:+0100
TZNAME:CET
DTSTART:20251026T010000
END:STANDARD
BEGIN:DAYLIGHT
TZOFFSETFROM:+0100
TZOFFSETTO:+0200
TZNAME:CEST
DTSTART:20260329T010000
END:DAYLIGHT
BEGIN:STANDARD
TZOFFSETFROM:+0200
TZOFFSETTO:+0100
TZNAME:CET
DTSTART:20261025T010000
END:STANDARD
END:VTIMEZONE
BEGIN:VEVENT
DTSTART;TZID=Europe/Paris:20250806T143000
DTEND;TZID=Europe/Paris:20250806T160000
DTSTAMP:20260420T005659
CREATED:20250530T115436Z
LAST-MODIFIED:20250530T115436Z
UID:10011171-1754490600-1754496000@crocoule.org
SUMMARY:LE CHEYLARD | Amulette égyptienne
DESCRIPTION:Au cours de cet atelier\, vous venez façonner en argile votre amulette en forme de scarabée. Vous découvrirez l’Égypte\, et ce que symbolise cet animal sacré. C’est une nouveauté ! \n Enfants à partir de 6 ans\n Durée : 1h30 \n\n\n	Similaire
URL:https://crocoule.org/notre-evenement/le-cheylard-amulette-egyptienne/
CATEGORIES:06 ans +,Activité en semaine,Activité pendant les vacances,Intérieur,Tous les événements
ATTACH;FMTTYPE=image/jpeg:https://crocoule.org/wp-content/uploads/2025/05/adm-animation-amulette-egyptienne-01-h6DTXy.jpg
END:VEVENT
BEGIN:VEVENT
DTSTART;TZID=Europe/Paris:20250806T103000
DTEND;TZID=Europe/Paris:20250806T113000
DTSTAMP:20260420T005659
CREATED:20250530T115341Z
LAST-MODIFIED:20250530T115341Z
UID:10011160-1754476200-1754479800@crocoule.org
SUMMARY:LE CHEYLARD | Visite guidée : Doigts d'or et savantes machines en Ardèche
DESCRIPTION:Plus qu’une exposition\, ce parcours ludique et interactif vous emmène à la découverte des savoir-faire industriels et économiques\, du passé au présent? Elle démontre d’une part\, le génie ardéchois capable de s’adapter à un territoire difficile et d’autre part\, un certain esprit d’innovation qui met l’Ardèche sur la carte mondiale. Engrenages\, jeux tactiles\, expériences et techniques aiguisent la curiosité pour mieux appréhender les spécificités locales. \nAdultes et enfants à partir de 12 ans\nDurée : 1 heure \n\n\n	Similaire
URL:https://crocoule.org/notre-evenement/le-cheylard-visite-guidee-doigts-dor-et-savantes-machines-en-ardeche-2/
CATEGORIES:12 ans +,Activité en semaine,Activité pendant les vacances,Adultes,En famille,Tous les événements
ATTACH;FMTTYPE=image/jpeg:https://crocoule.org/wp-content/uploads/2025/05/adm-visite-guidee-doigts-d-or-01-vtnSBZ.jpg
END:VEVENT
BEGIN:VEVENT
DTSTART;TZID=Europe/Paris:20250805T143000
DTEND;TZID=Europe/Paris:20250805T160000
DTSTAMP:20260420T005659
CREATED:20250530T115334Z
LAST-MODIFIED:20250530T115334Z
UID:10011156-1754404200-1754409600@crocoule.org
SUMMARY:LE CHEYLARD | Dans la peau d'un animateur radio
DESCRIPTION:Mettons en pratique ! S’écouter\, produire\, parler et découvrir la technique radio.\n L’occasion de découvrir ce média toujours présent en vous mettant dans la peau d’un animateur radio. \n Enfants à partir de 9 ans\n Durée : 1h30 \n\n\n	Similaire
URL:https://crocoule.org/notre-evenement/le-cheylard-dans-la-peau-dun-animateur-radio-2/
CATEGORIES:09 ans +,Activité en semaine,Activité pendant les vacances,Intérieur,Tous les événements
ATTACH;FMTTYPE=image/jpeg:https://crocoule.org/wp-content/uploads/2025/05/adm-dans-la-peau-d-un-animateur-radio-01-JZErrQ.jpg
END:VEVENT
BEGIN:VEVENT
DTSTART;TZID=Europe/Paris:20250805T103000
DTEND;TZID=Europe/Paris:20250805T120000
DTSTAMP:20260420T005659
CREATED:20250530T114616Z
LAST-MODIFIED:20250530T115730Z
UID:10011144-1754389800-1754395200@crocoule.org
SUMMARY:LE CHEYLARD | Ça va buller !
DESCRIPTION:Faire des bulles oui\, mais comment faire des bulles résistantes et géantes ? Le secret pour les réussir à tous les coups est dévoilé au cours de cet atelier avant de passer aux tests grandeur nature ! Présence d’au moins un parent obligatoire \n\n\n	Similaire
URL:https://crocoule.org/notre-evenement/le-cheylard-ca-va-buller-3/
CATEGORIES:03 ans +,Activité en semaine,Activité pendant les vacances,Jeune Public,Tous les événements
ATTACH;FMTTYPE=image/jpeg:https://crocoule.org/wp-content/uploads/2025/05/animation-ca-va-buller-adm-01-LIVch5.jpg
END:VEVENT
BEGIN:VEVENT
DTSTART;TZID=Europe/Paris:20250731T163000
DTEND;TZID=Europe/Paris:20250731T173000
DTSTAMP:20260420T005659
CREATED:20250530T115419Z
LAST-MODIFIED:20250530T115419Z
UID:10011170-1753979400-1753983000@crocoule.org
SUMMARY:LE CHEYLARD | Biodiversité de la ripisylve
DESCRIPTION:Partons à la découverte des drôles de petites bêtes qui se cachent sur les bords de la Dorne. Munis de boîte-loupes\, de filets à papillons\, nous les attraperons\, les observerons et les identifierons à l’aide de petites clés de détermination. Nous nous intéresserons aussi aux arbres et aux plantes qui bordent la Dorne. Deux ateliers seront proposés. Un à destination des 3-6 ans et un à destination des 7 ans et +. \n Enfants à partir de 3 à 6 ans\n Présence d’un adulte accompagnateur obligatoire\n Durée : 1 heure \n\n\n	Similaire
URL:https://crocoule.org/notre-evenement/le-cheylard-biodiversite-de-la-ripisylve-2/
CATEGORIES:03 ans +,Activité en semaine,Activité pendant les vacances,Exterieur,Tous les événements
ATTACH;FMTTYPE=image/jpeg:https://crocoule.org/wp-content/uploads/2025/05/adm-animation-biodiversite-de-la-ripisylve-01-OFE5ZI.jpg
END:VEVENT
BEGIN:VEVENT
DTSTART;TZID=Europe/Paris:20250731T143000
DTEND;TZID=Europe/Paris:20250731T160000
DTSTAMP:20260420T005659
CREATED:20250530T115417Z
LAST-MODIFIED:20250530T115417Z
UID:10011169-1753972200-1753977600@crocoule.org
SUMMARY:LE CHEYLARD | Biodiversité de la ripisylve
DESCRIPTION:Partons à la découverte des drôles de petites bêtes qui se cachent sur les bords de la Dorne. Munis de boîte-loupes\, de filets à papillons\, nous les attraperons\, les observerons et les identifierons à l’aide de petites clés de détermination. Nous nous intéresserons aussi aux arbres et aux plantes qui bordent la Dorne. Deux ateliers seront proposés : l’un à destination des 3-6 ans et l’autre à destination des 7 ans et +.  \n Enfants à partir de 7 ans\n Présence d’un adulte accompagnateur obligatoire\n Durée : 1h30 \n\n\n	Similaire
URL:https://crocoule.org/notre-evenement/le-cheylard-biodiversite-de-la-ripisylve/
CATEGORIES:07 ans +,Activité en semaine,Activité pendant les vacances,Exterieur,Tous les événements
ATTACH;FMTTYPE=image/jpeg:https://crocoule.org/wp-content/uploads/2025/05/adm-animation-biodiversite-de-la-ripisylve-01-4HsSi5.jpg
END:VEVENT
BEGIN:VEVENT
DTSTART;TZID=Europe/Paris:20250731T103000
DTEND;TZID=Europe/Paris:20250731T113000
DTSTAMP:20260420T005659
CREATED:20250530T115158Z
LAST-MODIFIED:20250530T115158Z
UID:10011155-1753957800-1753961400@crocoule.org
SUMMARY:LE CHEYLARD | Visite guidée : Cervorama
DESCRIPTION:Mon cerveau est-il unique ? Les animaux sont-ils intelligents ? A quoi ressemble un neurone ?\n Comme un immense terrain d’expérimentations et de découvertes\, l’animateur vous guide et vous invite à découvrir cet organe aux capacités d’adaptation remarquables. \n Adultes et enfants à partir de 8 ans\n Durée : 1 heure \n\n\n	Similaire
URL:https://crocoule.org/notre-evenement/le-cheylard-visite-guidee-cervorama-2/
CATEGORIES:08 ans +,Activité en semaine,Activité pendant les vacances,En famille,Expo,Intérieur,Tous les événements
ATTACH;FMTTYPE=image/jpeg:https://crocoule.org/wp-content/uploads/2025/05/adm-visite-guidee-cervorama-01-DsUlGV.jpg
END:VEVENT
BEGIN:VEVENT
DTSTART;TZID=Europe/Paris:20250730T100000
DTEND;TZID=Europe/Paris:20250730T163000
DTSTAMP:20260420T005659
CREATED:20250530T115416Z
LAST-MODIFIED:20250530T115416Z
UID:10011168-1753869600-1753893000@crocoule.org
SUMMARY:LE CHEYLARD | Construis ton robot en Lego® – Mini-stage
DESCRIPTION:Le mini stage s’adresse aux bâtisseurs de lego avec beaucoup d’imagination. Crée ton robot brique par brique ! Imagine à quoi il va ressembler\, construis-le et programme son comportement sur tablette pour lui donner vie. Tu as la matinée et l’après-midi pour y arriver !\n Prise du repas sur place encadrée par l’animateur possible.  \n De 9 à 16 ans\n Durée : 4h30 (de 10h à 12h et de 14h à 16h30) \n\n\n	Similaire
URL:https://crocoule.org/notre-evenement/le-cheylard-construis-ton-robot-en-lego-mini-stage-2/
CATEGORIES:09 ans +,Activité en semaine,Activité pendant les vacances,Intérieur,Tous les événements
ATTACH;FMTTYPE=image/jpeg:https://crocoule.org/wp-content/uploads/2025/05/animation-lego-adm-03-d6FWBH.jpg
END:VEVENT
BEGIN:VEVENT
DTSTART;TZID=Europe/Paris:20250729T143000
DTEND;TZID=Europe/Paris:20250729T163000
DTSTAMP:20260420T005659
CREATED:20250530T115413Z
LAST-MODIFIED:20250530T115413Z
UID:10011167-1753799400-1753806600@crocoule.org
SUMMARY:LE CHEYLARD | Sesterces et cie
DESCRIPTION:Quel objet fascinant et riche d’informations qu’est la pièce de monnaie ! Les enfants découvrent décrypter les monnaies antiques. Les techniques de fabrications n’auront plus de secrets grâce à la réalisation d’une pièce de monnaie en argile. \n Enfants à partir de 6 ans\n Durée : 2 heures \n\n\n	Similaire
URL:https://crocoule.org/notre-evenement/le-cheylard-sesterces-et-cie/
CATEGORIES:06 ans +,Activité en semaine,Activité pendant les vacances,Intérieur,Tous les événements
ATTACH;FMTTYPE=image/jpeg:https://crocoule.org/wp-content/uploads/2025/05/adm-animation-sesterces-et-cie-01-JFJ3EW.jpg
END:VEVENT
BEGIN:VEVENT
DTSTART;TZID=Europe/Paris:20250729T100000
DTEND;TZID=Europe/Paris:20250729T120000
DTSTAMP:20260420T005659
CREATED:20250530T115150Z
LAST-MODIFIED:20250530T115150Z
UID:10011151-1753783200-1753790400@crocoule.org
SUMMARY:LE CHEYLARD | Récréation ludique parents/enfants
DESCRIPTION:L’Arche des Métiers ouvre ses boites à trésors éducatifs et met à votre disposition en fonction des récréations : briques de constructiongéantes\, jeux sensoriels\, robots ou bien encore jeux de sociétés et vous invite à partager de bons moments en famille. \n Enfants de 3 à 6 ans avec accompagnateur(s)\n De 10h à 12h en continu\n4€ / enfant\, gratuit pour les adultes. \n\n\n	Similaire
URL:https://crocoule.org/notre-evenement/le-cheylard-recreation-ludique-parents-enfants-4/
CATEGORIES:03 ans +,Activité en semaine,Activité pendant les vacances,En famille,Intérieur,Jeune Public,Tous les événements
ATTACH;FMTTYPE=image/jpeg:https://crocoule.org/wp-content/uploads/2025/05/animation-recreation-ludique-parents-enfants-adm-01-rqEcNq.jpg
END:VEVENT
BEGIN:VEVENT
DTSTART;TZID=Europe/Paris:20250724T143000
DTEND;TZID=Europe/Paris:20250724T160000
DTSTAMP:20260420T005659
CREATED:20250530T115411Z
LAST-MODIFIED:20250530T115411Z
UID:10011166-1753367400-1753372800@crocoule.org
SUMMARY:LE CHEYLARD | Le son : la science à l'écoute !
DESCRIPTION:Comment le son de ma voix parvient jusqu’à la personne en face de moi ? Pourquoi n’entendons-nous pas le son d’une étoile qui explose ? Les sabres laser des Jedi de Star Wars font un son bien connu… Qu’en serait-il dans la réalité ? Expérimentons pour mieux comprendre…  \n Enfants à partir de 8 ans\n Durée : 1h30 \n\n\n	Similaire
URL:https://crocoule.org/notre-evenement/le-cheylard-le-son-la-science-a-lecoute/
CATEGORIES:08 ans +,Activité en semaine,Activité pendant les vacances,Intérieur,Tous les événements
ATTACH;FMTTYPE=image/jpeg:https://crocoule.org/wp-content/uploads/2025/05/adm-animation-le-son-la-science-a-l-ecoute-01-XLNeiQ.jpg
END:VEVENT
BEGIN:VEVENT
DTSTART;TZID=Europe/Paris:20250723T140000
DTEND;TZID=Europe/Paris:20250723T173000
DTSTAMP:20260420T005659
CREATED:20250530T115400Z
LAST-MODIFIED:20250530T115400Z
UID:10011165-1753279200-1753291800@crocoule.org
SUMMARY:LE CHEYLARD | Happy Nouvelles technologies
DESCRIPTION:Au cœur des espaces d’expositions de L’Arche des Métiers\, viens en apprendre plus sur la robotique\, la programmation et les casques de réalité virtuelle ! \n Adultes et enfants à partir de 6 ans\n De 14 à 17h30 en continu\n6€ par adulte et 4€ par enfant\, gratuit pour les enfants de moins de 6 ans. \n\n\n	Similaire
URL:https://crocoule.org/notre-evenement/le-cheylard-happy-nouvelles-technologies/
CATEGORIES:06 ans +,Activité en semaine,Activité pendant les vacances,Adultes,En famille,Intérieur,Tous les événements
ATTACH;FMTTYPE=image/jpeg:https://crocoule.org/wp-content/uploads/2025/05/adm-animation-happy-nouvelles-technologies-KNHqdu.jpg
END:VEVENT
BEGIN:VEVENT
DTSTART;TZID=Europe/Paris:20250722T143000
DTEND;TZID=Europe/Paris:20250722T163000
DTSTAMP:20260420T005659
CREATED:20250530T115358Z
LAST-MODIFIED:20250530T115358Z
UID:10011164-1753194600-1753201800@crocoule.org
SUMMARY:LE CHEYLARD | Pass'Tech
DESCRIPTION:Entre 7 et 11 ans\, le moment est venu de construire ses premiers robots et de leur donner vie ! \n Enfants à partir de 6 ans\n Durée : 2 heures \n\n\n	Similaire
URL:https://crocoule.org/notre-evenement/le-cheylard-passtech-2/
CATEGORIES:06 ans +,Activité en semaine,Activité pendant les vacances,Intérieur,Tous les événements
ATTACH;FMTTYPE=image/jpeg:https://crocoule.org/wp-content/uploads/2025/05/animation-pass-tech-adm-01-SsK3jo.jpg
END:VEVENT
BEGIN:VEVENT
DTSTART;TZID=Europe/Paris:20250722T103000
DTEND;TZID=Europe/Paris:20250722T120000
DTSTAMP:20260420T005659
CREATED:20250530T115356Z
LAST-MODIFIED:20250530T115356Z
UID:10011163-1753180200-1753185600@crocoule.org
SUMMARY:LE CHEYLARD | Mini'Tech
DESCRIPTION:Les enfants de 3 à 6 ans découvrent le codage en jouant avec un robot programmable sans écran.  \n Enfants de 3 à 6 ans\n Présence d’un adulte accompagnateur obligatoire\n Durée : entre 1h15 et 1h30 \n\n\n	Similaire
URL:https://crocoule.org/notre-evenement/le-cheylard-minitech-2/
CATEGORIES:03 ans +,Activité en semaine,Activité pendant les vacances,Intérieur,Tous les événements
ATTACH;FMTTYPE=image/jpeg:https://crocoule.org/wp-content/uploads/2025/05/animation-mini-tech-adm-03-kCwG1N.jpg
END:VEVENT
BEGIN:VEVENT
DTSTART;TZID=Europe/Paris:20250717T143000
DTEND;TZID=Europe/Paris:20250717T163000
DTSTAMP:20260420T005659
CREATED:20250530T115352Z
LAST-MODIFIED:20250530T115352Z
UID:10011161-1752762600-1752769800@crocoule.org
SUMMARY:LE CHEYLARD | Construis ton Robot en Lego®
DESCRIPTION:Crée ton robot brique par brique ! Imagine à quoi il va ressembler\, construis-le et programme son comportement sur tablette pour lui donner vie…  \n Enfants à partir de 7 ans\n Durée : 2 heures \n\n\n	Similaire
URL:https://crocoule.org/notre-evenement/le-cheylard-construis-ton-robot-en-lego/
CATEGORIES:07 ans +,Activité en semaine,Activité pendant les vacances,Intérieur,Tous les événements
ATTACH;FMTTYPE=image/jpeg:https://crocoule.org/wp-content/uploads/2025/05/animation-lego-adm-02-xRNZKs.jpg
END:VEVENT
BEGIN:VEVENT
DTSTART;TZID=Europe/Paris:20250716T143000
DTEND;TZID=Europe/Paris:20250716T160000
DTSTAMP:20260420T005659
CREATED:20250530T115338Z
LAST-MODIFIED:20250530T115338Z
UID:10011158-1752676200-1752681600@crocoule.org
SUMMARY:LE CHEYLARD | Vision et Illusion
DESCRIPTION:Les enfants découvrent les illusions d’optique et comprennent comment notre cerveau se laisse tromper par les informations qui lui sont envoyées. La 3D et la persistence rétienne permettent aux enfants de jouer des tours à leur cerveau. \n Enfants à partir de 7 ans\n Durée : 1h30 \n\n\n	Similaire
URL:https://crocoule.org/notre-evenement/le-cheylard-vision-et-illusion/
CATEGORIES:07 ans +,Activité en semaine,Activité pendant les vacances,Intérieur,Tous les événements
ATTACH;FMTTYPE=image/jpeg:https://crocoule.org/wp-content/uploads/2025/05/adm-animation-vision-et-illusion-01-X4ME6E.jpg
END:VEVENT
BEGIN:VEVENT
DTSTART;TZID=Europe/Paris:20250716T103000
DTEND;TZID=Europe/Paris:20250716T113000
DTSTAMP:20260420T005659
CREATED:20250530T115156Z
LAST-MODIFIED:20250530T115156Z
UID:10011154-1752661800-1752665400@crocoule.org
SUMMARY:LE CHEYLARD | Visite guidée : Cervorama
DESCRIPTION:Mon cerveau est-il unique ? Les animaux sont-ils intelligents ? A quoi ressemble un neurone ?\n Comme un immense terrain d’expérimentations et de découvertes\, l’animateur vous guide et vous invite à découvrir cet organe aux capacités d’adaptation remarquables. \n Adultes et enfants à partir de 8 ans\n Durée : 1 heure \n\n\n	Similaire
URL:https://crocoule.org/notre-evenement/le-cheylard-visite-guidee-cervorama/
CATEGORIES:08 ans +,Activité en semaine,Activité pendant les vacances,En famille,Expo,Intérieur,Tous les événements
ATTACH;FMTTYPE=image/jpeg:https://crocoule.org/wp-content/uploads/2025/05/adm-visite-guidee-cervorama-01-TtDDP6.jpg
END:VEVENT
BEGIN:VEVENT
DTSTART;TZID=Europe/Paris:20250715T143000
DTEND;TZID=Europe/Paris:20250715T160000
DTSTAMP:20260420T005659
CREATED:20250530T115154Z
LAST-MODIFIED:20250530T115154Z
UID:10011153-1752589800-1752595200@crocoule.org
SUMMARY:LE CHEYLARD | Dans la peau d'un animateur radio
DESCRIPTION:Mettons en pratique ! S’écouter\, produire\, parler et découvrir la technique radio.\n L’occasion de découvrir ce média toujours présent en vous mettant dans la peau d’un animateur radio. \n Enfants à partir de 9 ans\n Durée : 1h30 \n\n\n	Similaire
URL:https://crocoule.org/notre-evenement/le-cheylard-dans-la-peau-dun-animateur-radio/
CATEGORIES:09 ans +,Activité en semaine,Activité pendant les vacances,Intérieur,Tous les événements
ATTACH;FMTTYPE=image/jpeg:https://crocoule.org/wp-content/uploads/2025/05/adm-dans-la-peau-d-un-animateur-radio-01-JZErrQ.jpg
END:VEVENT
BEGIN:VEVENT
DTSTART;TZID=Europe/Paris:20250715T100000
DTEND;TZID=Europe/Paris:20250715T120000
DTSTAMP:20260420T005659
CREATED:20250530T114646Z
LAST-MODIFIED:20250530T114646Z
UID:10011150-1752573600-1752580800@crocoule.org
SUMMARY:LE CHEYLARD | Récréation ludique parents/enfants
DESCRIPTION:L’Arche des Métiers ouvre ses boites à trésors éducatifs et met à votre disposition en fonction des récréations : briques de constructiongéantes\, jeux sensoriels\, robots ou bien encore jeux de sociétés et vous invite à partager de bons moments en famille. \n Enfants de 3 à 6 ans avec accompagnateur(s)\n De 10h à 12h en continu\n4€ / enfant\, gratuit pour les adultes. \n\n\n	Similaire
URL:https://crocoule.org/notre-evenement/le-cheylard-recreation-ludique-parents-enfants-3/
CATEGORIES:03 ans +,Activité en semaine,Activité pendant les vacances,En famille,Intérieur,Jeune Public,Tous les événements
ATTACH;FMTTYPE=image/jpeg:https://crocoule.org/wp-content/uploads/2025/05/animation-recreation-ludique-parents-enfants-adm-01-rqEcNq.jpg
END:VEVENT
BEGIN:VEVENT
DTSTART;TZID=Europe/Paris:20250710T143000
DTEND;TZID=Europe/Paris:20250710T160000
DTSTAMP:20260420T005659
CREATED:20250530T114644Z
LAST-MODIFIED:20250530T114644Z
UID:10011149-1752157800-1752163200@crocoule.org
SUMMARY:LE CHEYLARD | Les experts enquêtent
DESCRIPTION:La police mène l’enquête ! Suite à la découverte d’un corps\, les participants se lancent dans une série d’investigations faisant appel à la logique\, aux expériences et aux protocoles de la police scientifique. Trouverez-vous le coupable ? \n Enfants de 10 à 16 ans\n Durée : 1h30 \n\n\n	Similaire
URL:https://crocoule.org/notre-evenement/le-cheylard-les-experts-enquetent/
CATEGORIES:10 ans +,Activité en semaine,Activité pendant les vacances,Tous les événements
ATTACH;FMTTYPE=image/jpeg:https://crocoule.org/wp-content/uploads/2025/05/adm-animation-happy-enquete-01-AxpkCU.jpg
END:VEVENT
BEGIN:VEVENT
DTSTART;TZID=Europe/Paris:20250710T103000
DTEND;TZID=Europe/Paris:20250710T113000
DTSTAMP:20260420T005659
CREATED:20250530T114642Z
LAST-MODIFIED:20250530T114642Z
UID:10011148-1752143400-1752147000@crocoule.org
SUMMARY:LE CHEYLARD | Visite guidée : Doigts d'or et savantes machines en Ardèche
DESCRIPTION:Plus qu’une exposition\, ce parcours ludique et interactif vous emmène à la découverte des savoir-faire industriels et économiques\, du passé au présent? Elle démontre d’une part\, le génie ardéchois capable de s’adapter à un territoire difficile et d’autre part\, un certain esprit d’innovation qui met l’Ardèche sur la carte mondiale. Engrenages\, jeux tactiles\, expériences et techniques aiguisent la curiosité pour mieux appréhender les spécificités locales. \nAdultes et enfants à partir de 12 ans\nDurée : 1 heure \n\n\n	Similaire
URL:https://crocoule.org/notre-evenement/le-cheylard-visite-guidee-doigts-dor-et-savantes-machines-en-ardeche/
CATEGORIES:12 ans +,Activité en semaine,Activité pendant les vacances,Adultes,En famille,Tous les événements
ATTACH;FMTTYPE=image/jpeg:https://crocoule.org/wp-content/uploads/2025/05/adm-visite-guidee-doigts-d-or-01-vtnSBZ.jpg
END:VEVENT
BEGIN:VEVENT
DTSTART;TZID=Europe/Paris:20250709T103000
DTEND;TZID=Europe/Paris:20250709T120000
DTSTAMP:20260420T005659
CREATED:20250530T114614Z
LAST-MODIFIED:20250530T115728Z
UID:10011143-1752057000-1752062400@crocoule.org
SUMMARY:LE CHEYLARD | Ça va buller !
DESCRIPTION:Faire des bulles oui\, mais comment faire des bulles résistantes et géantes ? Le secret pour les réussir à tous les coups est dévoilé au cours de cet atelier avant de passer aux tests grandeur nature ! Présence d’au moins un parent obligatoire \n\n\n	Similaire
URL:https://crocoule.org/notre-evenement/le-cheylard-ca-va-buller-2/
CATEGORIES:03 ans +,Activité en semaine,Activité pendant les vacances,Jeune Public,Tous les événements
ATTACH;FMTTYPE=image/jpeg:https://crocoule.org/wp-content/uploads/2025/05/animation-ca-va-buller-adm-01-LIVch5.jpg
END:VEVENT
BEGIN:VEVENT
DTSTART;TZID=Europe/Paris:20250708T143000
DTEND;TZID=Europe/Paris:20250708T160000
DTSTAMP:20260420T005659
CREATED:20250530T114624Z
LAST-MODIFIED:20250530T115726Z
UID:10011147-1751985000-1751990400@crocoule.org
SUMMARY:LE CHEYLARD | Enquête au Jurassique
DESCRIPTION:Paléontologues en herbe\, les enfants grattent soigneusement la terre d’un bac de fouilles pour retrouver des fossiles. Leur mission : les reconstituer\, identifier les espèces et résoudre une énigme de plusieurs millions d’années…  \nEnfants à partir de 7 ans\nDurée : 1h30 \n\n\n	Similaire
URL:https://crocoule.org/notre-evenement/le-cheylard-enquete-au-jurassique/
CATEGORIES:07 ans +,Activité en semaine,Activité pendant les vacances,Tous les événements
ATTACH;FMTTYPE=image/jpeg:https://crocoule.org/wp-content/uploads/2025/05/adm-animation-enquete-au-jurassique-01-1-1-BMArwp.jpg
END:VEVENT
BEGIN:VEVENT
DTSTART;TZID=Europe/Paris:20250708T103000
DTEND;TZID=Europe/Paris:20250708T113000
DTSTAMP:20260420T005659
CREATED:20250530T114619Z
LAST-MODIFIED:20250530T115658Z
UID:10011146-1751970600-1751974200@crocoule.org
SUMMARY:LE CHEYLARD | Sur les traces de Dino
DESCRIPTION:Dans la peau d’un paléontologue\, venez fouiller nos chantiers afin de trouver des traces des dinosaures… Présence d’un adulte accompagnateur obligatoire pour les moins de 6 ans \n\n\n	Similaire
URL:https://crocoule.org/notre-evenement/le-cheylard-sur-les-traces-de-dino/
CATEGORIES:03 ans +,Activité pendant les vacances,Tous les événements
ATTACH;FMTTYPE=image/jpeg:https://crocoule.org/wp-content/uploads/2025/05/adm-animation-sur-les-traces-de-dino-01-1-6wG4cM.jpg
END:VEVENT
BEGIN:VEVENT
DTSTART;TZID=Europe/Paris:20250502T163000
DTEND;TZID=Europe/Paris:20250502T173000
DTSTAMP:20260420T005659
CREATED:20250218T152622Z
LAST-MODIFIED:20250313T104225Z
UID:10010596-1746203400-1746207000@crocoule.org
SUMMARY:LE CHEYLARD | Biodiversité des milieux aquatiques
DESCRIPTION:Partons à la découverte des drôles de petites bêtes qui se cachent au fond de la Dorne. Munis d’épuisettes et de boîte-loupes\, nous les pêcherons\, les observerons et les identifierons à l’aide de petites clés de détermination. Certaines pourront nous indiquer la qualité de l’eau. Deux ateliers seront proposés. L’un à destination des 3-6 ans et un à destination des 7 ans et +. Présence d’un moins un parent obligatoire. \n\n\n	Similaire
URL:https://crocoule.org/notre-evenement/le-cheylard-biodiversite-des-milieux-aquatiques-2/
CATEGORIES:03 ans +,Activité pendant les vacances,Intérieur,Tous les événements
END:VEVENT
BEGIN:VEVENT
DTSTART;TZID=Europe/Paris:20250502T143000
DTEND;TZID=Europe/Paris:20250503T160000
DTSTAMP:20260420T005659
CREATED:20250218T152622Z
LAST-MODIFIED:20250313T151612Z
UID:10010595-1746196200-1746288000@crocoule.org
SUMMARY:LE CHEYLARD | Biodiversité des milieux aquatiques
DESCRIPTION:Partons à la découverte des drôles de petites bêtes qui se cachent au fond de la Dorne. Munis d’épuisettes et de boîte-loupes\, nous les pêcherons\, les observerons et les identifierons à l’aide de petites clés de détermination. Certaines pourront nous indiquer la qualité de l’eau. Deux ateliers seront proposés. L’un à destination des 3-6 ans et un à destination des 7 ans et +. Présence d’un moins un parent obligatoire. \n\n\n	Similaire
URL:https://crocoule.org/notre-evenement/le-cheylard-biodiversite-des-milieux-aquatiques/
CATEGORIES:07 ans +,Activité pendant les vacances,Intérieur,Tous les événements
END:VEVENT
BEGIN:VEVENT
DTSTART;TZID=Europe/Paris:20250430T140000
DTEND;TZID=Europe/Paris:20250430T173000
DTSTAMP:20260420T005659
CREATED:20250218T152622Z
LAST-MODIFIED:20250313T151610Z
UID:10010594-1746021600-1746034200@crocoule.org
SUMMARY:LE CHEYLARD | Happy Eau
DESCRIPTION:Au cœur des espaces d’expositions de L’Arche des Métiers\, viens réaliser des expériences autour de l’eau ! Pression\, Tension superficielle\, système de pompe\, bulles… l’eau est au coeur de plusieurs phénomènes étonnant! \n\n\n	Similaire
URL:https://crocoule.org/notre-evenement/le-cheylard-happy-eau/
CATEGORIES:03 ans +,Adultes,Tous les événements
END:VEVENT
BEGIN:VEVENT
DTSTART;TZID=Europe/Paris:20250429T143000
DTEND;TZID=Europe/Paris:20250429T160000
DTSTAMP:20260420T005659
CREATED:20250218T152622Z
LAST-MODIFIED:20250313T151609Z
UID:10010593-1745937000-1745942400@crocoule.org
SUMMARY:LE CHEYLARD | Qu'est ce qu'on a dans la tête ?!
DESCRIPTION:Les enfants découvrent tous les secrets du cerveau grâce à la dissection et aux expériences sur cet organe si mystérieux. \n\n\n	Similaire
URL:https://crocoule.org/notre-evenement/le-cheylard-quest-ce-quon-a-dans-la-tete/
CATEGORIES:06 ans +,Activité pendant les vacances,Intérieur,Tous les événements
END:VEVENT
BEGIN:VEVENT
DTSTART;TZID=Europe/Paris:20250429T100000
DTEND;TZID=Europe/Paris:20250429T120000
DTSTAMP:20260420T005659
CREATED:20250218T152622Z
LAST-MODIFIED:20250313T151608Z
UID:10010592-1745920800-1745928000@crocoule.org
SUMMARY:LE CHEYLARD | Récréation ludique Parents - Enfants
DESCRIPTION:L’Arche des Métiers ouvre ses boites à trésors éducatifs et met à votre disposition en fonction des récréations : briques de construction géantes\, jeux sensoriels\, robots ou bien encore jeux de sociétés et vous invite à partager de bons moments en famille \n\n\n	Similaire
URL:https://crocoule.org/notre-evenement/le-cheylard-recreation-ludique-parents-enfants/
CATEGORIES:03 ans +,Activité pendant les vacances,Adultes,En famille,Intérieur,Tous les événements
END:VEVENT
BEGIN:VEVENT
DTSTART;TZID=Europe/Paris:20250424T100000
DTEND;TZID=Europe/Paris:20250424T163000
DTSTAMP:20260420T005659
CREATED:20250313T104023Z
LAST-MODIFIED:20250313T151607Z
UID:10010755-1745488800-1745512200@crocoule.org
SUMMARY:LE CHEYLARD | Construis ton robot en Lego® – Mini-stage
DESCRIPTION:Le mini stage s’adresse aux batisseurs de lego avec beaucoup d’imagination. Crée ton robot brique par brique ! Imagine à quoi il va ressembler\, construis-le et programme son comportement sur tablette pour lui donner vie. Tu as la matinée et l’après-midi pour y arriver ! Prise du repas sur place encadrée par l’animateur possible. Enfants de 9 à 16 ans – durée 4h30 \n\n\n	Similaire
URL:https://crocoule.org/notre-evenement/le-cheylard-construis-ton-robot-en-lego-mini-stage/
CATEGORIES:09 ans +,Activité pendant les vacances,Intérieur,Tous les événements
ATTACH;FMTTYPE=image/jpeg:https://crocoule.org/wp-content/uploads/2025/03/28511288-diaporama-3wD34h.tmp_.jpg
END:VEVENT
END:VCALENDAR