BEGIN:VCALENDAR
VERSION:2.0
PRODID:-//Crocoule - ECPv6.15.15//NONSGML v1.0//EN
CALSCALE:GREGORIAN
METHOD:PUBLISH
X-WR-CALNAME:Crocoule
X-ORIGINAL-URL:https://crocoule.org
X-WR-CALDESC:Évènements pour Crocoule
REFRESH-INTERVAL;VALUE=DURATION:PT1H
X-Robots-Tag:noindex
X-PUBLISHED-TTL:PT1H
BEGIN:VTIMEZONE
TZID:Europe/Paris
BEGIN:DAYLIGHT
TZOFFSETFROM:+0100
TZOFFSETTO:+0200
TZNAME:CEST
DTSTART:20240331T010000
END:DAYLIGHT
BEGIN:STANDARD
TZOFFSETFROM:+0200
TZOFFSETTO:+0100
TZNAME:CET
DTSTART:20241027T010000
END:STANDARD
BEGIN:DAYLIGHT
TZOFFSETFROM:+0100
TZOFFSETTO:+0200
TZNAME:CEST
DTSTART:20250330T010000
END:DAYLIGHT
BEGIN:STANDARD
TZOFFSETFROM:+0200
TZOFFSETTO:+0100
TZNAME:CET
DTSTART:20251026T010000
END:STANDARD
BEGIN:DAYLIGHT
TZOFFSETFROM:+0100
TZOFFSETTO:+0200
TZNAME:CEST
DTSTART:20260329T010000
END:DAYLIGHT
BEGIN:STANDARD
TZOFFSETFROM:+0200
TZOFFSETTO:+0100
TZNAME:CET
DTSTART:20261025T010000
END:STANDARD
END:VTIMEZONE
BEGIN:VEVENT
DTSTART;TZID=Europe/Paris:20251115T100000
DTEND;TZID=Europe/Paris:20251115T113000
DTSTAMP:20260422T132800
CREATED:20251001T093606Z
LAST-MODIFIED:20251001T093606Z
UID:10012146-1763200800-1763206200@crocoule.org
SUMMARY:Atelier découverte "accompagnement parentalité" GRATUIT
DESCRIPTION:Parce qu’être parent ne s’apprend pas dans les livres… avançons ensemble\, pas à pas. \n Un espace rien que pour vous\, parents… \nQue vous soyez parents de jeunes enfants\, enfants ou d’adolescents\, nous sommes tous confrontés à des situations qui nous bousculent : \n crises de colère\,\nconflits à répétition\,\ndifficultés de communication\,\nou encore ce sentiment d’être parfois démuni\, au pied du mur. \nTous les 2 mois\, retrouvons-nous au cabinet pour un moment privilégié : \n Partager vos expériences et vos questions\nComprendre les enjeux émotionnels et éducatifs\n️ Repartir avec des outils simples et concrets \n️ Durée : 1h30 – dans une ambiance conviviale et confidentielle \n La première rencontre est offerte pour découvrir le concept (1ère rencontre en novembre) les suivantes à 35€. \n Dites-moi si vous préférez un temps en journée (temps scolaire) ou en soirée : cela permettra de créer des groupes adaptés. \n\n\n	Similaire
URL:https://crocoule.org/notre-evenement/atelier-decouverte-accompagnement-parentalite-gratuit/
LOCATION:Laetitia Chavot\, 3 place de l'Eglise\, Chamboeuf\, 42330\, France
CATEGORIES:En famille,Gratuit,Jeune Public,Tous les événements,Tout public
ORGANIZER;CN="Laetitia Chavot":MAILTO:laetitia.chavot.therapeute@gmail.com
END:VEVENT
END:VCALENDAR