BEGIN:VCALENDAR
VERSION:2.0
PRODID:-//Crocoule - ECPv6.15.15//NONSGML v1.0//EN
CALSCALE:GREGORIAN
METHOD:PUBLISH
X-ORIGINAL-URL:https://crocoule.org
X-WR-CALDESC:Évènements pour Crocoule
REFRESH-INTERVAL;VALUE=DURATION:PT1H
X-Robots-Tag:noindex
X-PUBLISHED-TTL:PT1H
BEGIN:VTIMEZONE
TZID:Europe/Paris
BEGIN:DAYLIGHT
TZOFFSETFROM:+0100
TZOFFSETTO:+0200
TZNAME:CEST
DTSTART:20250330T010000
END:DAYLIGHT
BEGIN:STANDARD
TZOFFSETFROM:+0200
TZOFFSETTO:+0100
TZNAME:CET
DTSTART:20251026T010000
END:STANDARD
BEGIN:DAYLIGHT
TZOFFSETFROM:+0100
TZOFFSETTO:+0200
TZNAME:CEST
DTSTART:20260329T010000
END:DAYLIGHT
BEGIN:STANDARD
TZOFFSETFROM:+0200
TZOFFSETTO:+0100
TZNAME:CET
DTSTART:20261025T010000
END:STANDARD
BEGIN:DAYLIGHT
TZOFFSETFROM:+0100
TZOFFSETTO:+0200
TZNAME:CEST
DTSTART:20270328T010000
END:DAYLIGHT
BEGIN:STANDARD
TZOFFSETFROM:+0200
TZOFFSETTO:+0100
TZNAME:CET
DTSTART:20271031T010000
END:STANDARD
END:VTIMEZONE
BEGIN:VEVENT
DTSTART;TZID=Europe/Paris:20260603T200000
DTEND;TZID=Europe/Paris:20260605T204500
DTSTAMP:20260421T144723
CREATED:20260228T174335Z
LAST-MODIFIED:20260228T174335Z
UID:10012917-1780516800-1780692300@crocoule.org
SUMMARY:Saint Etienne | Falaise
DESCRIPTION:Après les succès de Là et de Mazùt\, Baro d’evel revient à La Comédie avec Falaise\, une fresque époustouflante à la croisée des genres. Sur scène\, huit artistes qui maitrisent à merveille la danse\, le cirque et le chant\, explorent la chute avec rage et poésie. Leurs présences et leurs mouvements figurent une foule grouillante\, fragile et têtue\, qui cherche à inventer du nouveau dans les interstices d’un monde en ruines. Ça crie\, ça cherche\, ça tâtonne dans le tunnel de l’époque. \nCamille Decourtye et Blaï Mateu Trias inventent un espace théâtral et plastique inouï constitué d’associations d’idées\, de collages de mots\, de gestes et de respirations\, peuplé d’oiseaux\, de bruits d’ailes et hanté par la présence mystérieuse d’un magnifique cheval blanc. \nConçu comme un labyrinthe intérieur\, fait de recoins et de surprises\, Falaise propose un rêve éveillé\, où s’entend la vibration de la vie qui cogne et qui insiste. \nUne fresque monumentale à découvrir en famille à partir de 8 ans. \n\n\n	Similaire
URL:https://crocoule.org/notre-evenement/saint-etienne-falaise/
CATEGORIES:08 ans +,Tous les événements
END:VEVENT
BEGIN:VEVENT
DTSTART;TZID=Europe/Paris:20260623T200000
DTEND;TZID=Europe/Paris:20260625T210000
DTSTAMP:20260421T144723
CREATED:20260228T174336Z
LAST-MODIFIED:20260228T174336Z
UID:10012918-1782244800-1782421200@crocoule.org
SUMMARY:Saint Etienne | Yongoyély
DESCRIPTION:Au milieu des rumeurs urbaines de Conakry\, une poignée de femmes et d’hommes joue avec des parpaings et des petits troncs d’arbres\, travaille sur des équilibres précaires. Elles sont six circassiennes\, danseuses et chanteuses guinéennes accompagnées par deux porteurs et un voltigeur. Avec vigueur\, elles explorent toutes les facettes des arts du cirque\, acrobaties\, voltige\, mât chinois\, barres russes\, en les accompagnant de chants et de danses de Guinée. \nCircus Baobab\, collectif engagé de circassien.nes guinéen.nes de renommée internationale\, met ici tout son art au service de la condition des femmes. Yongoyély\, l’exciseuse en langue soussou\, donne le premier rôle aux interprètes féminines\, entre résistance et réappropriation de leur corps. Au travers de scènes et de témoignages radiophoniques\, elles révèlent la fragilité et la force sous l’oppression de la tradition patriarcale. \nCette création puissante\, animée par une vitalité hors du commun\, constitue un hommage au combat et à la résilience des femmes face aux épreuves que la vie leur impose. \n\n\n	Similaire
URL:https://crocoule.org/notre-evenement/saint-etienne-yongoyely/
CATEGORIES:08 ans +,Tous les événements
END:VEVENT
END:VCALENDAR