BEGIN:VCALENDAR
VERSION:2.0
PRODID:-//Crocoule - ECPv6.15.15//NONSGML v1.0//EN
CALSCALE:GREGORIAN
METHOD:PUBLISH
X-ORIGINAL-URL:https://crocoule.org
X-WR-CALDESC:Évènements pour Crocoule
REFRESH-INTERVAL;VALUE=DURATION:PT1H
X-Robots-Tag:noindex
X-PUBLISHED-TTL:PT1H
BEGIN:VTIMEZONE
TZID:Europe/Paris
BEGIN:DAYLIGHT
TZOFFSETFROM:+0100
TZOFFSETTO:+0200
TZNAME:CEST
DTSTART:20240331T010000
END:DAYLIGHT
BEGIN:STANDARD
TZOFFSETFROM:+0200
TZOFFSETTO:+0100
TZNAME:CET
DTSTART:20241027T010000
END:STANDARD
BEGIN:DAYLIGHT
TZOFFSETFROM:+0100
TZOFFSETTO:+0200
TZNAME:CEST
DTSTART:20250330T010000
END:DAYLIGHT
BEGIN:STANDARD
TZOFFSETFROM:+0200
TZOFFSETTO:+0100
TZNAME:CET
DTSTART:20251026T010000
END:STANDARD
BEGIN:DAYLIGHT
TZOFFSETFROM:+0100
TZOFFSETTO:+0200
TZNAME:CEST
DTSTART:20260329T010000
END:DAYLIGHT
BEGIN:STANDARD
TZOFFSETFROM:+0200
TZOFFSETTO:+0100
TZNAME:CET
DTSTART:20261025T010000
END:STANDARD
END:VTIMEZONE
BEGIN:VEVENT
DTSTART;TZID=Europe/Paris:20250926T203000
DTEND;TZID=Europe/Paris:20250926T213000
DTSTAMP:20260420T152109
CREATED:20250915T164117Z
LAST-MODIFIED:20250915T165015Z
UID:10012133-1758918600-1758922200@crocoule.org
SUMMARY:Lapte | Victor Hugo...Toujours!
DESCRIPTION:C’est aussi un voyage sensoriel et musical où les mots et les dessins de ce génie intemporel ne font qu’un.\nS’appuyant sur des lettres\, discours et poèmes\, le spectacle sillonne la vie de Victor Hugo\, révélant l’homme derrière le géant littéraire et surtout son incroyable modernité. Il met aussi en lumière un talent caché : le dessin\, indissociable de ses écrits.                                                                                                                           A noter : Dany Benedito encadrera un stage de lecture a voix haute les 27 et 28 sept a l’Enjoliverie aux Villettes \n\n\n	Similaire
URL:https://crocoule.org/notre-evenement/lapte-victor-hugo-toujours-2/
CATEGORIES:12 ans +,Tous les événements
END:VEVENT
BEGIN:VEVENT
DTSTART;TZID=Europe/Paris:20250920T163000
DTEND;TZID=Europe/Paris:20250920T173000
DTSTAMP:20260420T152109
CREATED:20250915T164136Z
LAST-MODIFIED:20250915T165038Z
UID:10012140-1758385800-1758389400@crocoule.org
SUMMARY:Retournac | On nait pas d'un pays mais on n'est d'une ville ou d'un village
DESCRIPTION:Similaire
URL:https://crocoule.org/notre-evenement/retournac-on-nait-pas-dun-pays-mais-on-nest-dune-ville-ou-dun-village/
CATEGORIES:12 ans +,Tous les événements
END:VEVENT
END:VCALENDAR