BEGIN:VCALENDAR
VERSION:2.0
PRODID:-//Crocoule - ECPv6.15.15//NONSGML v1.0//EN
CALSCALE:GREGORIAN
METHOD:PUBLISH
X-WR-CALNAME:Crocoule
X-ORIGINAL-URL:https://crocoule.org
X-WR-CALDESC:Évènements pour Crocoule
REFRESH-INTERVAL;VALUE=DURATION:PT1H
X-Robots-Tag:noindex
X-PUBLISHED-TTL:PT1H
BEGIN:VTIMEZONE
TZID:Europe/Paris
BEGIN:DAYLIGHT
TZOFFSETFROM:+0100
TZOFFSETTO:+0200
TZNAME:CEST
DTSTART:20240331T010000
END:DAYLIGHT
BEGIN:STANDARD
TZOFFSETFROM:+0200
TZOFFSETTO:+0100
TZNAME:CET
DTSTART:20241027T010000
END:STANDARD
BEGIN:DAYLIGHT
TZOFFSETFROM:+0100
TZOFFSETTO:+0200
TZNAME:CEST
DTSTART:20250330T010000
END:DAYLIGHT
BEGIN:STANDARD
TZOFFSETFROM:+0200
TZOFFSETTO:+0100
TZNAME:CET
DTSTART:20251026T010000
END:STANDARD
BEGIN:DAYLIGHT
TZOFFSETFROM:+0100
TZOFFSETTO:+0200
TZNAME:CEST
DTSTART:20260329T010000
END:DAYLIGHT
BEGIN:STANDARD
TZOFFSETFROM:+0200
TZOFFSETTO:+0100
TZNAME:CET
DTSTART:20261025T010000
END:STANDARD
BEGIN:DAYLIGHT
TZOFFSETFROM:+0100
TZOFFSETTO:+0200
TZNAME:CEST
DTSTART:20270328T010000
END:DAYLIGHT
BEGIN:STANDARD
TZOFFSETFROM:+0200
TZOFFSETTO:+0100
TZNAME:CET
DTSTART:20271031T010000
END:STANDARD
END:VTIMEZONE
BEGIN:VEVENT
DTSTART;TZID=Europe/Paris:20260404T173000
DTEND;TZID=Europe/Paris:20260404T183000
DTSTAMP:20260420T115241
CREATED:20251120T082216Z
LAST-MODIFIED:20260228T174335Z
UID:10012437-1775323800-1775327400@crocoule.org
SUMMARY:Les Villettes | Les dimanches contés de Konsl'Diz
DESCRIPTION:Un rendez-vous à ne pas manquer… pour petits et grands rêveurs. \n\n\n	Similaire
URL:https://crocoule.org/notre-evenement/les-villettes-les-dimanches-contes-de-konsldiz-11/
LOCATION:L’enjoliverie Les Villettes\, 14 ZA Lachaud\, Les Villettes\, 43600\, France
CATEGORIES:04 ans +,Tous les événements
END:VEVENT
BEGIN:VEVENT
DTSTART;TZID=Europe/Paris:20260315T173000
DTEND;TZID=Europe/Paris:20260315T183000
DTSTAMP:20260420T115241
CREATED:20251120T082215Z
LAST-MODIFIED:20260228T174335Z
UID:10012436-1773595800-1773599400@crocoule.org
SUMMARY:Les Villettes | Les dimanches contés de Konsl'Diz
DESCRIPTION:Manue Gracia et Marie-Pierre Touron nous invitent à un moment hors du temps\, à un voyage chaleureux\, fait de mots et de mélodies\, où l’imaginaire se déploie et réchauffe les cœurs. \n\n\n	Similaire
URL:https://crocoule.org/notre-evenement/les-villettes-les-dimanches-contes-de-konsldiz-10/
LOCATION:L’enjoliverie Les Villettes\, 14 ZA Lachaud\, Les Villettes\, 43600\, France
CATEGORIES:04 ans +,Tous les événements
END:VEVENT
BEGIN:VEVENT
DTSTART;TZID=Europe/Paris:20260208T173000
DTEND;TZID=Europe/Paris:20260208T183000
DTSTAMP:20260420T115241
CREATED:20251120T082212Z
LAST-MODIFIED:20251120T082212Z
UID:10012433-1770571800-1770575400@crocoule.org
SUMMARY:Les Villettes | Les dimanches contés de Konsl'Diz
DESCRIPTION:Des aventures extraordinaires\, tendres ou malicieuses\, portées par la voix\, la musique et les chansons. \n\n\n	Similaire
URL:https://crocoule.org/notre-evenement/les-villettes-les-dimanches-contes-de-konsldiz-9/
LOCATION:L’enjoliverie Les Villettes\, 14 ZA Lachaud\, Les Villettes\, 43600\, France
END:VEVENT
BEGIN:VEVENT
DTSTART;TZID=Europe/Paris:20260208T173000
DTEND;TZID=Europe/Paris:20260208T183000
DTSTAMP:20260420T115241
CREATED:20251120T082210Z
LAST-MODIFIED:20251120T082210Z
UID:10012435-1770571800-1770575400@crocoule.org
SUMMARY:Les Villettes | Les dimanches contés de Konsl'Diz
DESCRIPTION:Des aventures extraordinaires\, tendres ou malicieuses\, portées par la voix\, la musique et les chansons. \n\n\n	Similaire
URL:https://crocoule.org/notre-evenement/les-villettes-les-dimanches-contes-de-konsldiz-7/
LOCATION:L’enjoliverie Les Villettes\, 14 ZA Lachaud\, Les Villettes\, 43600\, France
CATEGORIES:04 ans +,Tous les événements
END:VEVENT
BEGIN:VEVENT
DTSTART;TZID=Europe/Paris:20260125T173000
DTEND;TZID=Europe/Paris:20260125T183000
DTSTAMP:20260420T115241
CREATED:20251120T082211Z
LAST-MODIFIED:20251120T082211Z
UID:10012432-1769362200-1769365800@crocoule.org
SUMMARY:Les Villettes | Les dimanches contés de Konsl'Diz
DESCRIPTION:Des histoires à écouter bien au chaud\, des récits à partager\, à rêver\, à savourer… \n\n\n	Similaire
URL:https://crocoule.org/notre-evenement/les-villettes-les-dimanches-contes-de-konsldiz-8/
LOCATION:L’enjoliverie Les Villettes\, 14 ZA Lachaud\, Les Villettes\, 43600\, France
END:VEVENT
BEGIN:VEVENT
DTSTART;TZID=Europe/Paris:20260125T173000
DTEND;TZID=Europe/Paris:20260125T183000
DTSTAMP:20260420T115241
CREATED:20251120T082210Z
LAST-MODIFIED:20251120T082210Z
UID:10012434-1769362200-1769365800@crocoule.org
SUMMARY:Les Villettes | Les dimanches contés de Konsl'Diz
DESCRIPTION:Des histoires à écouter bien au chaud\, des récits à partager\, à rêver\, à savourer… \n\n\n	Similaire
URL:https://crocoule.org/notre-evenement/les-villettes-les-dimanches-contes-de-konsldiz-6/
LOCATION:L’enjoliverie Les Villettes\, 14 ZA Lachaud\, Les Villettes\, 43600\, France
CATEGORIES:04 ans +,Tous les événements
END:VEVENT
BEGIN:VEVENT
DTSTART;TZID=Europe/Paris:20251227T100000
DTEND;TZID=Europe/Paris:20251227T200000
DTSTAMP:20260420T115241
CREATED:20251119T155328Z
LAST-MODIFIED:20260228T174335Z
UID:10012418-1766829600-1766865600@crocoule.org
SUMMARY:Les Villettes | Noel en contes
DESCRIPTION:Un rendez-vous annuel à ne pas manquer \n\n\n	Similaire
URL:https://crocoule.org/notre-evenement/les-villettes-noel-en-contes/
LOCATION:Salle polyvalente des Villettes
CATEGORIES:Tous les événements,Tout public
END:VEVENT
BEGIN:VEVENT
DTSTART;TZID=Europe/Paris:20251213T140000
DTEND;TZID=Europe/Paris:20251224T180000
DTSTAMP:20260420T115241
CREATED:20251119T155321Z
LAST-MODIFIED:20251120T082211Z
UID:10012411-1765634400-1766599200@crocoule.org
SUMMARY:Les Villettes | Marché de Noël
DESCRIPTION:exposants artisanat d’art ouvert aux createurs \n\n\n	Similaire
URL:https://crocoule.org/notre-evenement/les-villettes-marche-de-noel/
LOCATION:L’enjoliverie Les Villettes\, 14 ZA Lachaud\, Les Villettes\, 43600\, France
CATEGORIES:Expo,Tous les événements
END:VEVENT
BEGIN:VEVENT
DTSTART;TZID=Europe/Paris:20251207T173000
DTEND;TZID=Europe/Paris:20251207T183000
DTSTAMP:20260420T115241
CREATED:20251119T155322Z
LAST-MODIFIED:20251120T082211Z
UID:10012413-1765128600-1765132200@crocoule.org
SUMMARY:Les Villettes | Les dimanches contés de Konsl'Diz
DESCRIPTION:Avec lui\, l’hiver étend son manteau blanc\, le froid s’infiltre doucement\, et les jours raccourcissent… Mais dans ce paysage figé\, quelque chose s’allume : les contes. \n\n\n	Similaire
URL:https://crocoule.org/notre-evenement/les-villettes-les-dimanches-contes-de-konsldiz/
LOCATION:L’enjoliverie Les Villettes\, 14 ZA Lachaud\, Les Villettes\, 43600\, France
CATEGORIES:04 ans +,Tous les événements
END:VEVENT
BEGIN:VEVENT
DTSTART;TZID=Europe/Paris:20251125T171500
DTEND;TZID=Europe/Paris:20251125T181500
DTSTAMP:20260420T115241
CREATED:20250915T164138Z
LAST-MODIFIED:20250915T165041Z
UID:10012142-1764090900-1764094500@crocoule.org
SUMMARY:Beauzac | Histoires merveilleuses
DESCRIPTION:Kamishibaï \n\n\n	Similaire
URL:https://crocoule.org/notre-evenement/beauzac-histoires-merveilleuses/
LOCATION:Médiathèque de Beauzac\, Beauzac
CATEGORIES:06 ans +,Tous les événements
END:VEVENT
BEGIN:VEVENT
DTSTART;TZID=Europe/Paris:20251123T173000
DTEND;TZID=Europe/Paris:20251123T183000
DTSTAMP:20260420T115241
CREATED:20251119T155321Z
LAST-MODIFIED:20251120T082211Z
UID:10012412-1763919000-1763922600@crocoule.org
SUMMARY:Les Villettes | En attendant Noêl
DESCRIPTION:En attendant Noël… \n\n\n	Similaire
URL:https://crocoule.org/notre-evenement/les-villettes-en-attendant-noel/
LOCATION:L’enjoliverie Les Villettes\, 14 ZA Lachaud\, Les Villettes\, 43600\, France
CATEGORIES:04 ans +,Tous les événements
END:VEVENT
BEGIN:VEVENT
DTSTART;TZID=Europe/Paris:20251114T203000
DTEND;TZID=Europe/Paris:20251114T220000
DTSTAMP:20260420T115241
CREATED:20250915T164127Z
LAST-MODIFIED:20250915T165029Z
UID:10012135-1763152200-1763157600@crocoule.org
SUMMARY:Yssingeaux | Ma langue maternne va mourir et j'ai du mal à vous parler d'amour
DESCRIPTION:Jaulin aime les mots\, ce n’est pas nouveau. La langue est son outil de travail et le voilà qu’il parle de son outil. Il met des mots sur les siens\, le français qu’il adore\, sa langue de tête\, et le patois\, sa langue émotionnelle\, la vénération por toutes ces petites langues échappant à l’économie mondiale. \n\n\n	Similaire
URL:https://crocoule.org/notre-evenement/yssingeaux-ma-langue-maternne-va-mourir-et-jai-du-mal-a-vous-parler-damour/
CATEGORIES:Adultes,Tous les événements
END:VEVENT
BEGIN:VEVENT
DTSTART;TZID=Europe/Paris:20251114T084500
DTEND;TZID=Europe/Paris:20251114T170000
DTSTAMP:20260420T115241
CREATED:20250915T164153Z
LAST-MODIFIED:20250915T165050Z
UID:10012145-1763109900-1763139600@crocoule.org
SUMMARY:Monistrol sur Loire | Journée d'étude "Au travers des contes"
DESCRIPTION:un conteur (Yannick Jaulin) et un parterre d’universitaires et de professionnels de l’éducation \, du soin et de la pedagogie\, et des artistes se réuniront à « la capitelle » à Monistrol sur Loire afin d’échanger autour de « Ce que raconter veut dire » \, enjeux de langage\, de parole\, d’individuation\, de citoyenneté autant de sujet qui seront débattu lors de cette journée. \n\n\n	Similaire
URL:https://crocoule.org/notre-evenement/monistrol-sur-loire-journee-detude-au-travers-des-contes/
CATEGORIES:Adultes,Tous les événements
END:VEVENT
BEGIN:VEVENT
DTSTART;TZID=Europe/Paris:20251114T000000
DTEND;TZID=Europe/Paris:20251114T000000
DTSTAMP:20260420T115241
CREATED:20250915T164140Z
LAST-MODIFIED:20250915T165042Z
UID:10012143-1763078400-1763078400@crocoule.org
SUMMARY:Sainte Sigolène | Carte Blanche - Michel Galaret
DESCRIPTION:Similaire
URL:https://crocoule.org/notre-evenement/sainte-sigolene-carte-blanche-michel-galaret/
CATEGORIES:Tous les événements,Tout public
END:VEVENT
BEGIN:VEVENT
DTSTART;TZID=Europe/Paris:20251027T090000
DTEND;TZID=Europe/Paris:20251028T180000
DTSTAMP:20260420T115241
CREATED:20250915T164141Z
LAST-MODIFIED:20250915T165043Z
UID:10012144-1761555600-1761674400@crocoule.org
SUMMARY:Les Villettes | Lecture à haute voix - *Et si on apprenait à « dire » plutôt que « lire » un texte à voix haute ? Avec dany benedito
DESCRIPTION:A toute personne aimant lire à voix haute et souhaitant acquérir les outils afin de le faire sans entrave. Ou désirant découvrir ou approfondir l’interprétation d’un texte. \n\n\n	Similaire
URL:https://crocoule.org/notre-evenement/les-villettes-lecture-a-haute-voix-et-si-on-apprenait-a-dire-plutot-que-lire-un-texte-a-voix-haute-avec-dany-benedito/
LOCATION:L’enjoliverie Les Villettes\, 14 ZA Lachaud\, Les Villettes\, 43600\, France
CATEGORIES:Adultes,Tous les événements
END:VEVENT
BEGIN:VEVENT
DTSTART;TZID=Europe/Paris:20251025T153000
DTEND;TZID=Europe/Paris:20251025T163000
DTSTAMP:20260420T115241
CREATED:20250915T164115Z
LAST-MODIFIED:20250915T165020Z
UID:10012132-1761406200-1761409800@crocoule.org
SUMMARY:Dunières | Niou Niou le petit vers de terre
DESCRIPTION:Cela se passe dans un joli jardin d’une maison en Provence où le chant des cigales\, le soleil et le parfum de la lavande enchantent cette belle histoire . Un moment de tendresse où comptines\, poésie et musique avec des instruments originaux rythment ce spectacle rempli d’humour. \n\n\n	Similaire
URL:https://crocoule.org/notre-evenement/dunieres-niou-niou-le-petit-vers-de-terre/
CATEGORIES:04 ans +,Tous les événements
END:VEVENT
BEGIN:VEVENT
DTSTART;TZID=Europe/Paris:20251024T170000
DTEND;TZID=Europe/Paris:20251024T180000
DTSTAMP:20260420T115241
CREATED:20250915T164114Z
LAST-MODIFIED:20250915T165019Z
UID:10012131-1761325200-1761328800@crocoule.org
SUMMARY:aint Vincent | Le dromadaire qui voulait voir la mer
DESCRIPTION:Ce spectacle présente le parcours initiatique d’un dromadaire où le sens profond est l’acceptation de l’autre dans ses différences pour mieux vivre ensemble . \n\n\n	Similaire
URL:https://crocoule.org/notre-evenement/aint-vincent-le-dromadaire-qui-voulait-voir-la-mer/
LOCATION:Médiathéque St Vincent\, 10 rue du petit prince\, Saint vincent\, 43800\, France
CATEGORIES:06 ans +,Tous les événements
END:VEVENT
BEGIN:VEVENT
DTSTART;TZID=Europe/Paris:20251023T163000
DTEND;TZID=Europe/Paris:20251023T170000
DTSTAMP:20260420T115241
CREATED:20250915T164132Z
LAST-MODIFIED:20250915T165034Z
UID:10012139-1761237000-1761238800@crocoule.org
SUMMARY:Les Villettes |
DESCRIPTION:Les gestes parlent et s’emplissent de poésie et de rêve…comptines et mime \n\n\n	Similaire
URL:https://crocoule.org/notre-evenement/les-villettes/
LOCATION:L’enjoliverie Les Villettes\, 14 ZA Lachaud\, Les Villettes\, 43600\, France
CATEGORIES:Tous les événements
END:VEVENT
BEGIN:VEVENT
DTSTART;TZID=Europe/Paris:20251023T143000
DTEND;TZID=Europe/Paris:20251023T170000
DTSTAMP:20260420T115241
CREATED:20250915T164128Z
LAST-MODIFIED:20250915T165030Z
UID:10012136-1761229800-1761238800@crocoule.org
SUMMARY:Les Villettes | Balade découverte
DESCRIPTION:prevoir bonne chaussure denivelé important.\nRetour tisane a l’enjoliverie  \n\n\n	Similaire
URL:https://crocoule.org/notre-evenement/les-villettes-balade-decouverte/
LOCATION:L’enjoliverie Les Villettes\, 14 ZA Lachaud\, Les Villettes\, 43600\, France
CATEGORIES:07 ans +,Tous les événements
END:VEVENT
BEGIN:VEVENT
DTSTART;TZID=Europe/Paris:20251023T110000
DTEND;TZID=Europe/Paris:20251023T113000
DTSTAMP:20260420T115241
CREATED:20250915T164131Z
LAST-MODIFIED:20250915T165033Z
UID:10012138-1761217200-1761219000@crocoule.org
SUMMARY:Les Villettes | Tout un tissu d'histoires
DESCRIPTION:Similaire
URL:https://crocoule.org/notre-evenement/les-villettes-tout-un-tissu-dhistoires/
LOCATION:Salle polyvalente des Villettes
CATEGORIES:Tous les événements
END:VEVENT
BEGIN:VEVENT
DTSTART;TZID=Europe/Paris:20251023T094500
DTEND;TZID=Europe/Paris:20251023T094500
DTSTAMP:20260420T115241
CREATED:20250915T164130Z
LAST-MODIFIED:20250915T165032Z
UID:10012137-1761212700-1761212700@crocoule.org
SUMMARY:Les Villettes | Tout le monde le sait
DESCRIPTION:C’est l’histoire d’un ours qui rêve d’être aimé pour ce qu’il est. \n\n\n	Similaire
URL:https://crocoule.org/notre-evenement/les-villettes-tout-le-monde-le-sait/
LOCATION:Salle polyvalente des Villettes
CATEGORIES:Tous les événements
END:VEVENT
BEGIN:VEVENT
DTSTART;TZID=Europe/Paris:20251018T103000
DTEND;TZID=Europe/Paris:20251018T113000
DTSTAMP:20260420T115241
CREATED:20250915T164112Z
LAST-MODIFIED:20250915T165017Z
UID:10012130-1760783400-1760787000@crocoule.org
SUMMARY:Saint Pal de Mons | Tour du monde des odeurs
DESCRIPTION:Vanille de l’Océan Indien\, Rose de Turquie\, Santal d’Inde\, Fleur d’Oranger du Maroc\, les matières premières naturelles gardent en mémoire la terre qui les a portées… \n\n\n	Similaire
URL:https://crocoule.org/notre-evenement/saint-pal-de-mons-tour-du-monde-des-odeurs/
LOCATION:Médiatheque Saint Pal de Mons\, Pl. des Droits de l'Homme\, Saint-Pal-de-Mons\, Rhône-Alpes\, 43620\, France
CATEGORIES:06 ans +,Tous les événements
END:VEVENT
BEGIN:VEVENT
DTSTART;TZID=Europe/Paris:20251017T200000
DTEND;TZID=Europe/Paris:20251017T210000
DTSTAMP:20260420T115241
CREATED:20250915T164118Z
LAST-MODIFIED:20250915T165016Z
UID:10012134-1760731200-1760734800@crocoule.org
SUMMARY:Grazac | La légende du parfum
DESCRIPTION:Des réponses en contes et en parfums pour découvrir un univers méconnu…\n« Kyphi »\, « Eau de la Reine de Hongrie »\, « Vinaigre des quatre voleurs »\, « Eau de Cologne »\, mais\naussi le plus contemporain « N°5 » : depuis l’Égypte ancienne jusqu’à nos jours\, l’histoire de la\nparfumerie est faite de légendes. Ces anecdotes ou rumeurs devenues mythes contribuent à\nétoffer l’aura du parfum.\nDelphine de Swardt\, conteuse \n\n\n	Similaire
URL:https://crocoule.org/notre-evenement/grazac-la-legende-du-parfum-2/
LOCATION:Éole en prend 5′\, 43 rue Lafayette\, grazac\, 43200\, France
CATEGORIES:08 ans +,Tous les événements
END:VEVENT
BEGIN:VEVENT
DTSTART;TZID=Europe/Paris:20251010T180000
DTEND;TZID=Europe/Paris:20251010T180000
DTSTAMP:20260420T115241
CREATED:20250915T164137Z
LAST-MODIFIED:20250915T165039Z
UID:10012141-1760119200-1760119200@crocoule.org
SUMMARY:Saint Pal en chalencon | On nait pas d'un pays mais on n'est d'une ville ou d'un village
DESCRIPTION:Similaire
URL:https://crocoule.org/notre-evenement/saint-pal-en-chalencon-on-nait-pas-dun-pays-mais-on-nest-dune-ville-ou-dun-village/
LOCATION:Médiatheque saint pal en chalencon\, 1 Pl. des Droits de l'Homme\, Saint-Pal-de-Mons\, 43620\, France
CATEGORIES:12 ans +,Tous les événements
END:VEVENT
BEGIN:VEVENT
DTSTART;TZID=Europe/Paris:20250926T203000
DTEND;TZID=Europe/Paris:20250926T213000
DTSTAMP:20260420T115241
CREATED:20250915T164117Z
LAST-MODIFIED:20250915T165015Z
UID:10012133-1758918600-1758922200@crocoule.org
SUMMARY:Lapte | Victor Hugo...Toujours!
DESCRIPTION:C’est aussi un voyage sensoriel et musical où les mots et les dessins de ce génie intemporel ne font qu’un.\nS’appuyant sur des lettres\, discours et poèmes\, le spectacle sillonne la vie de Victor Hugo\, révélant l’homme derrière le géant littéraire et surtout son incroyable modernité. Il met aussi en lumière un talent caché : le dessin\, indissociable de ses écrits.                                                                                                                           A noter : Dany Benedito encadrera un stage de lecture a voix haute les 27 et 28 sept a l’Enjoliverie aux Villettes \n\n\n	Similaire
URL:https://crocoule.org/notre-evenement/lapte-victor-hugo-toujours-2/
CATEGORIES:12 ans +,Tous les événements
END:VEVENT
BEGIN:VEVENT
DTSTART;TZID=Europe/Paris:20250920T163000
DTEND;TZID=Europe/Paris:20250920T173000
DTSTAMP:20260420T115241
CREATED:20250915T164136Z
LAST-MODIFIED:20250915T165038Z
UID:10012140-1758385800-1758389400@crocoule.org
SUMMARY:Retournac | On nait pas d'un pays mais on n'est d'une ville ou d'un village
DESCRIPTION:Similaire
URL:https://crocoule.org/notre-evenement/retournac-on-nait-pas-dun-pays-mais-on-nest-dune-ville-ou-dun-village/
CATEGORIES:12 ans +,Tous les événements
END:VEVENT
END:VCALENDAR