BEGIN:VCALENDAR
VERSION:2.0
PRODID:-//Crocoule - ECPv6.15.15//NONSGML v1.0//EN
CALSCALE:GREGORIAN
METHOD:PUBLISH
X-WR-CALNAME:Crocoule
X-ORIGINAL-URL:https://crocoule.org
X-WR-CALDESC:Évènements pour Crocoule
REFRESH-INTERVAL;VALUE=DURATION:PT1H
X-Robots-Tag:noindex
X-PUBLISHED-TTL:PT1H
BEGIN:VTIMEZONE
TZID:Europe/Paris
BEGIN:DAYLIGHT
TZOFFSETFROM:+0100
TZOFFSETTO:+0200
TZNAME:CEST
DTSTART:20250330T010000
END:DAYLIGHT
BEGIN:STANDARD
TZOFFSETFROM:+0200
TZOFFSETTO:+0100
TZNAME:CET
DTSTART:20251026T010000
END:STANDARD
BEGIN:DAYLIGHT
TZOFFSETFROM:+0100
TZOFFSETTO:+0200
TZNAME:CEST
DTSTART:20260329T010000
END:DAYLIGHT
BEGIN:STANDARD
TZOFFSETFROM:+0200
TZOFFSETTO:+0100
TZNAME:CET
DTSTART:20261025T010000
END:STANDARD
BEGIN:DAYLIGHT
TZOFFSETFROM:+0100
TZOFFSETTO:+0200
TZNAME:CEST
DTSTART:20270328T010000
END:DAYLIGHT
BEGIN:STANDARD
TZOFFSETFROM:+0200
TZOFFSETTO:+0100
TZNAME:CET
DTSTART:20271031T010000
END:STANDARD
END:VTIMEZONE
BEGIN:VEVENT
DTSTART;TZID=Europe/Paris:20260817T143000
DTEND;TZID=Europe/Paris:20260817T163000
DTSTAMP:20260422T185049
CREATED:20260105T154539Z
LAST-MODIFIED:20260228T223052Z
UID:10012738-1786977000-1786984200@crocoule.org
SUMMARY:Saint cyr les vignes | Visite animée "Petit marché du glacier"
DESCRIPTION:8€/enfant-7€/adulte inclut la boule de glace.\nGratuit – de 2 ans/Avec glace : 2\,20€\nLa durée indiquée n’inclut pas le temps de dégustation. » \n\n\n	Similaire
URL:https://crocoule.org/notre-evenement/saint-cyr-les-vignes-visite-animee-petit-marche-du-glacier-7/
LOCATION:Ferme Des Délices Foréziens\, 1230 Les Sermages\, Saint-Cyr-les-Vignes\, 42210
CATEGORIES:03 ans +,Activité pendant les vacances,En famille,Tous les événements
ATTACH;FMTTYPE=image/jpeg:https://crocoule.org/wp-content/uploads/2026/01/91b7bc_5a6246d36d924d5ba16bc65258f3cdebmv2-6mp8rM.jpg
END:VEVENT
BEGIN:VEVENT
DTSTART;TZID=Europe/Paris:20260817T143000
DTEND;TZID=Europe/Paris:20260817T163000
DTSTAMP:20260422T185049
CREATED:20260105T154541Z
LAST-MODIFIED:20260105T154541Z
UID:10012739-1786977000-1786984200@crocoule.org
SUMMARY:Saint cyr les vignes | Visite guidée de la Ferme des délices
DESCRIPTION:7\,50€/adulte-6\,50€/enfant inclut la boule de glace\nGratuit – de 3 ans/Avec glace : 2\,20€\nLa durée indiquée n’inclut pas le temps de dégustation. \n\n\n	Similaire
URL:https://crocoule.org/notre-evenement/saint-cyr-les-vignes-visite-guidee-de-la-ferme-des-delices-27/
LOCATION:Ferme Des Délices Foréziens\, 1230 Les Sermages\, Saint-Cyr-les-Vignes\, 42210
ATTACH;FMTTYPE=image/jpeg:https://crocoule.org/wp-content/uploads/2026/01/91b7bc_8b7bcce4c68d47bc916953ab15ffd73emv2-ZVzmq6.jpg
END:VEVENT
BEGIN:VEVENT
DTSTART;TZID=Europe/Paris:20260817T143000
DTEND;TZID=Europe/Paris:20260817T163000
DTSTAMP:20260422T185049
CREATED:20260228T223052Z
LAST-MODIFIED:20260228T223052Z
UID:10012970-1786977000-1786984200@crocoule.org
SUMMARY:Saint cyr les vignes | Visite guidée de la "Ferme aux glaces"
DESCRIPTION:7\,50€/adulte-6\,50€/enfant inclut la boule de glace\nGratuit – de 3 ans/Avec glace : 2\,20€\nLa durée indiquée n’inclut pas le temps de dégustation. \n\n\n	Similaire
URL:https://crocoule.org/notre-evenement/saint-cyr-les-vignes-visite-guidee-de-la-ferme-aux-glaces-22/
LOCATION:Ferme Des Délices Foréziens\, 1230 Les Sermages\, Saint-Cyr-les-Vignes\, 42210
CATEGORIES:07 ans +,Activité pendant les vacances,Adultes,En famille,Tous les événements
ATTACH;FMTTYPE=image/jpeg:https://crocoule.org/wp-content/uploads/2026/01/91b7bc_8b7bcce4c68d47bc916953ab15ffd73emv2-ZVzmq6.jpg
END:VEVENT
BEGIN:VEVENT
DTSTART;TZID=Europe/Paris:20260819T100000
DTEND;TZID=Europe/Paris:20260819T113000
DTSTAMP:20260422T185049
CREATED:20260105T154552Z
LAST-MODIFIED:20260228T223053Z
UID:10012740-1787133600-1787139000@crocoule.org
SUMMARY:Saint cyr les vignes | Visite animée "La ferme en 10 doigts"
DESCRIPTION:8€/enfant-7€/adulte inclut la boule de glace.\nLa durée indiquée n’inclut pas le temps de dégustation. \n\n\n	Similaire
URL:https://crocoule.org/notre-evenement/saint-cyr-les-vignes-visite-animee-la-ferme-en-10-doigts-7/
LOCATION:Ferme Des Délices Foréziens\, 1230 Les Sermages\, Saint-Cyr-les-Vignes\, 42210
CATEGORIES:02 ans +,Activité pendant les vacances,En famille,Jeune Public,Tous les événements
ATTACH;FMTTYPE=image/jpeg:https://crocoule.org/wp-content/uploads/2026/01/91b7bc_cd3b85202776491cabebf5395007bca0mv2-LXW1GN.jpg
END:VEVENT
BEGIN:VEVENT
DTSTART;TZID=Europe/Paris:20260819T143000
DTEND;TZID=Europe/Paris:20260819T163000
DTSTAMP:20260422T185049
CREATED:20260105T154553Z
LAST-MODIFIED:20260228T223106Z
UID:10012741-1787149800-1787157000@crocoule.org
SUMMARY:Saint cyr les vignes | Visite animée "Les petits sicientifiques à la découverte du lait"
DESCRIPTION:« 9\,50€/enfant-7\,50€/adulte.\nGratuit – de 2 ans/Avec glace : 2\,20€\ninclut la boule de glace.\nLa durée indiquée n’inclut pas le temps de dégustation. » » » \n\n\n	Similaire
URL:https://crocoule.org/notre-evenement/saint-cyr-les-vignes-visite-animee-les-petits-sicientifiques-a-la-decouverte-du-lait-4/
LOCATION:Ferme Des Délices Foréziens\, 1230 Les Sermages\, Saint-Cyr-les-Vignes\, 42210
CATEGORIES:07 ans +,Activité pendant les vacances,En famille,Tous les événements
ATTACH;FMTTYPE=image/jpeg:https://crocoule.org/wp-content/uploads/2026/01/91b7bc_785532b475b84c91ae4780847d4c4bf2mv2-xF9sQh.jpg
END:VEVENT
BEGIN:VEVENT
DTSTART;TZID=Europe/Paris:20260819T143000
DTEND;TZID=Europe/Paris:20260819T163000
DTSTAMP:20260422T185049
CREATED:20260105T154555Z
LAST-MODIFIED:20260105T154555Z
UID:10012742-1787149800-1787157000@crocoule.org
SUMMARY:Saint cyr les vignes | Visite guidée de la Ferme des délices
DESCRIPTION:7\,50€/adulte-6\,50€/enfant inclut la boule de glace\nGratuit – de 3 ans/Avec glace : 2\,20€\nLa durée indiquée n’inclut pas le temps de dégustation. \n\n\n	Similaire
URL:https://crocoule.org/notre-evenement/saint-cyr-les-vignes-visite-guidee-de-la-ferme-des-delices-28/
LOCATION:Ferme Des Délices Foréziens\, 1230 Les Sermages\, Saint-Cyr-les-Vignes\, 42210
ATTACH;FMTTYPE=image/jpeg:https://crocoule.org/wp-content/uploads/2026/01/91b7bc_8b7bcce4c68d47bc916953ab15ffd73emv2-ZVzmq6.jpg
END:VEVENT
BEGIN:VEVENT
DTSTART;TZID=Europe/Paris:20260819T143000
DTEND;TZID=Europe/Paris:20260819T163000
DTSTAMP:20260422T185049
CREATED:20260228T223106Z
LAST-MODIFIED:20260228T223106Z
UID:10012971-1787149800-1787157000@crocoule.org
SUMMARY:Saint cyr les vignes | Visite guidée de la "Ferme aux glaces"
DESCRIPTION:7\,50€/adulte-6\,50€/enfant inclut la boule de glace\nGratuit – de 3 ans/Avec glace : 2\,20€\nLa durée indiquée n’inclut pas le temps de dégustation. \n\n\n	Similaire
URL:https://crocoule.org/notre-evenement/saint-cyr-les-vignes-visite-guidee-de-la-ferme-aux-glaces-23/
LOCATION:Ferme Des Délices Foréziens\, 1230 Les Sermages\, Saint-Cyr-les-Vignes\, 42210
CATEGORIES:07 ans +,Activité pendant les vacances,Adultes,En famille,Tous les événements
ATTACH;FMTTYPE=image/jpeg:https://crocoule.org/wp-content/uploads/2026/01/91b7bc_8b7bcce4c68d47bc916953ab15ffd73emv2-ZVzmq6.jpg
END:VEVENT
BEGIN:VEVENT
DTSTART;TZID=Europe/Paris:20260820T143000
DTEND;TZID=Europe/Paris:20260820T163000
DTSTAMP:20260422T185049
CREATED:20260105T154556Z
LAST-MODIFIED:20260228T223107Z
UID:10012743-1787236200-1787243400@crocoule.org
SUMMARY:Saint cyr les vignes | Visite animée "Top glacier"
DESCRIPTION:11\,50€/pers inclut la coupe glacée\nGratuit – de 2 ans/Avec glace : 5€ \n\n\n	Similaire
URL:https://crocoule.org/notre-evenement/saint-cyr-les-vignes-visite-animee-top-glacier-7/
LOCATION:Ferme Des Délices Foréziens\, 1230 Les Sermages\, Saint-Cyr-les-Vignes\, 42210
CATEGORIES:05 ans +,Activité pendant les vacances,En famille,Tous les événements
ATTACH;FMTTYPE=image/jpeg:https://crocoule.org/wp-content/uploads/2026/01/91b7bc_f51d42372bac4941a106ad64520ba5f2mv2-KyQ3Q5.jpg
END:VEVENT
BEGIN:VEVENT
DTSTART;TZID=Europe/Paris:20260821T143000
DTEND;TZID=Europe/Paris:20260821T163000
DTSTAMP:20260422T185049
CREATED:20260105T154557Z
LAST-MODIFIED:20260105T154557Z
UID:10012744-1787322600-1787329800@crocoule.org
SUMMARY:Saint cyr les vignes | Visite guidée de la Ferme des délices
DESCRIPTION:7\,50€/adulte-6\,50€/enfant inclut la boule de glace\nGratuit – de 3 ans/Avec glace : 2\,20€\nLa durée indiquée n’inclut pas le temps de dégustation. \n\n\n	Similaire
URL:https://crocoule.org/notre-evenement/saint-cyr-les-vignes-visite-guidee-de-la-ferme-des-delices-29/
LOCATION:Ferme Des Délices Foréziens\, 1230 Les Sermages\, Saint-Cyr-les-Vignes\, 42210
ATTACH;FMTTYPE=image/jpeg:https://crocoule.org/wp-content/uploads/2026/01/91b7bc_8b7bcce4c68d47bc916953ab15ffd73emv2-ZVzmq6.jpg
END:VEVENT
BEGIN:VEVENT
DTSTART;TZID=Europe/Paris:20260821T143000
DTEND;TZID=Europe/Paris:20260821T163000
DTSTAMP:20260422T185049
CREATED:20260228T223108Z
LAST-MODIFIED:20260228T223108Z
UID:10012972-1787322600-1787329800@crocoule.org
SUMMARY:Saint cyr les vignes | Visite guidée de la "Ferme aux glaces"
DESCRIPTION:7\,50€/adulte-6\,50€/enfant inclut la boule de glace\nGratuit – de 3 ans/Avec glace : 2\,20€\nLa durée indiquée n’inclut pas le temps de dégustation. \n\n\n	Similaire
URL:https://crocoule.org/notre-evenement/saint-cyr-les-vignes-visite-guidee-de-la-ferme-aux-glaces-24/
LOCATION:Ferme Des Délices Foréziens\, 1230 Les Sermages\, Saint-Cyr-les-Vignes\, 42210
CATEGORIES:07 ans +,Activité pendant les vacances,Adultes,En famille,Tous les événements
ATTACH;FMTTYPE=image/jpeg:https://crocoule.org/wp-content/uploads/2026/01/91b7bc_8b7bcce4c68d47bc916953ab15ffd73emv2-ZVzmq6.jpg
END:VEVENT
BEGIN:VEVENT
DTSTART;TZID=Europe/Paris:20260824T143000
DTEND;TZID=Europe/Paris:20260824T163000
DTSTAMP:20260422T185049
CREATED:20260105T154604Z
LAST-MODIFIED:20260228T223108Z
UID:10012745-1787581800-1787589000@crocoule.org
SUMMARY:Saint cyr les vignes | Visite animée "Petit marché du glacier"
DESCRIPTION:8€/enfant-7€/adulte inclut la boule de glace.\nGratuit – de 2 ans/Avec glace : 2\,20€\nLa durée indiquée n’inclut pas le temps de dégustation. » \n\n\n	Similaire
URL:https://crocoule.org/notre-evenement/saint-cyr-les-vignes-visite-animee-petit-marche-du-glacier-8/
LOCATION:Ferme Des Délices Foréziens\, 1230 Les Sermages\, Saint-Cyr-les-Vignes\, 42210
CATEGORIES:03 ans +,Activité pendant les vacances,En famille,Tous les événements
ATTACH;FMTTYPE=image/jpeg:https://crocoule.org/wp-content/uploads/2026/01/91b7bc_5a6246d36d924d5ba16bc65258f3cdebmv2-6mp8rM.jpg
END:VEVENT
BEGIN:VEVENT
DTSTART;TZID=Europe/Paris:20260824T143000
DTEND;TZID=Europe/Paris:20260824T163000
DTSTAMP:20260422T185049
CREATED:20260105T154606Z
LAST-MODIFIED:20260105T154615Z
UID:10012746-1787581800-1787589000@crocoule.org
SUMMARY:Saint cyr les vignes | Visite guidée de la Ferme des délices
DESCRIPTION:7\,50€/adulte-6\,50€/enfant inclut la boule de glace\nGratuit – de 3 ans/Avec glace : 2\,20€\nLa durée indiquée n’inclut pas le temps de dégustation. \n\n\n	Similaire
URL:https://crocoule.org/notre-evenement/saint-cyr-les-vignes-visite-guidee-de-la-ferme-des-delices-30/
LOCATION:Ferme Des Délices Foréziens\, 1230 Les Sermages\, Saint-Cyr-les-Vignes\, 42210
CATEGORIES:07 ans +,Activité pendant les vacances,Adultes,En famille,Tous les événements
ATTACH;FMTTYPE=image/jpeg:https://crocoule.org/wp-content/uploads/2026/01/91b7bc_8b7bcce4c68d47bc916953ab15ffd73emv2-ZVzmq6.jpg
END:VEVENT
BEGIN:VEVENT
DTSTART;TZID=Europe/Paris:20260824T143000
DTEND;TZID=Europe/Paris:20260824T163000
DTSTAMP:20260422T185049
CREATED:20260228T223121Z
LAST-MODIFIED:20260228T223121Z
UID:10012973-1787581800-1787589000@crocoule.org
SUMMARY:Saint cyr les vignes | Visite guidée de la "Ferme aux glaces"
DESCRIPTION:7\,50€/adulte-6\,50€/enfant inclut la boule de glace\nGratuit – de 3 ans/Avec glace : 2\,20€\nLa durée indiquée n’inclut pas le temps de dégustation. \n\n\n	Similaire
URL:https://crocoule.org/notre-evenement/saint-cyr-les-vignes-visite-guidee-de-la-ferme-aux-glaces-25/
LOCATION:Ferme Des Délices Foréziens\, 1230 Les Sermages\, Saint-Cyr-les-Vignes\, 42210
CATEGORIES:07 ans +,Activité pendant les vacances,Adultes,En famille,Tous les événements
ATTACH;FMTTYPE=image/jpeg:https://crocoule.org/wp-content/uploads/2026/01/91b7bc_8b7bcce4c68d47bc916953ab15ffd73emv2-ZVzmq6.jpg
END:VEVENT
BEGIN:VEVENT
DTSTART;TZID=Europe/Paris:20260826T100000
DTEND;TZID=Europe/Paris:20260826T113000
DTSTAMP:20260422T185049
CREATED:20260105T154608Z
LAST-MODIFIED:20260228T223122Z
UID:10012747-1787738400-1787743800@crocoule.org
SUMMARY:Saint cyr les vignes | Visite animée "Ferme en histoire"
DESCRIPTION:Une visite riche en découvertes\, à partager en famille pour le plaisirs des petits et des grands\,\net\, qui se terminera autour d’une délicieuse glace fabriquée à la ferme.\n8€/enfant-7€/adulte. Gratuit – de 2 ans/Avec glace : 2\,20€\ninclut la boule de glace. La durée indiquée n’inclut pas le temps de dégustation. \n\n\n	Similaire
URL:https://crocoule.org/notre-evenement/saint-cyr-les-vignes-visite-animee-ferme-en-histoire-6/
LOCATION:Ferme Des Délices Foréziens\, 1230 Les Sermages\, Saint-Cyr-les-Vignes\, 42210
CATEGORIES:03 ans +,Activité pendant les vacances,En famille,Tous les événements
ATTACH;FMTTYPE=image/jpeg:https://crocoule.org/wp-content/uploads/2026/01/91b7bc_b93d624e053249ec9027f228acb3e5dbmv2-qnfy0X.jpg
END:VEVENT
BEGIN:VEVENT
DTSTART;TZID=Europe/Paris:20260826T143000
DTEND;TZID=Europe/Paris:20260826T163000
DTSTAMP:20260422T185049
CREATED:20260105T154609Z
LAST-MODIFIED:20260105T154618Z
UID:10012748-1787754600-1787761800@crocoule.org
SUMMARY:Saint cyr les vignes | Visite guidée de la Ferme des délices
DESCRIPTION:7\,50€/adulte-6\,50€/enfant inclut la boule de glace\nGratuit – de 3 ans/Avec glace : 2\,20€\nLa durée indiquée n’inclut pas le temps de dégustation. \n\n\n	Similaire
URL:https://crocoule.org/notre-evenement/saint-cyr-les-vignes-visite-guidee-de-la-ferme-des-delices-31/
LOCATION:Ferme Des Délices Foréziens\, 1230 Les Sermages\, Saint-Cyr-les-Vignes\, 42210
CATEGORIES:03 ans +,07 ans +,Activité pendant les vacances,Adultes,En famille,Tous les événements
ATTACH;FMTTYPE=image/jpeg:https://crocoule.org/wp-content/uploads/2026/01/91b7bc_8b7bcce4c68d47bc916953ab15ffd73emv2-ZVzmq6.jpg
END:VEVENT
BEGIN:VEVENT
DTSTART;TZID=Europe/Paris:20260826T143000
DTEND;TZID=Europe/Paris:20260826T163000
DTSTAMP:20260422T185049
CREATED:20260228T223122Z
LAST-MODIFIED:20260228T223122Z
UID:10012974-1787754600-1787761800@crocoule.org
SUMMARY:Saint cyr les vignes | Visite guidée de la "Ferme aux glaces"
DESCRIPTION:7\,50€/adulte-6\,50€/enfant inclut la boule de glace\nGratuit – de 3 ans/Avec glace : 2\,20€\nLa durée indiquée n’inclut pas le temps de dégustation. \n\n\n	Similaire
URL:https://crocoule.org/notre-evenement/saint-cyr-les-vignes-visite-guidee-de-la-ferme-aux-glaces-26/
LOCATION:Ferme Des Délices Foréziens\, 1230 Les Sermages\, Saint-Cyr-les-Vignes\, 42210
CATEGORIES:03 ans +,07 ans +,Activité pendant les vacances,Adultes,En famille,Tous les événements
ATTACH;FMTTYPE=image/jpeg:https://crocoule.org/wp-content/uploads/2026/01/91b7bc_8b7bcce4c68d47bc916953ab15ffd73emv2-ZVzmq6.jpg
END:VEVENT
BEGIN:VEVENT
DTSTART;TZID=Europe/Paris:20260827T143000
DTEND;TZID=Europe/Paris:20260827T163000
DTSTAMP:20260422T185049
CREATED:20260105T154611Z
LAST-MODIFIED:20260228T223123Z
UID:10012749-1787841000-1787848200@crocoule.org
SUMMARY:Saint cyr les vignes | Visite animée "Top glacier"
DESCRIPTION:11\,50€/pers inclut la coupe glacée\nGratuit – de 2 ans/Avec glace : 5€ \n\n\n	Similaire
URL:https://crocoule.org/notre-evenement/saint-cyr-les-vignes-visite-animee-top-glacier-8/
LOCATION:Ferme Des Délices Foréziens\, 1230 Les Sermages\, Saint-Cyr-les-Vignes\, 42210
CATEGORIES:05 ans +,Activité pendant les vacances,En famille,Tous les événements
ATTACH;FMTTYPE=image/jpeg:https://crocoule.org/wp-content/uploads/2026/01/91b7bc_f51d42372bac4941a106ad64520ba5f2mv2-KyQ3Q5.jpg
END:VEVENT
BEGIN:VEVENT
DTSTART;TZID=Europe/Paris:20260828T143000
DTEND;TZID=Europe/Paris:20260828T163000
DTSTAMP:20260422T185049
CREATED:20260105T154627Z
LAST-MODIFIED:20260105T154627Z
UID:10012750-1787927400-1787934600@crocoule.org
SUMMARY:Saint cyr les vignes | Visite guidée de la Ferme des délices
DESCRIPTION:7\,50€/adulte-6\,50€/enfant inclut la boule de glace\nGratuit – de 3 ans/Avec glace : 2\,20€\nLa durée indiquée n’inclut pas le temps de dégustation. \n\n\n	Similaire
URL:https://crocoule.org/notre-evenement/saint-cyr-les-vignes-visite-guidee-de-la-ferme-des-delices-32/
LOCATION:Ferme Des Délices Foréziens\, 1230 Les Sermages\, Saint-Cyr-les-Vignes\, 42210
CATEGORIES:07 ans +,Activité pendant les vacances,Adultes,En famille,Tous les événements
ATTACH;FMTTYPE=image/jpeg:https://crocoule.org/wp-content/uploads/2026/01/91b7bc_8b7bcce4c68d47bc916953ab15ffd73emv2-ZVzmq6.jpg
END:VEVENT
BEGIN:VEVENT
DTSTART;TZID=Europe/Paris:20260828T143000
DTEND;TZID=Europe/Paris:20260828T163000
DTSTAMP:20260422T185049
CREATED:20260228T223123Z
LAST-MODIFIED:20260228T223123Z
UID:10012975-1787927400-1787934600@crocoule.org
SUMMARY:Saint cyr les vignes | Visite guidée de la "Ferme aux glaces"
DESCRIPTION:7\,50€/adulte-6\,50€/enfant inclut la boule de glace\nGratuit – de 3 ans/Avec glace : 2\,20€\nLa durée indiquée n’inclut pas le temps de dégustation. \n\n\n	Similaire
URL:https://crocoule.org/notre-evenement/saint-cyr-les-vignes-visite-guidee-de-la-ferme-aux-glaces-27/
LOCATION:Ferme Des Délices Foréziens\, 1230 Les Sermages\, Saint-Cyr-les-Vignes\, 42210
CATEGORIES:07 ans +,Activité pendant les vacances,Adultes,En famille,Tous les événements
ATTACH;FMTTYPE=image/jpeg:https://crocoule.org/wp-content/uploads/2026/01/91b7bc_8b7bcce4c68d47bc916953ab15ffd73emv2-ZVzmq6.jpg
END:VEVENT
END:VCALENDAR