BEGIN:VCALENDAR
VERSION:2.0
PRODID:-//Crocoule - ECPv6.15.15//NONSGML v1.0//EN
CALSCALE:GREGORIAN
METHOD:PUBLISH
X-ORIGINAL-URL:https://crocoule.org
X-WR-CALDESC:Évènements pour Crocoule
REFRESH-INTERVAL;VALUE=DURATION:PT1H
X-Robots-Tag:noindex
X-PUBLISHED-TTL:PT1H
BEGIN:VTIMEZONE
TZID:Europe/Paris
BEGIN:DAYLIGHT
TZOFFSETFROM:+0100
TZOFFSETTO:+0200
TZNAME:CEST
DTSTART:20250330T010000
END:DAYLIGHT
BEGIN:STANDARD
TZOFFSETFROM:+0200
TZOFFSETTO:+0100
TZNAME:CET
DTSTART:20251026T010000
END:STANDARD
BEGIN:DAYLIGHT
TZOFFSETFROM:+0100
TZOFFSETTO:+0200
TZNAME:CEST
DTSTART:20260329T010000
END:DAYLIGHT
BEGIN:STANDARD
TZOFFSETFROM:+0200
TZOFFSETTO:+0100
TZNAME:CET
DTSTART:20261025T010000
END:STANDARD
BEGIN:DAYLIGHT
TZOFFSETFROM:+0100
TZOFFSETTO:+0200
TZNAME:CEST
DTSTART:20270328T010000
END:DAYLIGHT
BEGIN:STANDARD
TZOFFSETFROM:+0200
TZOFFSETTO:+0100
TZNAME:CET
DTSTART:20271031T010000
END:STANDARD
END:VTIMEZONE
BEGIN:VEVENT
DTSTART;TZID=Europe/Paris:20260708T143000
DTEND;TZID=Europe/Paris:20260708T163000
DTSTAMP:20260422T162117
CREATED:20260228T222906Z
LAST-MODIFIED:20260228T222906Z
UID:10012956-1783521000-1783528200@crocoule.org
SUMMARY:Saint cyr les vignes | Visite guidée de la "Ferme aux glaces"
DESCRIPTION:7\,50€/adulte-6\,50€/enfant inclut la boule de glace\nGratuit – de 3 ans/Avec glace : 2\,20€\nLa durée indiquée n’inclut pas le temps de dégustation. \n\n\n	Similaire
URL:https://crocoule.org/notre-evenement/saint-cyr-les-vignes-visite-guidee-de-la-ferme-aux-glaces-8/
LOCATION:Ferme Des Délices Foréziens\, 1230 Les Sermages\, Saint-Cyr-les-Vignes\, 42210
CATEGORIES:07 ans +,Activité pendant les vacances,Adultes,En famille,Tous les événements
ATTACH;FMTTYPE=image/jpeg:https://crocoule.org/wp-content/uploads/2026/01/91b7bc_8b7bcce4c68d47bc916953ab15ffd73emv2-ZVzmq6.jpg
END:VEVENT
BEGIN:VEVENT
DTSTART;TZID=Europe/Paris:20260709T143000
DTEND;TZID=Europe/Paris:20260709T163000
DTSTAMP:20260422T162117
CREATED:20260105T154357Z
LAST-MODIFIED:20260228T222907Z
UID:10012703-1783607400-1783614600@crocoule.org
SUMMARY:Saint cyr les vignes | Visite animée "Top glacier"
DESCRIPTION:11\,50€/pers inclut la coupe glacée\nGratuit – de 2 ans/Avec glace : 5€ \n\n\n	Similaire
URL:https://crocoule.org/notre-evenement/saint-cyr-les-vignes-visite-animee-top-glacier/
LOCATION:Ferme Des Délices Foréziens\, 1230 Les Sermages\, Saint-Cyr-les-Vignes\, 42210
CATEGORIES:05 ans +,Activité pendant les vacances,En famille,Tous les événements
ATTACH;FMTTYPE=image/jpeg:https://crocoule.org/wp-content/uploads/2026/01/91b7bc_f51d42372bac4941a106ad64520ba5f2mv2-KyQ3Q5.jpg
END:VEVENT
BEGIN:VEVENT
DTSTART;TZID=Europe/Paris:20260710T143000
DTEND;TZID=Europe/Paris:20260710T163000
DTSTAMP:20260422T162117
CREATED:20260105T154359Z
LAST-MODIFIED:20260105T154359Z
UID:10012704-1783693800-1783701000@crocoule.org
SUMMARY:Saint cyr les vignes | Visite guidée de la Ferme des délices
DESCRIPTION:7\,50€/adulte-6\,50€/enfant inclut la boule de glace\nGratuit – de 3 ans/Avec glace : 2\,20€\nLa durée indiquée n’inclut pas le temps de dégustation. \n\n\n	Similaire
URL:https://crocoule.org/notre-evenement/saint-cyr-les-vignes-visite-guidee-de-la-ferme-des-delices-14/
LOCATION:Ferme Des Délices Foréziens\, 1230 Les Sermages\, Saint-Cyr-les-Vignes\, 42210
ATTACH;FMTTYPE=image/jpeg:https://crocoule.org/wp-content/uploads/2026/01/91b7bc_8b7bcce4c68d47bc916953ab15ffd73emv2-ZVzmq6.jpg
END:VEVENT
BEGIN:VEVENT
DTSTART;TZID=Europe/Paris:20260710T143000
DTEND;TZID=Europe/Paris:20260710T163000
DTSTAMP:20260422T162117
CREATED:20260228T222907Z
LAST-MODIFIED:20260228T222907Z
UID:10012957-1783693800-1783701000@crocoule.org
SUMMARY:Saint cyr les vignes | Visite guidée de la "Ferme aux glaces"
DESCRIPTION:7\,50€/adulte-6\,50€/enfant inclut la boule de glace\nGratuit – de 3 ans/Avec glace : 2\,20€\nLa durée indiquée n’inclut pas le temps de dégustation. \n\n\n	Similaire
URL:https://crocoule.org/notre-evenement/saint-cyr-les-vignes-visite-guidee-de-la-ferme-aux-glaces-9/
LOCATION:Ferme Des Délices Foréziens\, 1230 Les Sermages\, Saint-Cyr-les-Vignes\, 42210
CATEGORIES:07 ans +,Activité pendant les vacances,Adultes,En famille,Tous les événements
ATTACH;FMTTYPE=image/jpeg:https://crocoule.org/wp-content/uploads/2026/01/91b7bc_8b7bcce4c68d47bc916953ab15ffd73emv2-ZVzmq6.jpg
END:VEVENT
BEGIN:VEVENT
DTSTART;TZID=Europe/Paris:20260713T143000
DTEND;TZID=Europe/Paris:20260713T163000
DTSTAMP:20260422T162117
CREATED:20260105T154406Z
LAST-MODIFIED:20260228T222908Z
UID:10012705-1783953000-1783960200@crocoule.org
SUMMARY:Saint cyr les vignes | Visite animée "Petit marché du glacier"
DESCRIPTION:8€/enfant-7€/adulte inclut la boule de glace.\nGratuit – de 2 ans/Avec glace : 2\,20€\nLa durée indiquée n’inclut pas le temps de dégustation. » \n\n\n	Similaire
URL:https://crocoule.org/notre-evenement/saint-cyr-les-vignes-visite-animee-petit-marche-du-glacier-2/
LOCATION:Ferme Des Délices Foréziens\, 1230 Les Sermages\, Saint-Cyr-les-Vignes\, 42210
CATEGORIES:03 ans +,Activité pendant les vacances,En famille,Tous les événements
ATTACH;FMTTYPE=image/jpeg:https://crocoule.org/wp-content/uploads/2026/01/91b7bc_5a6246d36d924d5ba16bc65258f3cdebmv2-6mp8rM.jpg
END:VEVENT
BEGIN:VEVENT
DTSTART;TZID=Europe/Paris:20260713T143000
DTEND;TZID=Europe/Paris:20260713T163000
DTSTAMP:20260422T162117
CREATED:20260105T154407Z
LAST-MODIFIED:20260105T154407Z
UID:10012706-1783953000-1783960200@crocoule.org
SUMMARY:Saint cyr les vignes | Visite guidée de la Ferme des délices
DESCRIPTION:7\,50€/adulte-6\,50€/enfant inclut la boule de glace\nGratuit – de 3 ans/Avec glace : 2\,20€\nLa durée indiquée n’inclut pas le temps de dégustation. \n\n\n	Similaire
URL:https://crocoule.org/notre-evenement/saint-cyr-les-vignes-visite-guidee-de-la-ferme-des-delices-15/
LOCATION:Ferme Des Délices Foréziens\, 1230 Les Sermages\, Saint-Cyr-les-Vignes\, 42210
ATTACH;FMTTYPE=image/jpeg:https://crocoule.org/wp-content/uploads/2026/01/91b7bc_8b7bcce4c68d47bc916953ab15ffd73emv2-ZVzmq6.jpg
END:VEVENT
BEGIN:VEVENT
DTSTART;TZID=Europe/Paris:20260713T143000
DTEND;TZID=Europe/Paris:20260713T163000
DTSTAMP:20260422T162117
CREATED:20260228T222921Z
LAST-MODIFIED:20260228T222921Z
UID:10012958-1783953000-1783960200@crocoule.org
SUMMARY:Saint cyr les vignes | Visite guidée de la "Ferme aux glaces"
DESCRIPTION:7\,50€/adulte-6\,50€/enfant inclut la boule de glace\nGratuit – de 3 ans/Avec glace : 2\,20€\nLa durée indiquée n’inclut pas le temps de dégustation. \n\n\n	Similaire
URL:https://crocoule.org/notre-evenement/saint-cyr-les-vignes-visite-guidee-de-la-ferme-aux-glaces-10/
LOCATION:Ferme Des Délices Foréziens\, 1230 Les Sermages\, Saint-Cyr-les-Vignes\, 42210
CATEGORIES:07 ans +,Activité pendant les vacances,Adultes,En famille,Tous les événements
ATTACH;FMTTYPE=image/jpeg:https://crocoule.org/wp-content/uploads/2026/01/91b7bc_8b7bcce4c68d47bc916953ab15ffd73emv2-ZVzmq6.jpg
END:VEVENT
BEGIN:VEVENT
DTSTART;TZID=Europe/Paris:20260715T100000
DTEND;TZID=Europe/Paris:20260715T113000
DTSTAMP:20260422T162117
CREATED:20260105T154409Z
LAST-MODIFIED:20260228T222922Z
UID:10012707-1784109600-1784115000@crocoule.org
SUMMARY:Saint cyr les vignes | Visite animée "Ferme en histoire"
DESCRIPTION:Une visite riche en découvertes\, à partager en famille pour le plaisirs des petits et des grands\,\net\, qui se terminera autour d’une délicieuse glace fabriquée à la ferme.\n8€/enfant-7€/adulte. Gratuit – de 2 ans/Avec glace : 2\,20€\ninclut la boule de glace. La durée indiquée n’inclut pas le temps de dégustation. \n\n\n	Similaire
URL:https://crocoule.org/notre-evenement/saint-cyr-les-vignes-visite-animee-ferme-en-histoire-3/
LOCATION:Ferme Des Délices Foréziens\, 1230 Les Sermages\, Saint-Cyr-les-Vignes\, 42210
CATEGORIES:03 ans +,Activité pendant les vacances,En famille,Tous les événements
ATTACH;FMTTYPE=image/jpeg:https://crocoule.org/wp-content/uploads/2026/01/91b7bc_b93d624e053249ec9027f228acb3e5dbmv2-qnfy0X.jpg
END:VEVENT
BEGIN:VEVENT
DTSTART;TZID=Europe/Paris:20260715T143000
DTEND;TZID=Europe/Paris:20260715T163000
DTSTAMP:20260422T162117
CREATED:20260105T154410Z
LAST-MODIFIED:20260105T154410Z
UID:10012708-1784125800-1784133000@crocoule.org
SUMMARY:Saint cyr les vignes | Visite guidée de la Ferme des délices
DESCRIPTION:7\,50€/adulte-6\,50€/enfant inclut la boule de glace\nGratuit – de 3 ans/Avec glace : 2\,20€\nLa durée indiquée n’inclut pas le temps de dégustation. \n\n\n	Similaire
URL:https://crocoule.org/notre-evenement/saint-cyr-les-vignes-visite-guidee-de-la-ferme-des-delices-16/
LOCATION:Ferme Des Délices Foréziens\, 1230 Les Sermages\, Saint-Cyr-les-Vignes\, 42210
ATTACH;FMTTYPE=image/jpeg:https://crocoule.org/wp-content/uploads/2026/01/91b7bc_8b7bcce4c68d47bc916953ab15ffd73emv2-ZVzmq6.jpg
END:VEVENT
BEGIN:VEVENT
DTSTART;TZID=Europe/Paris:20260715T143000
DTEND;TZID=Europe/Paris:20260715T163000
DTSTAMP:20260422T162117
CREATED:20260228T222922Z
LAST-MODIFIED:20260228T222922Z
UID:10012959-1784125800-1784133000@crocoule.org
SUMMARY:Saint cyr les vignes | Visite guidée de la "Ferme aux glaces"
DESCRIPTION:7\,50€/adulte-6\,50€/enfant inclut la boule de glace\nGratuit – de 3 ans/Avec glace : 2\,20€\nLa durée indiquée n’inclut pas le temps de dégustation. \n\n\n	Similaire
URL:https://crocoule.org/notre-evenement/saint-cyr-les-vignes-visite-guidee-de-la-ferme-aux-glaces-11/
LOCATION:Ferme Des Délices Foréziens\, 1230 Les Sermages\, Saint-Cyr-les-Vignes\, 42210
CATEGORIES:07 ans +,Activité pendant les vacances,Adultes,En famille,Tous les événements
ATTACH;FMTTYPE=image/jpeg:https://crocoule.org/wp-content/uploads/2026/01/91b7bc_8b7bcce4c68d47bc916953ab15ffd73emv2-ZVzmq6.jpg
END:VEVENT
BEGIN:VEVENT
DTSTART;TZID=Europe/Paris:20260716T143000
DTEND;TZID=Europe/Paris:20260716T163000
DTSTAMP:20260422T162117
CREATED:20260105T154412Z
LAST-MODIFIED:20260228T222923Z
UID:10012709-1784212200-1784219400@crocoule.org
SUMMARY:Saint cyr les vignes | Visite animée "Top glacier"
DESCRIPTION:11\,50€/pers inclut la coupe glacée\nGratuit – de 2 ans/Avec glace : 5€ \n\n\n	Similaire
URL:https://crocoule.org/notre-evenement/saint-cyr-les-vignes-visite-animee-top-glacier-2/
LOCATION:Ferme Des Délices Foréziens\, 1230 Les Sermages\, Saint-Cyr-les-Vignes\, 42210
CATEGORIES:05 ans +,Activité pendant les vacances,En famille,Tous les événements
ATTACH;FMTTYPE=image/jpeg:https://crocoule.org/wp-content/uploads/2026/01/91b7bc_f51d42372bac4941a106ad64520ba5f2mv2-KyQ3Q5.jpg
END:VEVENT
BEGIN:VEVENT
DTSTART;TZID=Europe/Paris:20260717T143000
DTEND;TZID=Europe/Paris:20260717T163000
DTSTAMP:20260422T162117
CREATED:20260105T154423Z
LAST-MODIFIED:20260105T154423Z
UID:10012710-1784298600-1784305800@crocoule.org
SUMMARY:Saint cyr les vignes | Visite guidée de la Ferme des délices
DESCRIPTION:7\,50€/adulte-6\,50€/enfant inclut la boule de glace\nGratuit – de 3 ans/Avec glace : 2\,20€\nLa durée indiquée n’inclut pas le temps de dégustation. \n\n\n	Similaire
URL:https://crocoule.org/notre-evenement/saint-cyr-les-vignes-visite-guidee-de-la-ferme-des-delices-17/
LOCATION:Ferme Des Délices Foréziens\, 1230 Les Sermages\, Saint-Cyr-les-Vignes\, 42210
ATTACH;FMTTYPE=image/jpeg:https://crocoule.org/wp-content/uploads/2026/01/91b7bc_8b7bcce4c68d47bc916953ab15ffd73emv2-ZVzmq6.jpg
END:VEVENT
BEGIN:VEVENT
DTSTART;TZID=Europe/Paris:20260717T143000
DTEND;TZID=Europe/Paris:20260717T163000
DTSTAMP:20260422T162117
CREATED:20260228T222923Z
LAST-MODIFIED:20260228T222923Z
UID:10012960-1784298600-1784305800@crocoule.org
SUMMARY:Saint cyr les vignes | Visite guidée de la "Ferme aux glaces"
DESCRIPTION:7\,50€/adulte-6\,50€/enfant inclut la boule de glace\nGratuit – de 3 ans/Avec glace : 2\,20€\nLa durée indiquée n’inclut pas le temps de dégustation. \n\n\n	Similaire
URL:https://crocoule.org/notre-evenement/saint-cyr-les-vignes-visite-guidee-de-la-ferme-aux-glaces-12/
LOCATION:Ferme Des Délices Foréziens\, 1230 Les Sermages\, Saint-Cyr-les-Vignes\, 42210
CATEGORIES:07 ans +,Activité pendant les vacances,Adultes,En famille,Tous les événements
ATTACH;FMTTYPE=image/jpeg:https://crocoule.org/wp-content/uploads/2026/01/91b7bc_8b7bcce4c68d47bc916953ab15ffd73emv2-ZVzmq6.jpg
END:VEVENT
BEGIN:VEVENT
DTSTART;TZID=Europe/Paris:20260720T143000
DTEND;TZID=Europe/Paris:20260720T163000
DTSTAMP:20260422T162117
CREATED:20260105T154424Z
LAST-MODIFIED:20260228T222936Z
UID:10012711-1784557800-1784565000@crocoule.org
SUMMARY:Saint cyr les vignes | Visite animée "Petit marché du glacier"
DESCRIPTION:8€/enfant-7€/adulte inclut la boule de glace.\nGratuit – de 2 ans/Avec glace : 2\,20€\nLa durée indiquée n’inclut pas le temps de dégustation. » \n\n\n	Similaire
URL:https://crocoule.org/notre-evenement/saint-cyr-les-vignes-visite-animee-petit-marche-du-glacier-3/
LOCATION:Ferme Des Délices Foréziens\, 1230 Les Sermages\, Saint-Cyr-les-Vignes\, 42210
CATEGORIES:03 ans +,Activité pendant les vacances,En famille,Tous les événements
ATTACH;FMTTYPE=image/jpeg:https://crocoule.org/wp-content/uploads/2026/01/91b7bc_5a6246d36d924d5ba16bc65258f3cdebmv2-6mp8rM.jpg
END:VEVENT
BEGIN:VEVENT
DTSTART;TZID=Europe/Paris:20260720T143000
DTEND;TZID=Europe/Paris:20260720T163000
DTSTAMP:20260422T162117
CREATED:20260105T154426Z
LAST-MODIFIED:20260105T154426Z
UID:10012712-1784557800-1784565000@crocoule.org
SUMMARY:Saint cyr les vignes | Visite guidée de la Ferme des délices
DESCRIPTION:7\,50€/adulte-6\,50€/enfant inclut la boule de glace\nGratuit – de 3 ans/Avec glace : 2\,20€\nLa durée indiquée n’inclut pas le temps de dégustation. \n\n\n	Similaire
URL:https://crocoule.org/notre-evenement/saint-cyr-les-vignes-visite-guidee-de-la-ferme-des-delices-18/
LOCATION:Ferme Des Délices Foréziens\, 1230 Les Sermages\, Saint-Cyr-les-Vignes\, 42210
ATTACH;FMTTYPE=image/jpeg:https://crocoule.org/wp-content/uploads/2026/01/91b7bc_8b7bcce4c68d47bc916953ab15ffd73emv2-ZVzmq6.jpg
END:VEVENT
BEGIN:VEVENT
DTSTART;TZID=Europe/Paris:20260720T143000
DTEND;TZID=Europe/Paris:20260720T163000
DTSTAMP:20260422T162117
CREATED:20260228T222936Z
LAST-MODIFIED:20260228T222936Z
UID:10012961-1784557800-1784565000@crocoule.org
SUMMARY:Saint cyr les vignes | Visite guidée de la "Ferme aux glaces"
DESCRIPTION:7\,50€/adulte-6\,50€/enfant inclut la boule de glace\nGratuit – de 3 ans/Avec glace : 2\,20€\nLa durée indiquée n’inclut pas le temps de dégustation. \n\n\n	Similaire
URL:https://crocoule.org/notre-evenement/saint-cyr-les-vignes-visite-guidee-de-la-ferme-aux-glaces-13/
LOCATION:Ferme Des Délices Foréziens\, 1230 Les Sermages\, Saint-Cyr-les-Vignes\, 42210
CATEGORIES:07 ans +,Activité pendant les vacances,Adultes,En famille,Tous les événements
ATTACH;FMTTYPE=image/jpeg:https://crocoule.org/wp-content/uploads/2026/01/91b7bc_8b7bcce4c68d47bc916953ab15ffd73emv2-ZVzmq6.jpg
END:VEVENT
BEGIN:VEVENT
DTSTART;TZID=Europe/Paris:20260722T100000
DTEND;TZID=Europe/Paris:20260722T110000
DTSTAMP:20260422T162117
CREATED:20260105T154427Z
LAST-MODIFIED:20260228T222937Z
UID:10012713-1784714400-1784718000@crocoule.org
SUMMARY:Saint cyr les vignes | Visite animée "La ferme en 10 doigts"
DESCRIPTION:8€/enfant-7€/adulte inclut la boule de glace.\nLa durée indiquée n’inclut pas le temps de dégustation. \n\n\n	Similaire
URL:https://crocoule.org/notre-evenement/saint-cyr-les-vignes-visite-animee-la-ferme-en-10-doigts-5/
LOCATION:Ferme Des Délices Foréziens\, 1230 Les Sermages\, Saint-Cyr-les-Vignes\, 42210
CATEGORIES:02 ans +,Activité pendant les vacances,En famille,Tous les événements
ATTACH;FMTTYPE=image/jpeg:https://crocoule.org/wp-content/uploads/2026/01/91b7bc_cd3b85202776491cabebf5395007bca0mv2-LXW1GN.jpg
END:VEVENT
BEGIN:VEVENT
DTSTART;TZID=Europe/Paris:20260722T143000
DTEND;TZID=Europe/Paris:20260722T163000
DTSTAMP:20260422T162117
CREATED:20260105T154429Z
LAST-MODIFIED:20260105T154429Z
UID:10012714-1784730600-1784737800@crocoule.org
SUMMARY:Saint cyr les vignes | Visite guidée de la Ferme des délices
DESCRIPTION:7\,50€/adulte-6\,50€/enfant inclut la boule de glace\nGratuit – de 3 ans/Avec glace : 2\,20€\nLa durée indiquée n’inclut pas le temps de dégustation. \n\n\n	Similaire
URL:https://crocoule.org/notre-evenement/saint-cyr-les-vignes-visite-guidee-de-la-ferme-des-delices-19/
LOCATION:Ferme Des Délices Foréziens\, 1230 Les Sermages\, Saint-Cyr-les-Vignes\, 42210
ATTACH;FMTTYPE=image/jpeg:https://crocoule.org/wp-content/uploads/2026/01/91b7bc_8b7bcce4c68d47bc916953ab15ffd73emv2-ZVzmq6.jpg
END:VEVENT
BEGIN:VEVENT
DTSTART;TZID=Europe/Paris:20260722T143000
DTEND;TZID=Europe/Paris:20260722T163000
DTSTAMP:20260422T162117
CREATED:20260105T154434Z
LAST-MODIFIED:20260228T222938Z
UID:10012715-1784730600-1784737800@crocoule.org
SUMMARY:Saint cyr les vignes | Visite animée "Les petits sicientifiques à la découverte du lait"
DESCRIPTION:« 9\,50€/enfant-7\,50€/adulte.\nGratuit – de 2 ans/Avec glace : 2\,20€\ninclut la boule de glace.\nLa durée indiquée n’inclut pas le temps de dégustation. » » » \n\n\n	Similaire
URL:https://crocoule.org/notre-evenement/saint-cyr-les-vignes-visite-animee-les-petits-sicientifiques-a-la-decouverte-du-lait-2/
LOCATION:Ferme Des Délices Foréziens\, 1230 Les Sermages\, Saint-Cyr-les-Vignes\, 42210
CATEGORIES:07 ans +,Activité pendant les vacances,En famille,Tous les événements
ATTACH;FMTTYPE=image/jpeg:https://crocoule.org/wp-content/uploads/2026/01/91b7bc_785532b475b84c91ae4780847d4c4bf2mv2-xF9sQh.jpg
END:VEVENT
BEGIN:VEVENT
DTSTART;TZID=Europe/Paris:20260722T143000
DTEND;TZID=Europe/Paris:20260722T163000
DTSTAMP:20260422T162117
CREATED:20260228T222937Z
LAST-MODIFIED:20260228T222937Z
UID:10012962-1784730600-1784737800@crocoule.org
SUMMARY:Saint cyr les vignes | Visite guidée de la "Ferme aux glaces"
DESCRIPTION:7\,50€/adulte-6\,50€/enfant inclut la boule de glace\nGratuit – de 3 ans/Avec glace : 2\,20€\nLa durée indiquée n’inclut pas le temps de dégustation. \n\n\n	Similaire
URL:https://crocoule.org/notre-evenement/saint-cyr-les-vignes-visite-guidee-de-la-ferme-aux-glaces-14/
LOCATION:Ferme Des Délices Foréziens\, 1230 Les Sermages\, Saint-Cyr-les-Vignes\, 42210
CATEGORIES:07 ans +,Activité pendant les vacances,Adultes,Tous les événements
ATTACH;FMTTYPE=image/jpeg:https://crocoule.org/wp-content/uploads/2026/01/91b7bc_8b7bcce4c68d47bc916953ab15ffd73emv2-ZVzmq6.jpg
END:VEVENT
BEGIN:VEVENT
DTSTART;TZID=Europe/Paris:20260723T143000
DTEND;TZID=Europe/Paris:20260723T163000
DTSTAMP:20260422T162117
CREATED:20260105T154436Z
LAST-MODIFIED:20260228T222951Z
UID:10012716-1784817000-1784824200@crocoule.org
SUMMARY:Saint cyr les vignes | Visite animée "Top glacier"
DESCRIPTION:11\,50€/pers inclut la coupe glacée\nGratuit – de 2 ans/Avec glace : 5€ \n\n\n	Similaire
URL:https://crocoule.org/notre-evenement/saint-cyr-les-vignes-visite-animee-top-glacier-3/
LOCATION:Ferme Des Délices Foréziens\, 1230 Les Sermages\, Saint-Cyr-les-Vignes\, 42210
CATEGORIES:05 ans +,Activité pendant les vacances,En famille,Tous les événements
ATTACH;FMTTYPE=image/jpeg:https://crocoule.org/wp-content/uploads/2026/01/91b7bc_f51d42372bac4941a106ad64520ba5f2mv2-KyQ3Q5.jpg
END:VEVENT
BEGIN:VEVENT
DTSTART;TZID=Europe/Paris:20260724T143000
DTEND;TZID=Europe/Paris:20260724T163000
DTSTAMP:20260422T162117
CREATED:20260105T154437Z
LAST-MODIFIED:20260105T154437Z
UID:10012717-1784903400-1784910600@crocoule.org
SUMMARY:Saint cyr les vignes | Visite guidée de la Ferme des délices
DESCRIPTION:7\,50€/adulte-6\,50€/enfant inclut la boule de glace\nGratuit – de 3 ans/Avec glace : 2\,20€\nLa durée indiquée n’inclut pas le temps de dégustation. \n\n\n	Similaire
URL:https://crocoule.org/notre-evenement/saint-cyr-les-vignes-visite-guidee-de-la-ferme-des-delices-20/
LOCATION:Ferme Des Délices Foréziens\, 1230 Les Sermages\, Saint-Cyr-les-Vignes\, 42210
ATTACH;FMTTYPE=image/jpeg:https://crocoule.org/wp-content/uploads/2026/01/91b7bc_8b7bcce4c68d47bc916953ab15ffd73emv2-ZVzmq6.jpg
END:VEVENT
BEGIN:VEVENT
DTSTART;TZID=Europe/Paris:20260724T143000
DTEND;TZID=Europe/Paris:20260724T163000
DTSTAMP:20260422T162117
CREATED:20260228T222951Z
LAST-MODIFIED:20260228T222951Z
UID:10012963-1784903400-1784910600@crocoule.org
SUMMARY:Saint cyr les vignes | Visite guidée de la "Ferme aux glaces"
DESCRIPTION:7\,50€/adulte-6\,50€/enfant inclut la boule de glace\nGratuit – de 3 ans/Avec glace : 2\,20€\nLa durée indiquée n’inclut pas le temps de dégustation. \n\n\n	Similaire
URL:https://crocoule.org/notre-evenement/saint-cyr-les-vignes-visite-guidee-de-la-ferme-aux-glaces-15/
LOCATION:Ferme Des Délices Foréziens\, 1230 Les Sermages\, Saint-Cyr-les-Vignes\, 42210
CATEGORIES:07 ans +,Activité pendant les vacances,Adultes,En famille,Tous les événements
ATTACH;FMTTYPE=image/jpeg:https://crocoule.org/wp-content/uploads/2026/01/91b7bc_8b7bcce4c68d47bc916953ab15ffd73emv2-ZVzmq6.jpg
END:VEVENT
BEGIN:VEVENT
DTSTART;TZID=Europe/Paris:20260727T143000
DTEND;TZID=Europe/Paris:20260727T163000
DTSTAMP:20260422T162117
CREATED:20260105T154439Z
LAST-MODIFIED:20260228T222952Z
UID:10012718-1785162600-1785169800@crocoule.org
SUMMARY:Saint cyr les vignes | Visite animée "Petit marché du glacier"
DESCRIPTION:8€/enfant-7€/adulte inclut la boule de glace.\nGratuit – de 2 ans/Avec glace : 2\,20€\nLa durée indiquée n’inclut pas le temps de dégustation. » \n\n\n	Similaire
URL:https://crocoule.org/notre-evenement/saint-cyr-les-vignes-visite-animee-petit-marche-du-glacier-4/
LOCATION:Ferme Des Délices Foréziens\, 1230 Les Sermages\, Saint-Cyr-les-Vignes\, 42210
CATEGORIES:03 ans +,Activité pendant les vacances,En famille,Tous les événements
ATTACH;FMTTYPE=image/jpeg:https://crocoule.org/wp-content/uploads/2026/01/91b7bc_5a6246d36d924d5ba16bc65258f3cdebmv2-6mp8rM.jpg
END:VEVENT
BEGIN:VEVENT
DTSTART;TZID=Europe/Paris:20260727T143000
DTEND;TZID=Europe/Paris:20260727T163000
DTSTAMP:20260422T162117
CREATED:20260105T154440Z
LAST-MODIFIED:20260105T154440Z
UID:10012719-1785162600-1785169800@crocoule.org
SUMMARY:Saint cyr les vignes | Visite guidée de la Ferme des délices
DESCRIPTION:7\,50€/adulte-6\,50€/enfant inclut la boule de glace\nGratuit – de 3 ans/Avec glace : 2\,20€\nLa durée indiquée n’inclut pas le temps de dégustation. \n\n\n	Similaire
URL:https://crocoule.org/notre-evenement/saint-cyr-les-vignes-visite-guidee-de-la-ferme-des-delices-21/
LOCATION:Ferme Des Délices Foréziens\, 1230 Les Sermages\, Saint-Cyr-les-Vignes\, 42210
ATTACH;FMTTYPE=image/jpeg:https://crocoule.org/wp-content/uploads/2026/01/91b7bc_8b7bcce4c68d47bc916953ab15ffd73emv2-ZVzmq6.jpg
END:VEVENT
BEGIN:VEVENT
DTSTART;TZID=Europe/Paris:20260727T143000
DTEND;TZID=Europe/Paris:20260727T163000
DTSTAMP:20260422T162117
CREATED:20260228T222952Z
LAST-MODIFIED:20260228T222952Z
UID:10012964-1785162600-1785169800@crocoule.org
SUMMARY:Saint cyr les vignes | Visite guidée de la "Ferme aux glaces"
DESCRIPTION:7\,50€/adulte-6\,50€/enfant inclut la boule de glace\nGratuit – de 3 ans/Avec glace : 2\,20€\nLa durée indiquée n’inclut pas le temps de dégustation. \n\n\n	Similaire
URL:https://crocoule.org/notre-evenement/saint-cyr-les-vignes-visite-guidee-de-la-ferme-aux-glaces-16/
LOCATION:Ferme Des Délices Foréziens\, 1230 Les Sermages\, Saint-Cyr-les-Vignes\, 42210
CATEGORIES:07 ans +,Activité pendant les vacances,Adultes,En famille,Tous les événements
ATTACH;FMTTYPE=image/jpeg:https://crocoule.org/wp-content/uploads/2026/01/91b7bc_8b7bcce4c68d47bc916953ab15ffd73emv2-ZVzmq6.jpg
END:VEVENT
BEGIN:VEVENT
DTSTART;TZID=Europe/Paris:20260729T100000
DTEND;TZID=Europe/Paris:20260729T113000
DTSTAMP:20260422T162117
CREATED:20260105T154448Z
LAST-MODIFIED:20260228T222953Z
UID:10012720-1785319200-1785324600@crocoule.org
SUMMARY:Saint cyr les vignes | Visite animée "Ferme en histoire"
DESCRIPTION:Une visite riche en découvertes\, à partager en famille pour le plaisirs des petits et des grands\,\net\, qui se terminera autour d’une délicieuse glace fabriquée à la ferme.\n8€/enfant-7€/adulte. Gratuit – de 2 ans/Avec glace : 2\,20€\ninclut la boule de glace. La durée indiquée n’inclut pas le temps de dégustation. \n\n\n	Similaire
URL:https://crocoule.org/notre-evenement/saint-cyr-les-vignes-visite-animee-ferme-en-histoire-4/
LOCATION:Ferme Des Délices Foréziens\, 1230 Les Sermages\, Saint-Cyr-les-Vignes\, 42210
CATEGORIES:03 ans +,Activité pendant les vacances,En famille,Tous les événements
ATTACH;FMTTYPE=image/jpeg:https://crocoule.org/wp-content/uploads/2026/01/91b7bc_b93d624e053249ec9027f228acb3e5dbmv2-qnfy0X.jpg
END:VEVENT
BEGIN:VEVENT
DTSTART;TZID=Europe/Paris:20260729T143000
DTEND;TZID=Europe/Paris:20260729T163000
DTSTAMP:20260422T162117
CREATED:20260105T154449Z
LAST-MODIFIED:20260105T154457Z
UID:10012721-1785335400-1785342600@crocoule.org
SUMMARY:Saint cyr les vignes | Visite guidée de la Ferme des délices
DESCRIPTION:7\,50€/adulte-6\,50€/enfant inclut la boule de glace\nGratuit – de 3 ans/Avec glace : 2\,20€\nLa durée indiquée n’inclut pas le temps de dégustation. \n\n\n	Similaire
URL:https://crocoule.org/notre-evenement/saint-cyr-les-vignes-visite-guidee-de-la-ferme-des-delices-22/
LOCATION:Ferme Des Délices Foréziens\, 1230 Les Sermages\, Saint-Cyr-les-Vignes\, 42210
CATEGORIES:07 ans +,Activité pendant les vacances,Adultes,En famille,Tous les événements
ATTACH;FMTTYPE=image/jpeg:https://crocoule.org/wp-content/uploads/2026/01/91b7bc_8b7bcce4c68d47bc916953ab15ffd73emv2-ZVzmq6.jpg
END:VEVENT
BEGIN:VEVENT
DTSTART;TZID=Europe/Paris:20260729T143000
DTEND;TZID=Europe/Paris:20260729T163000
DTSTAMP:20260422T162117
CREATED:20260105T154451Z
LAST-MODIFIED:20260228T223007Z
UID:10012722-1785335400-1785342600@crocoule.org
SUMMARY:Saint cyr les vignes | Visite animée "Rendez vous au champs"
DESCRIPTION:« 8€/enfant-7€/adulte inclut la boule de glace.\nGratuit – de 2 ans/Avec glace : 2\,20€\nLa durée indiquée n’inclut pas le temps de dégustation. \n\n\n	Similaire
URL:https://crocoule.org/notre-evenement/saint-cyr-les-vignes-visite-animee-rendez-vous-au-champs/
LOCATION:Ferme Des Délices Foréziens\, 1230 Les Sermages\, Saint-Cyr-les-Vignes\, 42210
CATEGORIES:05 ans +,Activité pendant les vacances,En famille,Tous les événements
ATTACH;FMTTYPE=image/jpeg:https://crocoule.org/wp-content/uploads/2026/01/91b7bc_89652f98fd1b4beab5680f747529bb0emv2-5uqiXx.jpg
END:VEVENT
BEGIN:VEVENT
DTSTART;TZID=Europe/Paris:20260729T143000
DTEND;TZID=Europe/Paris:20260729T163000
DTSTAMP:20260422T162117
CREATED:20260228T223006Z
LAST-MODIFIED:20260228T223006Z
UID:10012965-1785335400-1785342600@crocoule.org
SUMMARY:Saint cyr les vignes | Visite guidée de la "Ferme aux glaces"
DESCRIPTION:7\,50€/adulte-6\,50€/enfant inclut la boule de glace\nGratuit – de 3 ans/Avec glace : 2\,20€\nLa durée indiquée n’inclut pas le temps de dégustation. \n\n\n	Similaire
URL:https://crocoule.org/notre-evenement/saint-cyr-les-vignes-visite-guidee-de-la-ferme-aux-glaces-17/
LOCATION:Ferme Des Délices Foréziens\, 1230 Les Sermages\, Saint-Cyr-les-Vignes\, 42210
CATEGORIES:07 ans +,Activité pendant les vacances,Adultes,En famille,Tous les événements
ATTACH;FMTTYPE=image/jpeg:https://crocoule.org/wp-content/uploads/2026/01/91b7bc_8b7bcce4c68d47bc916953ab15ffd73emv2-ZVzmq6.jpg
END:VEVENT
END:VCALENDAR