BEGIN:VCALENDAR
VERSION:2.0
PRODID:-//Crocoule - ECPv6.15.15//NONSGML v1.0//EN
CALSCALE:GREGORIAN
METHOD:PUBLISH
X-WR-CALNAME:Crocoule
X-ORIGINAL-URL:https://crocoule.org
X-WR-CALDESC:Évènements pour Crocoule
REFRESH-INTERVAL;VALUE=DURATION:PT1H
X-Robots-Tag:noindex
X-PUBLISHED-TTL:PT1H
BEGIN:VTIMEZONE
TZID:Europe/Paris
BEGIN:DAYLIGHT
TZOFFSETFROM:+0100
TZOFFSETTO:+0200
TZNAME:CEST
DTSTART:20210328T010000
END:DAYLIGHT
BEGIN:STANDARD
TZOFFSETFROM:+0200
TZOFFSETTO:+0100
TZNAME:CET
DTSTART:20211031T010000
END:STANDARD
BEGIN:DAYLIGHT
TZOFFSETFROM:+0100
TZOFFSETTO:+0200
TZNAME:CEST
DTSTART:20220327T010000
END:DAYLIGHT
BEGIN:STANDARD
TZOFFSETFROM:+0200
TZOFFSETTO:+0100
TZNAME:CET
DTSTART:20221030T010000
END:STANDARD
BEGIN:DAYLIGHT
TZOFFSETFROM:+0100
TZOFFSETTO:+0200
TZNAME:CEST
DTSTART:20230326T010000
END:DAYLIGHT
BEGIN:STANDARD
TZOFFSETFROM:+0200
TZOFFSETTO:+0100
TZNAME:CET
DTSTART:20231029T010000
END:STANDARD
BEGIN:DAYLIGHT
TZOFFSETFROM:+0100
TZOFFSETTO:+0200
TZNAME:CEST
DTSTART:20240331T010000
END:DAYLIGHT
BEGIN:STANDARD
TZOFFSETFROM:+0200
TZOFFSETTO:+0100
TZNAME:CET
DTSTART:20241027T010000
END:STANDARD
BEGIN:DAYLIGHT
TZOFFSETFROM:+0100
TZOFFSETTO:+0200
TZNAME:CEST
DTSTART:20250330T010000
END:DAYLIGHT
BEGIN:STANDARD
TZOFFSETFROM:+0200
TZOFFSETTO:+0100
TZNAME:CET
DTSTART:20251026T010000
END:STANDARD
END:VTIMEZONE
BEGIN:VEVENT
DTSTART;TZID=Europe/Paris:20241109T150000
DTEND;TZID=Europe/Paris:20241109T163000
DTSTAMP:20260422T214645
CREATED:20241106T091407Z
LAST-MODIFIED:20241106T091407Z
UID:10009287-1731164400-1731169800@crocoule.org
SUMMARY:Atelier 1001 nids
DESCRIPTION:Atelier 1001 nids\nEn tribu – Mais où va se cacher le martinet la nuit ? Et la termite ? Et la guêpe ? Découvrons ensemble les abris qu’utilisent tout un tas d’animaux. Après avoir observé les caractéristiques de leurs habitats\, fabriquez en tribu le petit nid idéal de l’animal de votre choix ! \nDès 3 ans – 4 euros (enfant) 6 euros (adulte)\n  \n\n\n	Similaire
URL:https://crocoule.org/notre-evenement/atelier-1001-nids-explora-saint-etienne/
LOCATION:Explora – Saint Étienne\, 8 Rue Calixte Plotton\, Saint Étienne\, 42000\, France
CATEGORIES:03 ans +,Intérieur,Tous les événements
END:VEVENT
BEGIN:VEVENT
DTSTART;TZID=Europe/Paris:20240222T090000
DTEND;TZID=Europe/Paris:20240222T120000
DTSTAMP:20260422T214645
CREATED:20240121T211548Z
LAST-MODIFIED:20240129T101609Z
UID:10002947-1708592400-1708603200@crocoule.org
SUMMARY:Atelier cabane en osier !
DESCRIPTION:Atelier cabane en osier\nDès 6 ans\, Atelier de 3h Tarif : 6 euros (4 euros en tarif réduit) \nLe temps d’une matinée\, venez construire une cabane en osier vivant. Accompagné·es d’un vannier professionnel\, découvrez ce savoir-faire et suivez les gestes de cet artisanat millénaire pour laisser une trace de votre passage dans le parc d’Explora. \n*L’atelier est susceptible d’être reporté si les conditions météo ne permettent pas de l’assurer. \n  \n\n\nDécouvrir Explora\n\n\n\n\nFabrique de curiosités\n\n\n\n\nÀ ExploraLab venez vivre un atelier pour faire des sciences en bidouillant ! Que vous soyez petit·es ou grand·es\, intéressé·es par la musique\, la programmation ou les défis technologiques\, il y a forcément de quoi aiguiser votre curiosité ! Jetez un œil à notre programmation\, inscrivez-vous\, il n’y a plus qu’à profiter d’un moment joyeux et captivant avec un médiateur et/ou une médiatrice. \nÀ ExploraParc\, venez vous amuser avec les jeux et les installations en accès libre. Vous pourrez plonger hors du temps dans le Jardin du Carbonifère\, exercer votre oreille au cœur de la Zone Sonore et créer un spectacle son et lumière avec les balançoires du Pique-nique Électrique. Le parc est gratuit et regorge de découvertes. \n\n\nQui sommes-nous ?\n\n\n\n\nUn lieu de sciences\n\n\n\n\nExplora est un établissement de culture scientifique de la Ville de Saint-Étienne\, géré par La Rotonde\, Centre de Culture Scientifique\, Technique et Industrielle de Mines Saint-Étienne. \nDepuis plus de 20 ans\, La Rotonde vous embarque pour vivre des aventures avec les sciences. Elle dispose à présent de deux lieux : La Soucoupe et Explora\, et vous propose également de multiples actions hors les murs et en digital. \n\n\n\n\n\n\n\n\n\n\nLe projet Explora\n\n\n\n\n\n\n\n\n\n\n\n\n\n\nUne philosophie « Makers Science »\n\nBasé sur la notion de « Faire » et inspiré de la philosophie des « Makers »\, Explora se positionne comme un lieu au carrefour de la science\, la technologie\, l’ingénierie\, l’art et le design. \n« Makers Science » est une culture qui se développe à partir du DIY (Do it yourself – fais le toi-même)\, tournée vers les sciences et les projets d’ingénieries. C’est un apprentissage par la pratique dans un cadre social au coeur duquel prévalent la collaboration\, l’amusement et le sentiment d’accomplissement personnel. \n\n\n\n\n\n\n\n\n\n\n\n\n\n\n\n	Similaire
URL:https://crocoule.org/notre-evenement/atelier-cabane-en-osier/
LOCATION:Explora – Saint Étienne\, 8 Rue Calixte Plotton\, Saint Étienne\, 42000\, France
CATEGORIES:06 ans +,Activité pendant les vacances,En famille,Exterieur
END:VEVENT
BEGIN:VEVENT
DTSTART;TZID=Europe/Paris:20230311T100000
DTEND;TZID=Europe/Paris:20230311T120000
DTSTAMP:20260422T214645
CREATED:20230227T141125Z
LAST-MODIFIED:20230227T141125Z
UID:10001047-1678528800-1678536000@crocoule.org
SUMMARY:DINOSAURES
DESCRIPTION:Dinosaures\nExplora propose un atelier  » Dinosaures » pour les enfants de 7 à 12 ans. \n\n\n\n\nJanvier à Mars 2023 \n\n\n\n7-12 ans\n\n\n\n\n\n\n\n\n\n\nÊtes-vous prêt·e·s à faire un voyage dans le temps à l’époque des dinosaures ? Dans cet atelier\, les enfants se mettent dans la peau de paléontologues pour découvrir quels dinosaures ont été retrouvés en France. Après la découverte\, place à l’invention ! Les enfants imaginent et fabriquent leur propre dinosaure articulé. De l’idée à la réalisation\, ils utilisent une découpeuse laser pour concevoir les différentes parties du dinosaure. Un atelier riche en surprises qui propulse au temps du Jurassique !\n\n\nATELIER « Enfants seuls » : L’atelier se passe avec l’animatrice ou l’animateur – sans accompagnant. \nTARIF REDUIT : enfants moins de 16 ans\, étudiants\, demandeurs d’emploi\, personnes en situation de handicap \nDUREE ATELIER : 2H. \nJAUGE : 12 enfants et l’animateur-trice. \n\n\n\nBILLETERIE \n\nEXPLORA – SAINT ÉTIENNE – LOIRE \nTout d’abord\, explora Saint-Etienne est un espace de découverte et d’éducation pour les enfants et les adultes. En effet\, il est situé à Saint-Etienne\, en France\, et propose des expositions interactives sur des sujets tels que la science\, la technologie\, l’art et la culture. Cependant\, les visiteurs peuvent explorer les différents sujets à travers des expériences amusantes et des activités pratiques\, conçues pour renforcer la compréhension et la curiosité. Enfin\, Explora Saint-Etienne vise à promouvoir l’apprentissage de manière ludique et à encourager la découverte de la science et de la technologie. \n\n\n	Similaire
URL:https://crocoule.org/notre-evenement/dinosaures-6/
LOCATION:Explora – Saint Étienne\, 8 Rue Calixte Plotton\, Saint Étienne\, 42000\, France
CATEGORIES:Activité du week-end
END:VEVENT
BEGIN:VEVENT
DTSTART;VALUE=DATE:20220924
DTEND;VALUE=DATE:20221218
DTSTAMP:20260422T214645
CREATED:20221021T163950Z
LAST-MODIFIED:20221026T074716Z
UID:10000370-1663977600-1671321599@crocoule.org
SUMMARY:ASTRONAUTES
DESCRIPTION:Mais à quoi ressemble vraiment la vie des astronautes ? \nCette exposition-ateliers\, conçue par la Cité de l’espace et proposée par La Rotonde\, invite le public à découvrir la vie extra-ordinaire des astronautes ! \nDurant 1h30\, les visiteurs s’amusent à découvrir le quotidien des astronautes\, la station spatiale ainsi que l’espace ; entre animations\, ateliers participatifs\, expériences sensorielles\, manipulations et exploration en autonomie. \nVacances scolaires :\n> du mardi au vendredi :\nséances à 10h\, 14h et 16h \nles samedis : séances à 14h et 16h \nTARIFS\nPlein : 6 €\nRéduit : 4 € \n\n\n	Similaire
URL:https://crocoule.org/notre-evenement/astronautes-_/
CATEGORIES:07 ans +,Activité pendant les vacances
ATTACH;FMTTYPE=image/jpeg:https://crocoule.org/wp-content/uploads/2022/10/Crocoule4717.jpg
END:VEVENT
END:VCALENDAR