BEGIN:VCALENDAR
VERSION:2.0
PRODID:-//Crocoule - ECPv6.15.15//NONSGML v1.0//EN
CALSCALE:GREGORIAN
METHOD:PUBLISH
X-ORIGINAL-URL:https://crocoule.org
X-WR-CALDESC:Évènements pour Crocoule
REFRESH-INTERVAL;VALUE=DURATION:PT1H
X-Robots-Tag:noindex
X-PUBLISHED-TTL:PT1H
BEGIN:VTIMEZONE
TZID:Europe/Paris
BEGIN:DAYLIGHT
TZOFFSETFROM:+0100
TZOFFSETTO:+0200
TZNAME:CEST
DTSTART:20250330T010000
END:DAYLIGHT
BEGIN:STANDARD
TZOFFSETFROM:+0200
TZOFFSETTO:+0100
TZNAME:CET
DTSTART:20251026T010000
END:STANDARD
BEGIN:DAYLIGHT
TZOFFSETFROM:+0100
TZOFFSETTO:+0200
TZNAME:CEST
DTSTART:20260329T010000
END:DAYLIGHT
BEGIN:STANDARD
TZOFFSETFROM:+0200
TZOFFSETTO:+0100
TZNAME:CET
DTSTART:20261025T010000
END:STANDARD
BEGIN:DAYLIGHT
TZOFFSETFROM:+0100
TZOFFSETTO:+0200
TZNAME:CEST
DTSTART:20270328T010000
END:DAYLIGHT
BEGIN:STANDARD
TZOFFSETFROM:+0200
TZOFFSETTO:+0100
TZNAME:CET
DTSTART:20271031T010000
END:STANDARD
END:VTIMEZONE
BEGIN:VEVENT
DTSTART;TZID=Europe/Paris:20260301T140000
DTEND;TZID=Europe/Paris:20261101T180000
DTSTAMP:20260422T122513
CREATED:20260228T170357Z
LAST-MODIFIED:20260228T170357Z
UID:10012845-1772373600-1793556000@crocoule.org
SUMMARY:ST CLEMENT | Expo
DESCRIPTION:Découvrez l’exposition de l’École du Vent\nUn voyage artistique et scientifique autour des vents du monde\nÀ l’École du Vent\, partez à la rencontre des vents\, d’ici et d’ailleurs\, et laissez-vous porter par les rêves d’envol..\nUne expérience immersive et ludique\n•        Art et émotion : dès l’extérieur\, une œuvre d’art éveille votre curiosité. À l’intérieur\, découvrez des installations poétiques\, comme une œuvre cinétique qui donne l’impression que la maison s’envole.\n•        Science discrète : apprenez sans en avoir l’air grâce à des expériences interactives et des manipulations surprenantes.\n•        Un parcours engageant : soyez acteur de votre visite\, laissez-vous émerveiller\, et prenez même le temps de méditer.\nD’une plateforme suspendue à un jardin du vent\, en passant par un simulateur de vol moderne ou des cabanes mystérieuses\, chaque espace est conçu pour vous surprendre. Huit salles thématiques vous attendent\, avec des activités uniques :  simulateur de vol \, salle des nids\, lanceur d’avions en papier\, bols d’air pur ….\nPour tous les publics La visite dure environ 1h30 et s’adresse à tous\, des familles aux groupes scolaires (de la maternelle au lycée). Les enseignants peuvent composer leur journée autour de la visite\, d’ateliers pédagogiques ou de sorties nature. 6€adulte\n 4€enfant\n Forfait famille 2adt + 2 enfts 18 €+ 2 €par enfant supll. \n\n\n	Similaire
URL:https://crocoule.org/notre-evenement/st-clement-expo/
LOCATION:École du vent\, Le Village\, Saint-Clément\, 07310
CATEGORIES:Tous les événements,Tout public
END:VEVENT
BEGIN:VEVENT
DTSTART;TZID=Europe/Paris:20260422T143000
DTEND;TZID=Europe/Paris:20260422T160000
DTSTAMP:20260422T122513
CREATED:20260228T170357Z
LAST-MODIFIED:20260228T170357Z
UID:10012842-1776868200-1776873600@crocoule.org
SUMMARY:ST CLEMENT | Chasse aux trésors : à la recherche du Carnyx
DESCRIPTION:Catastrophe à l’École du Vent ! Le Carnyx\, l’instrument qui annonce le début des cours de vol\, est coincé dans son coffre… et le professeur Balbusard a égaré le code secret ! \nEn famille\, partez à l’aventure dans les espaces de l’École du Vent. Observation\, réflexion et esprit d’équipe seront indispensables pour résoudre les énigmes disséminées sur le parcours. \nSaurez-vous retrouver la combinaison perdue et permettre aux apprentis volateurs de prendre leur envol ? \nUne chasse aux trésors ludique et immersive à vivre ensemble. \nÀ savoir :\nÀ partir de 6 ans\nDurée 1h30\nCette animation ne nécessite pas la présence d’un adulte accompagnateur vous vous êtes les bienvenus ! Il vous faudra dans ce cas également réserver votre place. \n\n\n	Similaire
URL:https://crocoule.org/notre-evenement/st-clement-chasse-aux-tresors-a-la-recherche-du-carnyx/
LOCATION:École du vent\, Le Village\, Saint-Clément\, 07310
CATEGORIES:06 ans +,Tous les événements
END:VEVENT
BEGIN:VEVENT
DTSTART;TZID=Europe/Paris:20260429T143000
DTEND;TZID=Europe/Paris:20260429T163000
DTSTAMP:20260422T122513
CREATED:20260228T170357Z
LAST-MODIFIED:20260228T170357Z
UID:10012843-1777473000-1777480200@crocoule.org
SUMMARY:ST CLEMENT | Chauves-souris\, reines de la nuit
DESCRIPTION:Mystérieuses et souvent méconnues\, les chauves-souris sont pourtant bien présentes autour de nous. Mais où se nourrissent-elles ? Où trouvent-elles refuge ? Comment survivent-elles en hiver ? \nÀ travers une chasse au trésor interactive\, explorez les différents habitats qu’elles utilisent au fil des saisons. Observation\, indices et découvertes vous permettront de mieux comprendre ces étonnants mammifères volants. \nUne animation ludique pour lever les idées reçues et porter un nouveau regard sur ces reines de la nuit. \nÀ savoir :\nÀ partir de 6 ans\nDurée 2h\nCette animation nécessite la présence d’un adulte accompagnateur (la place adulte est payante). \n\n\n	Similaire
URL:https://crocoule.org/notre-evenement/st-clement-chauves-souris-reines-de-la-nuit/
LOCATION:École du vent\, Le Village\, Saint-Clément\, 07310
CATEGORIES:06 ans +,Tous les événements
END:VEVENT
BEGIN:VEVENT
DTSTART;TZID=Europe/Paris:20260523T180000
DTEND;TZID=Europe/Paris:20260523T230000
DTSTAMP:20260422T122513
CREATED:20260228T170357Z
LAST-MODIFIED:20260228T170357Z
UID:10012844-1779559200-1779577200@crocoule.org
SUMMARY:ST CLEMENT | Nuit des Musées à l’École du Vent
DESCRIPTION:Pour la première fois\, l’École du Vent participe à la Nuit des Musées ! \nÀ cette occasion\, le site ouvre exceptionnellement ses portes de 18h à 23h\, en entrée libre et gratuite. \nAu programme : spectacle\, visite insolite et découvertes dans une ambiance nocturne unique. Une manière originale de (re)découvrir l’École du Vent à la tombée de la nuit. \nProgramme détaillé à venir… restez connectés ! \n\n\n	Similaire
URL:https://crocoule.org/notre-evenement/st-clement-nuit-des-musees-a-lecole-du-vent/
LOCATION:École du vent\, Le Village\, Saint-Clément\, 07310
CATEGORIES:Tous les événements,Tout public
END:VEVENT
END:VCALENDAR