BEGIN:VCALENDAR
VERSION:2.0
PRODID:-//Crocoule - ECPv6.15.15//NONSGML v1.0//EN
CALSCALE:GREGORIAN
METHOD:PUBLISH
X-WR-CALNAME:Crocoule
X-ORIGINAL-URL:https://crocoule.org
X-WR-CALDESC:Évènements pour Crocoule
REFRESH-INTERVAL;VALUE=DURATION:PT1H
X-Robots-Tag:noindex
X-PUBLISHED-TTL:PT1H
BEGIN:VTIMEZONE
TZID:Europe/Paris
BEGIN:DAYLIGHT
TZOFFSETFROM:+0100
TZOFFSETTO:+0200
TZNAME:CEST
DTSTART:20190331T010000
END:DAYLIGHT
BEGIN:STANDARD
TZOFFSETFROM:+0200
TZOFFSETTO:+0100
TZNAME:CET
DTSTART:20191027T010000
END:STANDARD
BEGIN:DAYLIGHT
TZOFFSETFROM:+0100
TZOFFSETTO:+0200
TZNAME:CEST
DTSTART:20200329T010000
END:DAYLIGHT
BEGIN:STANDARD
TZOFFSETFROM:+0200
TZOFFSETTO:+0100
TZNAME:CET
DTSTART:20201025T010000
END:STANDARD
BEGIN:DAYLIGHT
TZOFFSETFROM:+0100
TZOFFSETTO:+0200
TZNAME:CEST
DTSTART:20210328T010000
END:DAYLIGHT
BEGIN:STANDARD
TZOFFSETFROM:+0200
TZOFFSETTO:+0100
TZNAME:CET
DTSTART:20211031T010000
END:STANDARD
END:VTIMEZONE
BEGIN:VEVENT
DTSTART;TZID=Europe/Paris:20201221T143000
DTEND;TZID=Europe/Paris:20201221T170000
DTSTAMP:20260421T073348
CREATED:20201127T154854Z
LAST-MODIFIED:20240416T161346Z
UID:10000032-1608561000-1608570000@crocoule.org
SUMMARY:Ateliers céramique enfants
DESCRIPTION:initiation\n  au travail de la terre par les techniques de plaques\, colombins\, modelage.\n  Differents thème proposés. Le but de l’atelier: découverte\, création\, moment\n  de détente. Matériel et cuisson compris. max 3 enfants par atelier.\n\n\n\n\n\n\n\n\n\n\n\n\n	Similaire
URL:https://crocoule.org/notre-evenement/ateliers-ceramique-enfants-2/
LOCATION:Rue de Saint Etienne 42330 Saint Galmier\, Rue de Saint Etienne\, Saint Galmier\, France
CATEGORIES:Tous les événements
ORGANIZER;CN="Eclats de dentelle":MAILTO:eclatsdedentelles@gmail.com
END:VEVENT
END:VCALENDAR