BEGIN:VCALENDAR
VERSION:2.0
PRODID:-//Crocoule - ECPv6.15.15//NONSGML v1.0//EN
CALSCALE:GREGORIAN
METHOD:PUBLISH
X-ORIGINAL-URL:https://crocoule.org
X-WR-CALDESC:Évènements pour Crocoule
REFRESH-INTERVAL;VALUE=DURATION:PT1H
X-Robots-Tag:noindex
X-PUBLISHED-TTL:PT1H
BEGIN:VTIMEZONE
TZID:Europe/Paris
BEGIN:DAYLIGHT
TZOFFSETFROM:+0100
TZOFFSETTO:+0200
TZNAME:CEST
DTSTART:20230326T010000
END:DAYLIGHT
BEGIN:STANDARD
TZOFFSETFROM:+0200
TZOFFSETTO:+0100
TZNAME:CET
DTSTART:20231029T010000
END:STANDARD
BEGIN:DAYLIGHT
TZOFFSETFROM:+0100
TZOFFSETTO:+0200
TZNAME:CEST
DTSTART:20240331T010000
END:DAYLIGHT
BEGIN:STANDARD
TZOFFSETFROM:+0200
TZOFFSETTO:+0100
TZNAME:CET
DTSTART:20241027T010000
END:STANDARD
BEGIN:DAYLIGHT
TZOFFSETFROM:+0100
TZOFFSETTO:+0200
TZNAME:CEST
DTSTART:20250330T010000
END:DAYLIGHT
BEGIN:STANDARD
TZOFFSETFROM:+0200
TZOFFSETTO:+0100
TZNAME:CET
DTSTART:20251026T010000
END:STANDARD
BEGIN:DAYLIGHT
TZOFFSETFROM:+0100
TZOFFSETTO:+0200
TZNAME:CEST
DTSTART:20260329T010000
END:DAYLIGHT
BEGIN:STANDARD
TZOFFSETFROM:+0200
TZOFFSETTO:+0100
TZNAME:CET
DTSTART:20261025T010000
END:STANDARD
BEGIN:DAYLIGHT
TZOFFSETFROM:+0100
TZOFFSETTO:+0200
TZNAME:CEST
DTSTART:20270328T010000
END:DAYLIGHT
BEGIN:STANDARD
TZOFFSETFROM:+0200
TZOFFSETTO:+0100
TZNAME:CET
DTSTART:20271031T010000
END:STANDARD
END:VTIMEZONE
BEGIN:VEVENT
DTSTART;TZID=Europe/Paris:20260408T100000
DTEND;TZID=Europe/Paris:20260408T100000
DTSTAMP:20260420T044344
CREATED:20260228T172828Z
LAST-MODIFIED:20260228T172828Z
UID:10012904-1775642400-1775642400@crocoule.org
SUMMARY:Sainte-Croix-en-Jarez | De l'eau pour mon moulin
DESCRIPTION:Tournez\, tournez petits moulins ! Pour savoir comment l’eau était utilisée comme force motrice pour moudre les graines et les transformer en huile ou en farine\, rendez-vous au bord de la rivière. Lors de cet atelier\, découvrez tous les secrets des moulins puis fabriquez une roue à aubes miniature à essayer dans le courant. \n\n\n	Similaire
URL:https://crocoule.org/notre-evenement/sainte-croix-en-jarez-de-leau-pour-mon-moulin/
LOCATION:Chartreuse de Sainte Croix en Jarez\, Sainte Croix en Jarez\, 42800\, France
CATEGORIES:06 ans +,Tous les événements
END:VEVENT
BEGIN:VEVENT
DTSTART;TZID=Europe/Paris:20260211T100000
DTEND;TZID=Europe/Paris:20260211T120000
DTSTAMP:20260420T044344
CREATED:20251113T152410Z
LAST-MODIFIED:20251113T152410Z
UID:10012229-1770804000-1770811200@crocoule.org
SUMMARY:Sainte-Croix-en-Jarez | Encres végétales\, la nature en couleur
DESCRIPTION:Et si notre jardin produisait des couleurs ? Les enfants expérimentent en petits chimistes la fabrication d’encres végétales. Ils réalisent ensuite des cartes décoratives à envoyer à leurs familles et amis. \n\n\n	Similaire
URL:https://crocoule.org/notre-evenement/sainte-croix-en-jarez-encres-vegetales-la-nature-en-couleur-2/
LOCATION:Chartreuse de Sainte Croix en Jarez\, Sainte Croix en Jarez\, 42800\, France
END:VEVENT
BEGIN:VEVENT
DTSTART;TZID=Europe/Paris:20260211T100000
DTEND;TZID=Europe/Paris:20260211T120000
DTSTAMP:20260420T044344
CREATED:20251113T152405Z
LAST-MODIFIED:20251113T152405Z
UID:10012224-1770804000-1770811200@crocoule.org
SUMMARY:Sainte-Croix-en-Jarez | Encres végétales\, la nature en couleur
DESCRIPTION:Et si notre jardin produisait des couleurs ? Les enfants expérimentent en petits chimistes la fabrication d’encres végétales. Ils réalisent ensuite des cartes décoratives à envoyer à leurs familles et amis. \n\n\n	Similaire
URL:https://crocoule.org/notre-evenement/sainte-croix-en-jarez-encres-vegetales-la-nature-en-couleur/
LOCATION:Chartreuse de Sainte Croix en Jarez\, Sainte Croix en Jarez\, 42800\, France
CATEGORIES:06 ans +,Tous les événements
END:VEVENT
BEGIN:VEVENT
DTSTART;TZID=Europe/Paris:20251207T100000
DTEND;TZID=Europe/Paris:20251207T120000
DTSTAMP:20260420T044344
CREATED:20251113T152410Z
LAST-MODIFIED:20251113T152410Z
UID:10012228-1765101600-1765108800@crocoule.org
SUMMARY:Sainte-Croix-en-Jarez | Décore ton sapin
DESCRIPTION:A l’occasion du marché de Noël\, organisé par le Sou des écoles Sainte-Croix / Pavezin\, nous vous proposons un atelier créatif et familial. Les enfants mettront la main à la pâte pour créer des décorations de Noël uniques en argile autodurcissante. Les adultes accompagnateurs sont les bienvenus ! Un moment de créativité et d’échanges en famille pour préparer ses propres décorations de noël. \n\n\n	Similaire
URL:https://crocoule.org/notre-evenement/sainte-croix-en-jarez-decore-ton-sapin-2/
LOCATION:Chartreuse de Sainte Croix en Jarez\, Sainte Croix en Jarez\, 42800\, France
END:VEVENT
BEGIN:VEVENT
DTSTART;TZID=Europe/Paris:20251207T100000
DTEND;TZID=Europe/Paris:20251207T120000
DTSTAMP:20260420T044344
CREATED:20251113T152404Z
LAST-MODIFIED:20251113T152404Z
UID:10012223-1765101600-1765108800@crocoule.org
SUMMARY:Sainte-Croix-en-Jarez | Décore ton sapin
DESCRIPTION:A l’occasion du marché de Noël\, organisé par le Sou des écoles Sainte-Croix / Pavezin\, nous vous proposons un atelier créatif et familial. Les enfants mettront la main à la pâte pour créer des décorations de Noël uniques en argile autodurcissante. Les adultes accompagnateurs sont les bienvenus ! Un moment de créativité et d’échanges en famille pour préparer ses propres décorations de noël. \n\n\n	Similaire
URL:https://crocoule.org/notre-evenement/sainte-croix-en-jarez-decore-ton-sapin/
LOCATION:Chartreuse de Sainte Croix en Jarez\, Sainte Croix en Jarez\, 42800\, France
CATEGORIES:06 ans +,Tous les événements
END:VEVENT
BEGIN:VEVENT
DTSTART;TZID=Europe/Paris:20250226T100000
DTEND;TZID=Europe/Paris:20250226T120000
DTSTAMP:20260420T044344
CREATED:20250217T111517Z
LAST-MODIFIED:20250313T163314Z
UID:10010331-1740564000-1740571200@crocoule.org
SUMMARY:Sainte Croix en Jarez | Construis ta cabane miniature
DESCRIPTION:Explore les environs de la Chartreuse à la recherche de bois et autres matériaux pour construire ta cabane miniature. \n\n\n	Similaire
URL:https://crocoule.org/notre-evenement/sainte-croix-en-jarez-construis-ta-cabane-miniature/
CATEGORIES:06 ans +,Tous les événements
END:VEVENT
BEGIN:VEVENT
DTSTART;TZID=Europe/Paris:20241226T140000
DTEND;TZID=Europe/Paris:20241226T160000
DTSTAMP:20260420T044344
CREATED:20241125T073238Z
LAST-MODIFIED:20241125T073238Z
UID:10009820-1735221600-1735228800@crocoule.org
SUMMARY:Sainte Croix en Jarez | Couleurs et lumière\, je personnalise ma carte de voeux
DESCRIPTION:Et si cette année\, vous réalisiez vous-mêmes vos cartes de vœux dans un cadre atypique ? En famille ou entre amis\, fabriquez vos encres végétales\, jouez avec les couleurs de la nature et personnalisez vos cartes de fin d’année\, avec une touche de magie et d’originalité ! \n\n\n	Similaire
URL:https://crocoule.org/notre-evenement/sainte-croix-en-jarez-couleurs-et-lumiere-je-personnalise-ma-carte-de-voeux/
CATEGORIES:05 ans +,Tous les événements
END:VEVENT
END:VCALENDAR