BEGIN:VCALENDAR
VERSION:2.0
PRODID:-//Crocoule - ECPv6.15.15//NONSGML v1.0//EN
CALSCALE:GREGORIAN
METHOD:PUBLISH
X-ORIGINAL-URL:https://crocoule.org
X-WR-CALDESC:Évènements pour Crocoule
REFRESH-INTERVAL;VALUE=DURATION:PT1H
X-Robots-Tag:noindex
X-PUBLISHED-TTL:PT1H
BEGIN:VTIMEZONE
TZID:Europe/Paris
BEGIN:DAYLIGHT
TZOFFSETFROM:+0100
TZOFFSETTO:+0200
TZNAME:CEST
DTSTART:20220327T010000
END:DAYLIGHT
BEGIN:STANDARD
TZOFFSETFROM:+0200
TZOFFSETTO:+0100
TZNAME:CET
DTSTART:20221030T010000
END:STANDARD
BEGIN:DAYLIGHT
TZOFFSETFROM:+0100
TZOFFSETTO:+0200
TZNAME:CEST
DTSTART:20230326T010000
END:DAYLIGHT
BEGIN:STANDARD
TZOFFSETFROM:+0200
TZOFFSETTO:+0100
TZNAME:CET
DTSTART:20231029T010000
END:STANDARD
BEGIN:DAYLIGHT
TZOFFSETFROM:+0100
TZOFFSETTO:+0200
TZNAME:CEST
DTSTART:20240331T010000
END:DAYLIGHT
BEGIN:STANDARD
TZOFFSETFROM:+0200
TZOFFSETTO:+0100
TZNAME:CET
DTSTART:20241027T010000
END:STANDARD
END:VTIMEZONE
BEGIN:VEVENT
DTSTART;TZID=Europe/Paris:20231217T140000
DTEND;TZID=Europe/Paris:20231217T170000
DTSTAMP:20260421T193238
CREATED:20231120T143638Z
LAST-MODIFIED:20231120T143638Z
UID:10002690-1702821600-1702832400@crocoule.org
SUMMARY:Sur les Traces du Père Noël - Balade à Cheval/Poney
DESCRIPTION:Sur les Traces du Père Noël – Balade à Cheval/Poney dans la Montagne Forézienne\nPlongez dans un monde féerique avec notre balade « Sur les Traces du Père Noël » à cheval ou à poney dans la montagne Forézienne. Cette expérience unique vous invite à découvrir la sérénité et la beauté naturelle de la région d’une manière magique et immersive. \nGuidés par nos experts passionnés\, vous emprunterez des itinéraires soigneusement sélectionnés\, vous éloignant des sentiers battus pour une aventure paisible et personnalisée. Ces parcours\, conçus pour tous les niveaux\, vous permettent d’explorer à votre rythme les trésors cachés de la montagne Forézienne. Imaginez-vous traversant des chemins ombragés\, longeant d’antiques murailles en pierres\, au milieu d’un cadre naturel préservé. \nLes randonnées varient en durée et en difficulté pour s’adapter à vos envies : des promenades courtes d’une ou deux heures\, des excursions d’une journée entière\, ou même des aventures sur un week-end complet avec des haltes pique-nique dans des lieux pittoresques. Nos chevaux et poneys\, soigneusement sélectionnés\, garantissent une expérience confortable et sécurisée pour tous les cavaliers\, qu’ils soient débutants ou expérimentés. \nLes enfants sont particulièrement les bienvenus pour participer à cette aventure. Dès l’âge de 3 ans\, les petits cowboys et cowgirls peuvent se joindre à la balade\, vivant ainsi leur propre conte de Noël. C’est l’opportunité parfaite pour eux de se connecter avec la nature et de créer des souvenirs inoubliables. \nRejoignez-nous pour une balade magique « Sur les Traces du Père Noël » et vivez une expérience hors du commun en montagne Forézienne. Que vous soyez en famille ou entre amis\, ces balades à cheval ou à poney offrent une échappée belle dans un cadre naturel époustouflant\, parfait pour des moments privilégiés et joyeux. \nVenez visite notre site web ici \n\n\n	Similaire
URL:https://crocoule.org/notre-evenement/sur-les-traces-du-pere-noel-balade-a-cheval-poney-6/
CATEGORIES:03 ans +,Exterieur
ORGANIZER;CN="Beltie Ranch":MAILTO:bruyas.claudia@gmail.com
END:VEVENT
BEGIN:VEVENT
DTSTART;TZID=Europe/Paris:20231216T140000
DTEND;TZID=Europe/Paris:20231216T170000
DTSTAMP:20260421T193238
CREATED:20231120T143519Z
LAST-MODIFIED:20231120T143519Z
UID:10002689-1702735200-1702746000@crocoule.org
SUMMARY:Sur les Traces du Père Noël - Balade à Cheval/Poney
DESCRIPTION:Sur les Traces du Père Noël – Balade à Cheval/Poney dans la Montagne Forézienne\nPlongez dans un monde féerique avec notre balade « Sur les Traces du Père Noël » à cheval ou à poney dans la montagne Forézienne. Cette expérience unique vous invite à découvrir la sérénité et la beauté naturelle de la région d’une manière magique et immersive. \nGuidés par nos experts passionnés\, vous emprunterez des itinéraires soigneusement sélectionnés\, vous éloignant des sentiers battus pour une aventure paisible et personnalisée. Ces parcours\, conçus pour tous les niveaux\, vous permettent d’explorer à votre rythme les trésors cachés de la montagne Forézienne. Imaginez-vous traversant des chemins ombragés\, longeant d’antiques murailles en pierres\, au milieu d’un cadre naturel préservé. \nLes randonnées varient en durée et en difficulté pour s’adapter à vos envies : des promenades courtes d’une ou deux heures\, des excursions d’une journée entière\, ou même des aventures sur un week-end complet avec des haltes pique-nique dans des lieux pittoresques. Nos chevaux et poneys\, soigneusement sélectionnés\, garantissent une expérience confortable et sécurisée pour tous les cavaliers\, qu’ils soient débutants ou expérimentés. \nLes enfants sont particulièrement les bienvenus pour participer à cette aventure. Dès l’âge de 3 ans\, les petits cowboys et cowgirls peuvent se joindre à la balade\, vivant ainsi leur propre conte de Noël. C’est l’opportunité parfaite pour eux de se connecter avec la nature et de créer des souvenirs inoubliables. \nRejoignez-nous pour une balade magique « Sur les Traces du Père Noël » et vivez une expérience hors du commun en montagne Forézienne. Que vous soyez en famille ou entre amis\, ces balades à cheval ou à poney offrent une échappée belle dans un cadre naturel époustouflant\, parfait pour des moments privilégiés et joyeux. \nVenez visite notre site web ici \n\n\n	Similaire
URL:https://crocoule.org/notre-evenement/sur-les-traces-du-pere-noel-balade-a-cheval-poney-5/
CATEGORIES:03 ans +,Exterieur
ORGANIZER;CN="Beltie Ranch":MAILTO:bruyas.claudia@gmail.com
END:VEVENT
BEGIN:VEVENT
DTSTART;TZID=Europe/Paris:20231213T140000
DTEND;TZID=Europe/Paris:20231213T170000
DTSTAMP:20260421T193238
CREATED:20231120T143403Z
LAST-MODIFIED:20231120T143403Z
UID:10002688-1702476000-1702486800@crocoule.org
SUMMARY:Sur les Traces du Père Noël - Balade à Cheval/Poney
DESCRIPTION:Sur les Traces du Père Noël – Balade à Cheval/Poney dans la Montagne Forézienne\nPlongez dans un monde féerique avec notre balade « Sur les Traces du Père Noël » à cheval ou à poney dans la montagne Forézienne. Cette expérience unique vous invite à découvrir la sérénité et la beauté naturelle de la région d’une manière magique et immersive. \nGuidés par nos experts passionnés\, vous emprunterez des itinéraires soigneusement sélectionnés\, vous éloignant des sentiers battus pour une aventure paisible et personnalisée. Ces parcours\, conçus pour tous les niveaux\, vous permettent d’explorer à votre rythme les trésors cachés de la montagne Forézienne. Imaginez-vous traversant des chemins ombragés\, longeant d’antiques murailles en pierres\, au milieu d’un cadre naturel préservé. \nLes randonnées varient en durée et en difficulté pour s’adapter à vos envies : des promenades courtes d’une ou deux heures\, des excursions d’une journée entière\, ou même des aventures sur un week-end complet avec des haltes pique-nique dans des lieux pittoresques. Nos chevaux et poneys\, soigneusement sélectionnés\, garantissent une expérience confortable et sécurisée pour tous les cavaliers\, qu’ils soient débutants ou expérimentés. \nLes enfants sont particulièrement les bienvenus pour participer à cette aventure. Dès l’âge de 3 ans\, les petits cowboys et cowgirls peuvent se joindre à la balade\, vivant ainsi leur propre conte de Noël. C’est l’opportunité parfaite pour eux de se connecter avec la nature et de créer des souvenirs inoubliables. \nRejoignez-nous pour une balade magique « Sur les Traces du Père Noël » et vivez une expérience hors du commun en montagne Forézienne. Que vous soyez en famille ou entre amis\, ces balades à cheval ou à poney offrent une échappée belle dans un cadre naturel époustouflant\, parfait pour des moments privilégiés et joyeux. \nVenez visite notre site web ici \n\n\n	Similaire
URL:https://crocoule.org/notre-evenement/sur-les-traces-du-pere-noel-balade-a-cheval-poney-4/
CATEGORIES:03 ans +,Exterieur
ORGANIZER;CN="Beltie Ranch":MAILTO:bruyas.claudia@gmail.com
END:VEVENT
BEGIN:VEVENT
DTSTART;TZID=Europe/Paris:20231210T140000
DTEND;TZID=Europe/Paris:20231210T170000
DTSTAMP:20260421T193238
CREATED:20231120T143229Z
LAST-MODIFIED:20231120T143229Z
UID:10002687-1702216800-1702227600@crocoule.org
SUMMARY:Sur les traces du père noël - balade à cheval/poney
DESCRIPTION:Sur les Traces du Père Noël – Balade à Cheval/Poney dans la Montagne Forézienne\nPlongez dans un monde féerique avec notre balade « Sur les Traces du Père Noël » à cheval ou à poney dans la montagne Forézienne. Cette expérience unique vous invite à découvrir la sérénité et la beauté naturelle de la région d’une manière magique et immersive. \nGuidés par nos experts passionnés\, vous emprunterez des itinéraires soigneusement sélectionnés\, vous éloignant des sentiers battus pour une aventure paisible et personnalisée. Ces parcours\, conçus pour tous les niveaux\, vous permettent d’explorer à votre rythme les trésors cachés de la montagne Forézienne. Imaginez-vous traversant des chemins ombragés\, longeant d’antiques murailles en pierres\, au milieu d’un cadre naturel préservé. \nLes randonnées varient en durée et en difficulté pour s’adapter à vos envies : des promenades courtes d’une ou deux heures\, des excursions d’une journée entière\, ou même des aventures sur un week-end complet avec des haltes pique-nique dans des lieux pittoresques. Nos chevaux et poneys\, soigneusement sélectionnés\, garantissent une expérience confortable et sécurisée pour tous les cavaliers\, qu’ils soient débutants ou expérimentés. \nLes enfants sont particulièrement les bienvenus pour participer à cette aventure. Dès l’âge de 3 ans\, les petits cowboys et cowgirls peuvent se joindre à la balade\, vivant ainsi leur propre conte de Noël. C’est l’opportunité parfaite pour eux de se connecter avec la nature et de créer des souvenirs inoubliables. \nRejoignez-nous pour une balade magique « Sur les Traces du Père Noël » et vivez une expérience hors du commun en montagne Forézienne. Que vous soyez en famille ou entre amis\, ces balades à cheval ou à poney offrent une échappée belle dans un cadre naturel époustouflant\, parfait pour des moments privilégiés et joyeux. \nVenez visite notre site web ici \n\n\n	Similaire
URL:https://crocoule.org/notre-evenement/sur-les-traces-du-pere-noel-balade-a-cheval-poney-3/
CATEGORIES:03 ans +,Activité du week-end
ORGANIZER;CN="Beltie Ranch":MAILTO:bruyas.claudia@gmail.com
END:VEVENT
BEGIN:VEVENT
DTSTART;TZID=Europe/Paris:20231209T140000
DTEND;TZID=Europe/Paris:20231209T170000
DTSTAMP:20260421T193238
CREATED:20231120T143104Z
LAST-MODIFIED:20231120T143104Z
UID:10002685-1702130400-1702141200@crocoule.org
SUMMARY:Sur les traces du père noël - balade à cheval/poney
DESCRIPTION:Sur les Traces du Père Noël – Balade à Cheval/Poney dans la Montagne Forézienne\nPlongez dans un monde féerique avec notre balade « Sur les Traces du Père Noël » à cheval ou à poney dans la montagne Forézienne. Cette expérience unique vous invite à découvrir la sérénité et la beauté naturelle de la région d’une manière magique et immersive. \nGuidés par nos experts passionnés\, vous emprunterez des itinéraires soigneusement sélectionnés\, vous éloignant des sentiers battus pour une aventure paisible et personnalisée. Ces parcours\, conçus pour tous les niveaux\, vous permettent d’explorer à votre rythme les trésors cachés de la montagne Forézienne. Imaginez-vous traversant des chemins ombragés\, longeant d’antiques murailles en pierres\, au milieu d’un cadre naturel préservé. \nLes randonnées varient en durée et en difficulté pour s’adapter à vos envies : des promenades courtes d’une ou deux heures\, des excursions d’une journée entière\, ou même des aventures sur un week-end complet avec des haltes pique-nique dans des lieux pittoresques. Nos chevaux et poneys\, soigneusement sélectionnés\, garantissent une expérience confortable et sécurisée pour tous les cavaliers\, qu’ils soient débutants ou expérimentés. \nLes enfants sont particulièrement les bienvenus pour participer à cette aventure. Dès l’âge de 3 ans\, les petits cowboys et cowgirls peuvent se joindre à la balade\, vivant ainsi leur propre conte de Noël. C’est l’opportunité parfaite pour eux de se connecter avec la nature et de créer des souvenirs inoubliables. \nRejoignez-nous pour une balade magique « Sur les Traces du Père Noël » et vivez une expérience hors du commun en montagne Forézienne. Que vous soyez en famille ou entre amis\, ces balades à cheval ou à poney offrent une échappée belle dans un cadre naturel époustouflant\, parfait pour des moments privilégiés et joyeux. \nVenez visite notre site web ici \n\n\n	Similaire
URL:https://crocoule.org/notre-evenement/sur-les-traces-du-pere-noel-balade-a-cheval-poney-2/
CATEGORIES:03 ans +,Activité du week-end
ORGANIZER;CN="Beltie Ranch":MAILTO:bruyas.claudia@gmail.com
END:VEVENT
BEGIN:VEVENT
DTSTART;TZID=Europe/Paris:20231206T140000
DTEND;TZID=Europe/Paris:20231206T170000
DTSTAMP:20260421T193238
CREATED:20231120T142711Z
LAST-MODIFIED:20231120T142711Z
UID:10002683-1701871200-1701882000@crocoule.org
SUMMARY:Sur les traces du père noël - balade à cheval/poney
DESCRIPTION:Sur les Traces du Père Noël – Balade à Cheval/Poney dans la Montagne Forézienne\nPlongez dans un monde féerique avec notre balade « Sur les Traces du Père Noël » à cheval ou à poney dans la montagne Forézienne. Cette expérience unique vous invite à découvrir la sérénité et la beauté naturelle de la région d’une manière magique et immersive. \nGuidés par nos experts passionnés\, vous emprunterez des itinéraires soigneusement sélectionnés\, vous éloignant des sentiers battus pour une aventure paisible et personnalisée. Ces parcours\, conçus pour tous les niveaux\, vous permettent d’explorer à votre rythme les trésors cachés de la montagne Forézienne. Imaginez-vous traversant des chemins ombragés\, longeant d’antiques murailles en pierres\, au milieu d’un cadre naturel préservé. \nLes randonnées varient en durée et en difficulté pour s’adapter à vos envies : des promenades courtes d’une ou deux heures\, des excursions d’une journée entière\, ou même des aventures sur un week-end complet avec des haltes pique-nique dans des lieux pittoresques. Nos chevaux et poneys\, soigneusement sélectionnés\, garantissent une expérience confortable et sécurisée pour tous les cavaliers\, qu’ils soient débutants ou expérimentés. \nLes enfants sont particulièrement les bienvenus pour participer à cette aventure. Dès l’âge de 3 ans\, les petits cowboys et cowgirls peuvent se joindre à la balade\, vivant ainsi leur propre conte de Noël. C’est l’opportunité parfaite pour eux de se connecter avec la nature et de créer des souvenirs inoubliables. \nRejoignez-nous pour une balade magique « Sur les Traces du Père Noël » et vivez une expérience hors du commun en montagne Forézienne. Que vous soyez en famille ou entre amis\, ces balades à cheval ou à poney offrent une échappée belle dans un cadre naturel époustouflant\, parfait pour des moments privilégiés et joyeux. \nVenez visite notre site web ici \n\n\n	Similaire
URL:https://crocoule.org/notre-evenement/sur-les-traces-du-pere-noel-balade-a-cheval-poney/
CATEGORIES:Activité du week-end
ORGANIZER;CN="Beltie Ranch":MAILTO:bruyas.claudia@gmail.com
END:VEVENT
END:VCALENDAR