BEGIN:VCALENDAR
VERSION:2.0
PRODID:-//Crocoule - ECPv6.15.15//NONSGML v1.0//EN
CALSCALE:GREGORIAN
METHOD:PUBLISH
X-ORIGINAL-URL:https://crocoule.org
X-WR-CALDESC:Évènements pour Crocoule
REFRESH-INTERVAL;VALUE=DURATION:PT1H
X-Robots-Tag:noindex
X-PUBLISHED-TTL:PT1H
BEGIN:VTIMEZONE
TZID:Europe/Paris
BEGIN:DAYLIGHT
TZOFFSETFROM:+0100
TZOFFSETTO:+0200
TZNAME:CEST
DTSTART:20250330T010000
END:DAYLIGHT
BEGIN:STANDARD
TZOFFSETFROM:+0200
TZOFFSETTO:+0100
TZNAME:CET
DTSTART:20251026T010000
END:STANDARD
BEGIN:DAYLIGHT
TZOFFSETFROM:+0100
TZOFFSETTO:+0200
TZNAME:CEST
DTSTART:20260329T010000
END:DAYLIGHT
BEGIN:STANDARD
TZOFFSETFROM:+0200
TZOFFSETTO:+0100
TZNAME:CET
DTSTART:20261025T010000
END:STANDARD
BEGIN:DAYLIGHT
TZOFFSETFROM:+0100
TZOFFSETTO:+0200
TZNAME:CEST
DTSTART:20270328T010000
END:DAYLIGHT
BEGIN:STANDARD
TZOFFSETFROM:+0200
TZOFFSETTO:+0100
TZNAME:CET
DTSTART:20271031T010000
END:STANDARD
END:VTIMEZONE
BEGIN:VEVENT
DTSTART;TZID=Europe/Paris:20260401T090000
DTEND;TZID=Europe/Paris:20260531T190000
DTSTAMP:20260421T201716
CREATED:20260301T112105Z
LAST-MODIFIED:20260301T112105Z
UID:10013043-1775034000-1780254000@crocoule.org
SUMMARY:Saint-Galmier | Dessine ton oeil ! avec Eziok
DESCRIPTION:Du 01/04 au 31/05 – Gratuit – tout public\nEn écho avec l’exposition en cours Prendre le large d’Aurélie Montagne\, Dessine la mer\, l’océan\, le monde marin et faisons une fresque aquatique commune au Local.\n42 330 Saint- Galmier – Boutique de Créateurs – Animations créatives et gourmandes
URL:https://crocoule.org/notre-evenement/saint-galmier-dessine-ton-oeil-avec-eziok/
CATEGORIES:Gratuit,Intérieur,Tous les événements,Tout public
END:VEVENT
BEGIN:VEVENT
DTSTART;TZID=Europe/Paris:20260520T100000
DTEND;TZID=Europe/Paris:20260520T180000
DTSTAMP:20260421T201716
CREATED:20260302T131923Z
LAST-MODIFIED:20260305T094652Z
UID:10013260-1779271200-1779300000@crocoule.org
SUMMARY:Le Puy-en-Velay | Les mercredis on joue !
DESCRIPTION:De nouveaux jeux de la Ludothèque\, à partager seul.e ou en famille\, pour grands et petits. L’occasion de découvrir ou redécouvrir le p’tit Café\, ce lieu d’accueil chaleureux pour les familles.
URL:https://crocoule.org/notre-evenement/le-puy-en-velay-les-mercredis-on-joue-11/
LOCATION:Le P’tit Café – Le Puy En Velay\, 25 pl du marché couvert\, Le Puy-en-Velay\, 43000\, France
CATEGORIES:03 ans +,Activité en semaine,Adultes,En famille,Gratuit,Intérieur,Tous les événements
END:VEVENT
BEGIN:VEVENT
DTSTART;TZID=Europe/Paris:20260520T140000
DTEND;TZID=Europe/Paris:20260520T150000
DTSTAMP:20260421T201716
CREATED:20260228T181601Z
LAST-MODIFIED:20260228T181601Z
UID:10012935-1779285600-1779289200@crocoule.org
SUMMARY:Saint-Étienne | En route dans la Loire !
DESCRIPTION:Découverte ludique de l’exposition des Archives sur les transports « Plus loin\, plus vite\, plus haut… »\, suivi d’un atelier pour découvrir les transports avec tous ses sens et dans tous les sens !
URL:https://crocoule.org/notre-evenement/saint-etienne-en-route-dans-la-loire-2/
LOCATION:Archives départementales de la Loire\, 6 rue Barrouin\, SAINT ÉTIENNE\, Rhône-Alpes\, 42000\, France
CATEGORIES:06 ans +,Gratuit,Jeune Public,Tous les événements
END:VEVENT
END:VCALENDAR