BEGIN:VCALENDAR
VERSION:2.0
PRODID:-//Crocoule - ECPv6.15.20//NONSGML v1.0//EN
CALSCALE:GREGORIAN
METHOD:PUBLISH
X-ORIGINAL-URL:https://crocoule.org
X-WR-CALDESC:Évènements pour Crocoule
REFRESH-INTERVAL;VALUE=DURATION:PT1H
X-Robots-Tag:noindex
X-PUBLISHED-TTL:PT1H
BEGIN:VTIMEZONE
TZID:Europe/Paris
BEGIN:DAYLIGHT
TZOFFSETFROM:+0100
TZOFFSETTO:+0200
TZNAME:CEST
DTSTART:20250330T010000
END:DAYLIGHT
BEGIN:STANDARD
TZOFFSETFROM:+0200
TZOFFSETTO:+0100
TZNAME:CET
DTSTART:20251026T010000
END:STANDARD
BEGIN:DAYLIGHT
TZOFFSETFROM:+0100
TZOFFSETTO:+0200
TZNAME:CEST
DTSTART:20260329T010000
END:DAYLIGHT
BEGIN:STANDARD
TZOFFSETFROM:+0200
TZOFFSETTO:+0100
TZNAME:CET
DTSTART:20261025T010000
END:STANDARD
BEGIN:DAYLIGHT
TZOFFSETFROM:+0100
TZOFFSETTO:+0200
TZNAME:CEST
DTSTART:20270328T010000
END:DAYLIGHT
BEGIN:STANDARD
TZOFFSETFROM:+0200
TZOFFSETTO:+0100
TZNAME:CET
DTSTART:20271031T010000
END:STANDARD
END:VTIMEZONE
BEGIN:VEVENT
DTSTART;TZID=Europe/Paris:20260221T090000
DTEND;TZID=Europe/Paris:20260222T170000
DTSTAMP:20260423T132203
CREATED:20260205T202028Z
LAST-MODIFIED:20260205T202028Z
UID:10012779-1771664400-1771779600@crocoule.org
SUMMARY:Festival Bien naitre et bien grandir
DESCRIPTION:L’association Cœur de lune co-organise avec Julie Michallet et Sandy Calvet / Calinéo\,\nle Festival Bien Naître & Bien Grandir.\nDu désir de grossesse à l’adolescence\n21 & 22 février 2026 – Maison de la Commune\, Feurs (42)\nUn événement autour de la périnatalité et de la parentalité accessible à tous ! Deux jours pour célébrer la vie\, de la première étincelle du désir d’enfant à l’adolescence.\nRencontrez plus de 30 professionnels du secteur et associations engagées\, et participez à plus d’une vingtaine d’ateliers et conférences autour du Bien Naître\, de la parentalité et de l’enfance.\nUn moment d’échanges\, de douceur et de découvertes.\nEntrée libre et gratuite.\nProgramme complet via FB et Insta
URL:https://crocoule.org/notre-evenement/festival-bien-naitre-et-bien-grandir/
LOCATION:Maison de la Commune Feurs\, 11 bis Rue Gambetta\, Feurs\, 42110\, France
CATEGORIES:En famille,Gratuit,Intérieur,Tous les événements,Tout public
ATTACH;FMTTYPE=image/jpeg:https://crocoule.org/wp-content/uploads/2026/02/887068EC-141D-4C9C-92F5-C4B60810547A-scaled.jpg
END:VEVENT
END:VCALENDAR