BEGIN:VCALENDAR
VERSION:2.0
PRODID:-//Crocoule - ECPv6.15.20//NONSGML v1.0//EN
CALSCALE:GREGORIAN
METHOD:PUBLISH
X-ORIGINAL-URL:https://crocoule.org
X-WR-CALDESC:Évènements pour Crocoule
REFRESH-INTERVAL;VALUE=DURATION:PT1H
X-Robots-Tag:noindex
X-PUBLISHED-TTL:PT1H
BEGIN:VTIMEZONE
TZID:Europe/Paris
BEGIN:DAYLIGHT
TZOFFSETFROM:+0100
TZOFFSETTO:+0200
TZNAME:CEST
DTSTART:20250330T010000
END:DAYLIGHT
BEGIN:STANDARD
TZOFFSETFROM:+0200
TZOFFSETTO:+0100
TZNAME:CET
DTSTART:20251026T010000
END:STANDARD
BEGIN:DAYLIGHT
TZOFFSETFROM:+0100
TZOFFSETTO:+0200
TZNAME:CEST
DTSTART:20260329T010000
END:DAYLIGHT
BEGIN:STANDARD
TZOFFSETFROM:+0200
TZOFFSETTO:+0100
TZNAME:CET
DTSTART:20261025T010000
END:STANDARD
BEGIN:DAYLIGHT
TZOFFSETFROM:+0100
TZOFFSETTO:+0200
TZNAME:CEST
DTSTART:20270328T010000
END:DAYLIGHT
BEGIN:STANDARD
TZOFFSETFROM:+0200
TZOFFSETTO:+0100
TZNAME:CET
DTSTART:20271031T010000
END:STANDARD
END:VTIMEZONE
BEGIN:VEVENT
DTSTART;TZID=Europe/Paris:20260428T200000
DTEND;TZID=Europe/Paris:20260428T210000
DTSTAMP:20260424T115830
CREATED:20250826T154300Z
LAST-MODIFIED:20250828T161758Z
UID:10012026-1777406400-1777410000@crocoule.org
SUMMARY:ROANNE | Mosaïk
DESCRIPTION:De la boxe au cirque\, en passant par la musique classique ou la danse aérienne\, d’une création à l’autre\, le spectateur est embarqué dans un nouvel univers\, toujours singulier\, poétique\, visuel. Chaque création est le fruit de rencontres artistiques inattendues. Chacune à sa manière fait bouger les lignes\, contourne les clichés\, transcende les frontières esthétiques et dévoile la danse hip-hop sous de nouvelles perspectives.\nDe Käfig (1996) à La Couleur de la grenade (2024)\, Mourad Merzouki propose de (re)vivre les moments forts de son répertoire.
URL:https://crocoule.org/notre-evenement/roanne-mosaik/
LOCATION:Théâtre de Roanne\, 1 Rue Molière\, roanne\, 42300\, France
CATEGORIES:09 ans +,Tous les événements,Tout public
ATTACH;FMTTYPE=image/jpeg:https://crocoule.org/wp-content/uploads/2025/08/csm_20260428_MOSAC38FK_Bandeau_Typo__598ffb08da-nP9VGW.jpg
END:VEVENT
END:VCALENDAR