BEGIN:VCALENDAR
VERSION:2.0
PRODID:-//Crocoule - ECPv6.15.15//NONSGML v1.0//EN
CALSCALE:GREGORIAN
METHOD:PUBLISH
X-WR-CALNAME:Crocoule
X-ORIGINAL-URL:https://crocoule.org
X-WR-CALDESC:Évènements pour Crocoule
REFRESH-INTERVAL;VALUE=DURATION:PT1H
X-Robots-Tag:noindex
X-PUBLISHED-TTL:PT1H
BEGIN:VTIMEZONE
TZID:Europe/Paris
BEGIN:DAYLIGHT
TZOFFSETFROM:+0100
TZOFFSETTO:+0200
TZNAME:CEST
DTSTART:20250330T010000
END:DAYLIGHT
BEGIN:STANDARD
TZOFFSETFROM:+0200
TZOFFSETTO:+0100
TZNAME:CET
DTSTART:20251026T010000
END:STANDARD
BEGIN:DAYLIGHT
TZOFFSETFROM:+0100
TZOFFSETTO:+0200
TZNAME:CEST
DTSTART:20260329T010000
END:DAYLIGHT
BEGIN:STANDARD
TZOFFSETFROM:+0200
TZOFFSETTO:+0100
TZNAME:CET
DTSTART:20261025T010000
END:STANDARD
BEGIN:DAYLIGHT
TZOFFSETFROM:+0100
TZOFFSETTO:+0200
TZNAME:CEST
DTSTART:20270328T010000
END:DAYLIGHT
BEGIN:STANDARD
TZOFFSETFROM:+0200
TZOFFSETTO:+0100
TZNAME:CET
DTSTART:20271031T010000
END:STANDARD
END:VTIMEZONE
BEGIN:VEVENT
DTSTART;TZID=Europe/Paris:20260506T100000
DTEND;TZID=Europe/Paris:20260506T114500
DTSTAMP:20260422T173610
CREATED:20260228T144720Z
LAST-MODIFIED:20260228T222756Z
UID:10012812-1778061600-1778067900@crocoule.org
SUMMARY:Saint-Étienne | Atelier "Coup de bluff"
DESCRIPTION:Viens relever des défis étonnants et réaliser des tours surprenants ! En manipulant\, en observant et en testant\, tu découvriras comment fonctionnent ces effets et apprendras à les refaire toi-même. Un atelier pour jouer\, réfléchir et s’étonner.
URL:https://crocoule.org/notre-evenement/saint-etienne-atelier-coup-de-bluff-2/
CATEGORIES:08 ans +,09 ans +,10 ans +,11 ans +,12 ans +,Activité en semaine,Jeune Public,Tous les événements
ATTACH;FMTTYPE=image/jpeg:https://crocoule.org/wp-content/uploads/2026/02/coup-de-bluff-site-Mnu3C9.jpg
END:VEVENT
BEGIN:VEVENT
DTSTART;TZID=Europe/Paris:20260506T140000
DTEND;TZID=Europe/Paris:20260506T160000
DTSTAMP:20260422T173610
CREATED:20260228T144525Z
LAST-MODIFIED:20260228T201008Z
UID:10012810-1778076000-1778083200@crocoule.org
SUMMARY:Saint-Étienne | Atelier "Du bout des mains jusqu'au ciel"
DESCRIPTION:EN TRIBU. Construisez et faites voler votre propre cerf-volant ! Découpez\, assemblez\, testez et améliorez votre modèle pour comprendre comment il s’élève dans les airs. Un atelier créatif et scientifique pour expérimenter le vent et le vol en famille. En partenariat avec La Comète
URL:https://crocoule.org/notre-evenement/saint-etienne-atelier-du-bout-des-mains-jusquau-ciel-3/
CATEGORIES:07 ans +,08 ans +,09 ans +,10 ans +,11 ans +,12 ans +,Activité en semaine,En famille,Jeune Public,Tous les événements
ATTACH;FMTTYPE=image/jpeg:https://crocoule.org/wp-content/uploads/2026/02/Cerf-volant-site-01-1-AKiBgB.jpg
END:VEVENT
BEGIN:VEVENT
DTSTART;TZID=Europe/Paris:20260509T140000
DTEND;TZID=Europe/Paris:20260509T160000
DTSTAMP:20260422T173610
CREATED:20260228T144738Z
LAST-MODIFIED:20260228T144738Z
UID:10012819-1778335200-1778342400@crocoule.org
SUMMARY:Saint-Étienne | Atelier "Fusées à eau"
DESCRIPTION:Décollage pour l’espace imminent ! À partir de simples bouteilles d’eau construisez une fusée qui décollera très haut vers le ciel ! Prêts pour une aventure spatiale !
URL:https://crocoule.org/notre-evenement/saint-etienne-atelier-fusees-a-eau-6/
CATEGORIES:07 ans +,08 ans +,09 ans +,10 ans +,11 ans +,12 ans +,Activité du week-end,Tous les événements
ATTACH;FMTTYPE=image/jpeg:https://crocoule.org/wp-content/uploads/2026/02/visuel-programme-Explora-ete-2021-bJGHb0.jpg
END:VEVENT
BEGIN:VEVENT
DTSTART;TZID=Europe/Paris:20260513T100000
DTEND;TZID=Europe/Paris:20260513T114500
DTSTAMP:20260422T173610
CREATED:20260228T144722Z
LAST-MODIFIED:20260228T222756Z
UID:10012813-1778666400-1778672700@crocoule.org
SUMMARY:Saint-Étienne | Atelier "Coup de bluff"
DESCRIPTION:Viens relever des défis étonnants et réaliser des tours surprenants ! En manipulant\, en observant et en testant\, tu découvriras comment fonctionnent ces effets et apprendras à les refaire toi-même. Un atelier pour jouer\, réfléchir et s’étonner.
URL:https://crocoule.org/notre-evenement/saint-etienne-atelier-coup-de-bluff-3/
CATEGORIES:08 ans +,09 ans +,10 ans +,11 ans +,12 ans +,Activité en semaine,Jeune Public,Tous les événements
ATTACH;FMTTYPE=image/jpeg:https://crocoule.org/wp-content/uploads/2026/02/coup-de-bluff-site-Mnu3C9.jpg
END:VEVENT
BEGIN:VEVENT
DTSTART;TZID=Europe/Paris:20260516T140000
DTEND;TZID=Europe/Paris:20260516T230000
DTSTAMP:20260422T173610
CREATED:20260301T121150Z
LAST-MODIFIED:20260301T121150Z
UID:10013159-1778940000-1778972400@crocoule.org
SUMMARY:Montbrison | Nuit des musées
DESCRIPTION:
URL:https://crocoule.org/notre-evenement/montbrison-nuit-des-musees-2/
CATEGORIES:05 ans +,06 ans +,07 ans +,08 ans +,09 ans +,10 ans +,11 ans +,12 ans +,Activité du week-end,Adultes,En famille,Expo,Gratuit,Intérieur,Tous les événements
END:VEVENT
BEGIN:VEVENT
DTSTART;TZID=Europe/Paris:20260523T100000
DTEND;TZID=Europe/Paris:20260523T120000
DTSTAMP:20260422T173610
CREATED:20260228T144521Z
LAST-MODIFIED:20260228T201006Z
UID:10012807-1779530400-1779537600@crocoule.org
SUMMARY:Saint-Étienne | Atelier "Alerte éruption !"
DESCRIPTION:Plonge dans l’univers des volcans ! Expériences\, manipulations et éruptions spectaculaires pour observer\, tester et comprendre comment naissent ces phénomènes et les métiers qui les étudient.
URL:https://crocoule.org/notre-evenement/saint-etienne-atelier-alerte-eruption-6/
CATEGORIES:09 ans +,10 ans +,11 ans +,12 ans +,Activité du week-end,Jeune Public,Tous les événements
ATTACH;FMTTYPE=image/jpeg:https://crocoule.org/wp-content/uploads/2026/02/Volcan-site-01-ya4nam.jpg
END:VEVENT
BEGIN:VEVENT
DTSTART;TZID=Europe/Paris:20260527T100000
DTEND;TZID=Europe/Paris:20260527T120000
DTSTAMP:20260422T173610
CREATED:20260228T144739Z
LAST-MODIFIED:20260228T144739Z
UID:10012820-1779876000-1779883200@crocoule.org
SUMMARY:Saint-Étienne | Atelier "Fusées à eau"
DESCRIPTION:Décollage pour l’espace imminent ! À partir de simples bouteilles d’eau construisez une fusée qui décollera très haut vers le ciel ! Prêts pour une aventure spatiale !
URL:https://crocoule.org/notre-evenement/saint-etienne-atelier-fusees-a-eau-7/
CATEGORIES:07 ans +,08 ans +,09 ans +,10 ans +,11 ans +,12 ans +,Activité en semaine,Tous les événements
ATTACH;FMTTYPE=image/jpeg:https://crocoule.org/wp-content/uploads/2026/02/visuel-programme-Explora-ete-2021-bJGHb0.jpg
END:VEVENT
BEGIN:VEVENT
DTSTART;TZID=Europe/Paris:20260530T100000
DTEND;TZID=Europe/Paris:20260530T180000
DTSTAMP:20260422T173610
CREATED:20260301T121150Z
LAST-MODIFIED:20260301T121150Z
UID:10013160-1780135200-1780164000@crocoule.org
SUMMARY:Montbrison | Fête mondiale du jeu
DESCRIPTION:Entrée gratuite\nOuverture du musée sur le jardin …\nDedans dehors\, un jeu de piste pour les plus de 10 ans\net une découverte ludique des collections pour tous !
URL:https://crocoule.org/notre-evenement/montbrison-fete-mondiale-du-jeu/
CATEGORIES:05 ans +,06 ans +,07 ans +,08 ans +,09 ans +,10 ans +,11 ans +,12 ans +,Activité du week-end,Adultes,En famille,Expo,Exterieur,Gratuit,Intérieur,Tous les événements
END:VEVENT
END:VCALENDAR