BEGIN:VCALENDAR
VERSION:2.0
PRODID:-//Crocoule - ECPv6.15.15//NONSGML v1.0//EN
CALSCALE:GREGORIAN
METHOD:PUBLISH
X-WR-CALNAME:Crocoule
X-ORIGINAL-URL:https://crocoule.org
X-WR-CALDESC:Évènements pour Crocoule
REFRESH-INTERVAL;VALUE=DURATION:PT1H
X-Robots-Tag:noindex
X-PUBLISHED-TTL:PT1H
BEGIN:VTIMEZONE
TZID:Europe/Paris
BEGIN:DAYLIGHT
TZOFFSETFROM:+0100
TZOFFSETTO:+0200
TZNAME:CEST
DTSTART:20250330T010000
END:DAYLIGHT
BEGIN:STANDARD
TZOFFSETFROM:+0200
TZOFFSETTO:+0100
TZNAME:CET
DTSTART:20251026T010000
END:STANDARD
BEGIN:DAYLIGHT
TZOFFSETFROM:+0100
TZOFFSETTO:+0200
TZNAME:CEST
DTSTART:20260329T010000
END:DAYLIGHT
BEGIN:STANDARD
TZOFFSETFROM:+0200
TZOFFSETTO:+0100
TZNAME:CET
DTSTART:20261025T010000
END:STANDARD
BEGIN:DAYLIGHT
TZOFFSETFROM:+0100
TZOFFSETTO:+0200
TZNAME:CEST
DTSTART:20270328T010000
END:DAYLIGHT
BEGIN:STANDARD
TZOFFSETFROM:+0200
TZOFFSETTO:+0100
TZNAME:CET
DTSTART:20271031T010000
END:STANDARD
END:VTIMEZONE
BEGIN:VEVENT
DTSTART;TZID=Europe/Paris:20260303T170000
DTEND;TZID=Europe/Paris:20260331T181500
DTSTAMP:20260421T021141
CREATED:20260301T112014Z
LAST-MODIFIED:20260301T112014Z
UID:10013022-1772557200-1774980900@crocoule.org
SUMMARY:Saint-Galmier | Carnet de Vie(s) - ART-THERAPIE
DESCRIPTION:Réalisation d’un carnet créatif avec Françoise – Art-thérapeute\nL’idée est de créer page après page sans contrainte et en fonction de son envie\, de son humeur\, d’une idée\, d’un souvenir\, de mots\, d’une citation\, d’une émotion\, d’un moment\, d’une expérience. Cela peut prendre diverses formes et utiliser différents médiums comme le dessin\, la peinture\, le collage\, les photos\, les mots et l’écriture.\nTous les mardis 3/03 – 10/03 – 17/03 – 24/03 – 31/03\nde 17h à 18h15 – 6 places Enfants à partir de 7 ans : Séance 10 €\nde 18h30 à 20h00 – 8 places Ados à partir de 14 ans et Adultes. Séance : 15€\nsur Réservation : 06 15 72 08 99
URL:https://crocoule.org/notre-evenement/saint-galmier-carnet-de-vies-art-therapie/
CATEGORIES:07 ans +,Tous les événements
END:VEVENT
BEGIN:VEVENT
DTSTART;TZID=Europe/Paris:20260328T090000
DTEND;TZID=Europe/Paris:20260328T130000
DTSTAMP:20260421T021141
CREATED:20260301T112049Z
LAST-MODIFIED:20260301T112049Z
UID:10013038-1774688400-1774702800@crocoule.org
SUMMARY:Saint-Galmier | Les Expériences créatives du samedi : initiation Graffiti / POP ART\nTag ton t'shirt/ un Tote-bag/ un vinyle avec Eziok
DESCRIPTION:Initiation au Graffiti /  POP ART – différents ateliers possibles – 2 créneaux horaires : 9h-11h – 11h-13h\nà partir de 7ans (T shirt ) – à partir de 10 ans (Tote-Bag/ Vinyle)\nPersonnalisation d’un tshirt (25 € env 1h30/2h)\, d’un tote-bag (20 € env 1h30) d’un vinyle (15€ env 1h30)\nInitiation peinture à la bombe – Pochoir – peinture acrylique – Posca \nsur réservation : 06 15 72 08 99 ou localdu4@gmail.com\n42 330 Saint- Galmier – Boutique de Créateurs – Animations créatives et gourmandes
URL:https://crocoule.org/notre-evenement/saint-galmier-les-experiences-creatives-du-samedi-initiation-graffiti-pop-arttag-ton-tshirt-un-tote-bag-un-vinyle-avec-eziok/
CATEGORIES:07 ans +,Activité du week-end,Intérieur,Jeune Public,Tous les événements
END:VEVENT
BEGIN:VEVENT
DTSTART;TZID=Europe/Paris:20260328T100000
DTEND;TZID=Europe/Paris:20260328T120000
DTSTAMP:20260421T021141
CREATED:20260228T144937Z
LAST-MODIFIED:20260228T144937Z
UID:10012824-1774692000-1774699200@crocoule.org
SUMMARY:Saint-Étienne | Atelier "Entre deux rives"
DESCRIPTION:EN TRIBU. Enjamber des rivières\, rejoindre une île\, transporter de l’eau… venez découvrir les milles et une utilités des ponts. Saurez-vous relever les défis pour réparer le pont du village d’Explora ? Construisez plusieurs ponts avec du matériel qui sort de l’ordinaire et votre imagination.
URL:https://crocoule.org/notre-evenement/saint-etienne-atelier-entre-deux-rives-6/
CATEGORIES:07 ans +,08 ans +,09 ans +,Activité du week-end,En famille,Jeune Public,Tous les événements
ATTACH;FMTTYPE=image/jpeg:https://crocoule.org/wp-content/uploads/2025/11/Entre-deux-rives-min-1-pcIwmB.jpg
END:VEVENT
BEGIN:VEVENT
DTSTART;TZID=Europe/Paris:20260328T100000
DTEND;TZID=Europe/Paris:20260328T120000
DTSTAMP:20260421T021141
CREATED:20260228T222831Z
LAST-MODIFIED:20260228T222831Z
UID:10012949-1774692000-1774699200@crocoule.org
SUMMARY:Saint cyr les vignes | Visite guidée de la "Ferme aux glaces"
DESCRIPTION:7\,50€/adulte-6\,50€/enfant inclut la boule de glace\nGratuit – de 3 ans/Avec glace : 2\,20€\nLa durée indiquée n’inclut pas le temps de dégustation.
URL:https://crocoule.org/notre-evenement/saint-cyr-les-vignes-visite-guidee-de-la-ferme-aux-glaces-2/
LOCATION:Ferme Des Délices Foréziens\, 1230 Les Sermages\, Saint-Cyr-les-Vignes\, 42210
CATEGORIES:07 ans +,Adultes,En famille,Tous les événements,Tout public
ATTACH;FMTTYPE=image/jpeg:https://crocoule.org/wp-content/uploads/2026/01/91b7bc_8b7bcce4c68d47bc916953ab15ffd73emv2-ZVzmq6.jpg
END:VEVENT
BEGIN:VEVENT
DTSTART;TZID=Europe/Paris:20260328T140000
DTEND;TZID=Europe/Paris:20260329T180000
DTSTAMP:20260421T021141
CREATED:20260301T121128Z
LAST-MODIFIED:20260301T121128Z
UID:10013153-1774706400-1774807200@crocoule.org
SUMMARY:Montbrison | Plongée inaugurale
DESCRIPTION:En partenariat avec l’association Forez Plongée 42\nMini-conférences adultes (15 min.)\n“Quand le CO2 entre en mer” : comprendre le phénomène d’acidification\ndes océans. Samedi à 14h30 et dimanche à 16h\n“L’océan mémoire de nos choix” : réflexion sur l’exploitation et la\npréservation de l’océan : oxygène\, nourriture\, tourisme…\nSamedi 16h et dimanche 14h30\nAnimations scientifiques et ludiques pour toute la\nfamille en continu\nLecture de contes (15 min.)\nSamedi 15H15 et 17h et dimanche 14h15 et 17h\nEnsemble Coup de Choeur (20 min.)\nChant choral\, marée montante de chansons sur le répertoire de la\nmer. dimanche 15h et 16h30
URL:https://crocoule.org/notre-evenement/montbrison-plongee-inaugurale/
LOCATION:Musee Allard\, 13 Bd de la Préfecture\, montbrison\, 42600\, France
CATEGORIES:03 ans +,04 ans +,05 ans +,06 ans +,07 ans +,08 ans +,09 ans +,10 ans +,11 ans +,12 ans +,Activité du week-end,Adultes,En famille,Expo,Gratuit,Intérieur,Jeune Public,Tous les événements,Tout public
END:VEVENT
END:VCALENDAR