BEGIN:VCALENDAR
VERSION:2.0
PRODID:-//Crocoule - ECPv6.15.15//NONSGML v1.0//EN
CALSCALE:GREGORIAN
METHOD:PUBLISH
X-ORIGINAL-URL:https://crocoule.org
X-WR-CALDESC:Évènements pour Crocoule
REFRESH-INTERVAL;VALUE=DURATION:PT1H
X-Robots-Tag:noindex
X-PUBLISHED-TTL:PT1H
BEGIN:VTIMEZONE
TZID:Europe/Paris
BEGIN:DAYLIGHT
TZOFFSETFROM:+0100
TZOFFSETTO:+0200
TZNAME:CEST
DTSTART:20240331T010000
END:DAYLIGHT
BEGIN:STANDARD
TZOFFSETFROM:+0200
TZOFFSETTO:+0100
TZNAME:CET
DTSTART:20241027T010000
END:STANDARD
BEGIN:DAYLIGHT
TZOFFSETFROM:+0100
TZOFFSETTO:+0200
TZNAME:CEST
DTSTART:20250330T010000
END:DAYLIGHT
BEGIN:STANDARD
TZOFFSETFROM:+0200
TZOFFSETTO:+0100
TZNAME:CET
DTSTART:20251026T010000
END:STANDARD
BEGIN:DAYLIGHT
TZOFFSETFROM:+0100
TZOFFSETTO:+0200
TZNAME:CEST
DTSTART:20260329T010000
END:DAYLIGHT
BEGIN:STANDARD
TZOFFSETFROM:+0200
TZOFFSETTO:+0100
TZNAME:CET
DTSTART:20261025T010000
END:STANDARD
BEGIN:DAYLIGHT
TZOFFSETFROM:+0100
TZOFFSETTO:+0200
TZNAME:CEST
DTSTART:20270328T010000
END:DAYLIGHT
BEGIN:STANDARD
TZOFFSETFROM:+0200
TZOFFSETTO:+0100
TZNAME:CET
DTSTART:20271031T010000
END:STANDARD
END:VTIMEZONE
BEGIN:VEVENT
DTSTART;TZID=Europe/Paris:20251107T090000
DTEND;TZID=Europe/Paris:20260301T170000
DTSTAMP:20260421T001953
CREATED:20251119T152656Z
LAST-MODIFIED:20251202T120134Z
UID:10012393-1762506000-1772384400@crocoule.org
SUMMARY:Saint-Étienne | Bâtons et élastiques
DESCRIPTION:Ce jeu de construction modulaire est composé de bâtonnets les participents assemblent à l’aide d’élastiques pour créer des structures. Le dispositif est complété par un jeu chromatique où les bâtonnets\, peints en dix teintes très légèrement différentes\, une fois assemblés\, créent un dégradé de couleurs dans le temps et l’espace. Production : Le Bel Ordinaire
URL:https://crocoule.org/notre-evenement/saint-etienne-batons-et-elastiques-2/
CATEGORIES:07 ans +,Tous les événements
ATTACH;FMTTYPE=image/jpeg:https://crocoule.org/wp-content/uploads/2025/12/68ef86696860f-FsZAoF.jpg
END:VEVENT
BEGIN:VEVENT
DTSTART;TZID=Europe/Paris:20260106T170000
DTEND;TZID=Europe/Paris:20260228T200000
DTSTAMP:20260421T001953
CREATED:20251126T151240Z
LAST-MODIFIED:20260228T161835Z
UID:10012477-1767718800-1772308800@crocoule.org
SUMMARY:Saint-Galmier | les Parenthèses créatives
DESCRIPTION:Réalisation d’un carnet créatif avec Françoise – Art-thérapeute\nL’idée est de créer page après page sans contrainte et en fonction de son envie\, de son humeur\, d’une idée\, d’un souvenir\, de mots\, d’une citation\, d’une émotion\, d’un moment\, d’une expérience. Cela peut prendre diverses formes et utiliser différents médiums comme le dessin\, la peinture\, le collage\, les photos\, les mots et l’écriture.\nTous les mardis\nde 17h à 18h15 – 6 places Enfants à partir de 7 ans : Séance 10 €\nde 18h30 à 20h00 – 8 places Ados à partir de 14 ans et Adultes. Séance : 15€\nsur Réservation : 06 15 72 08 99
URL:https://crocoule.org/notre-evenement/saint-galmier-les-parentheses-creatives/
CATEGORIES:07 ans +,Activité en semaine,Adultes,Jeune Public,Tous les événements
END:VEVENT
BEGIN:VEVENT
DTSTART;TZID=Europe/Paris:20260228T100000
DTEND;TZID=Europe/Paris:20260228T120000
DTSTAMP:20260421T001953
CREATED:20251114T105551Z
LAST-MODIFIED:20260105T154316Z
UID:10012340-1772272800-1772280000@crocoule.org
SUMMARY:Saint cyr les vignes | Visite guidée de la Ferme des délices
DESCRIPTION:7\,50€/adulte-6\,50€/enfant inclut la boule de glace\nGratuit – de 3 ans/Avec glace : 2\,20€\nLa durée indiquée n’inclut pas le temps de dégustation.
URL:https://crocoule.org/notre-evenement/saint-cyr-les-vignes-visite-guidee-de-la-ferme-des-delices-5/
LOCATION:Ferme Des Délices Foréziens\, 1230 Les Sermages\, Saint-Cyr-les-Vignes\, 42210
CATEGORIES:07 ans +,Activité pendant les vacances,Adultes,En famille,Tous les événements
ATTACH;FMTTYPE=image/jpeg:https://crocoule.org/wp-content/uploads/2026/01/91b7bc_8b7bcce4c68d47bc916953ab15ffd73emv2-ZVzmq6.jpg
END:VEVENT
BEGIN:VEVENT
DTSTART;TZID=Europe/Paris:20260228T100000
DTEND;TZID=Europe/Paris:20260228T120000
DTSTAMP:20260421T001953
CREATED:20251114T110525Z
LAST-MODIFIED:20251114T142415Z
UID:10012355-1772272800-1772280000@crocoule.org
SUMMARY:Saint-Étienne | Atelier "Entre deux rives"
DESCRIPTION:EN TRIBU. Enjamber des rivières\, rejoindre une île\, transporter de l’eau… venez découvrir les milles et une utilités des ponts. Saurez-vous relever les défis pour réparer le pont du village d’Explora ? Construisez plusieurs ponts avec du matériel qui sort de l’ordinaire et votre imagination.
URL:https://crocoule.org/notre-evenement/saint-etienne-atelier-entre-deux-rives-5/
CATEGORIES:07 ans +,08 ans +,09 ans +,Activité du week-end,En famille,Jeune Public,Tous les événements
ATTACH;FMTTYPE=image/jpeg:https://crocoule.org/wp-content/uploads/2025/11/Entre-deux-rives-min-1-pcIwmB.jpg
END:VEVENT
END:VCALENDAR