BEGIN:VCALENDAR
VERSION:2.0
PRODID:-//Crocoule - ECPv6.15.15//NONSGML v1.0//EN
CALSCALE:GREGORIAN
METHOD:PUBLISH
X-ORIGINAL-URL:https://crocoule.org
X-WR-CALDESC:Évènements pour Crocoule
REFRESH-INTERVAL;VALUE=DURATION:PT1H
X-Robots-Tag:noindex
X-PUBLISHED-TTL:PT1H
BEGIN:VTIMEZONE
TZID:Europe/Paris
BEGIN:DAYLIGHT
TZOFFSETFROM:+0100
TZOFFSETTO:+0200
TZNAME:CEST
DTSTART:20250330T010000
END:DAYLIGHT
BEGIN:STANDARD
TZOFFSETFROM:+0200
TZOFFSETTO:+0100
TZNAME:CET
DTSTART:20251026T010000
END:STANDARD
BEGIN:DAYLIGHT
TZOFFSETFROM:+0100
TZOFFSETTO:+0200
TZNAME:CEST
DTSTART:20260329T010000
END:DAYLIGHT
BEGIN:STANDARD
TZOFFSETFROM:+0200
TZOFFSETTO:+0100
TZNAME:CET
DTSTART:20261025T010000
END:STANDARD
BEGIN:DAYLIGHT
TZOFFSETFROM:+0100
TZOFFSETTO:+0200
TZNAME:CEST
DTSTART:20270328T010000
END:DAYLIGHT
BEGIN:STANDARD
TZOFFSETFROM:+0200
TZOFFSETTO:+0100
TZNAME:CET
DTSTART:20271031T010000
END:STANDARD
END:VTIMEZONE
BEGIN:VEVENT
DTSTART;TZID=Europe/Paris:20260404T100000
DTEND;TZID=Europe/Paris:20261101T180000
DTSTAMP:20260420T040511
CREATED:20260228T170319Z
LAST-MODIFIED:20260228T170319Z
UID:10012826-1775296800-1793556000@crocoule.org
SUMMARY:LE CHEYLARD | GRAINES : l'expo !
DESCRIPTION:Durée de visite : 1h30 environ \nCette exposition\, vous plongera des le monde secret et fascinant des plantes et des graines. Une exposition interactive pour la famille. De nombreux événemenst et ateliers programmées autour de cette thématique. \nAdulte (du 15/04/2025 au 02/11/2025)        6€\nEnfant (du 15/04/2025 au 02/11/2025)        4€\nForfait famille (du 15/04/2025 au 02/11/2025)\n2 adultes\, 2 enfants + 2€ par enfant supplémentaire\n18€
URL:https://crocoule.org/notre-evenement/le-cheylard-graines-lexpo/
CATEGORIES:06 ans +,Activité du week-end,Activité en semaine,Activité pendant les vacances,Adultes,En famille,Expo,Tous les événements
ATTACH;FMTTYPE=image/jpeg:https://crocoule.org/wp-content/uploads/2026/02/AFFICHE-GRAINES-FORMAT-A4-ADM-V8-l5BSdZ.jpg
END:VEVENT
BEGIN:VEVENT
DTSTART;TZID=Europe/Paris:20260404T140000
DTEND;TZID=Europe/Paris:20261101T180000
DTSTAMP:20260420T040511
CREATED:20260228T170512Z
LAST-MODIFIED:20260228T170512Z
UID:10012858-1775311200-1793556000@crocoule.org
SUMMARY:LE CHEYLARD | Exposition "Graines : comment naissent les plantes ?"
DESCRIPTION:« 6€adulte\n 4€enfant\n Forfait famille 2adt + 2 enfts 18 €+ 2 €par enfant supll. »
URL:https://crocoule.org/notre-evenement/le-cheylard-exposition-graines-comment-naissent-les-plantes/
CATEGORIES:06 ans +,Tous les événements
END:VEVENT
BEGIN:VEVENT
DTSTART;TZID=Europe/Paris:20260429T143000
DTEND;TZID=Europe/Paris:20260429T160000
DTSTAMP:20260420T040511
CREATED:20260228T170457Z
LAST-MODIFIED:20260228T170457Z
UID:10012856-1777473000-1777478400@crocoule.org
SUMMARY:LE CHEYLARD | Archie le robot
DESCRIPTION:Archie le robot sait presque tout faire… à vous de lui apprendre ! Pilotez-le sans ordinateur et relevez des défis ludiques pour le faire obéir au doigt et à l’œil. \nÀ savoir :\nÀ partir de 6 ans\nDurée 1h30\nAccompagnateur adulte non requis
URL:https://crocoule.org/notre-evenement/le-cheylard-archie-le-robot/
CATEGORIES:06 ans +,Tous les événements
END:VEVENT
BEGIN:VEVENT
DTSTART;TZID=Europe/Paris:20260429T143000
DTEND;TZID=Europe/Paris:20260429T163000
DTSTAMP:20260420T040511
CREATED:20260228T170357Z
LAST-MODIFIED:20260228T170357Z
UID:10012843-1777473000-1777480200@crocoule.org
SUMMARY:ST CLEMENT | Chauves-souris\, reines de la nuit
DESCRIPTION:Mystérieuses et souvent méconnues\, les chauves-souris sont pourtant bien présentes autour de nous. Mais où se nourrissent-elles ? Où trouvent-elles refuge ? Comment survivent-elles en hiver ? \nÀ travers une chasse au trésor interactive\, explorez les différents habitats qu’elles utilisent au fil des saisons. Observation\, indices et découvertes vous permettront de mieux comprendre ces étonnants mammifères volants. \nUne animation ludique pour lever les idées reçues et porter un nouveau regard sur ces reines de la nuit. \nÀ savoir :\nÀ partir de 6 ans\nDurée 2h\nCette animation nécessite la présence d’un adulte accompagnateur (la place adulte est payante).
URL:https://crocoule.org/notre-evenement/st-clement-chauves-souris-reines-de-la-nuit/
LOCATION:École du vent\, Le Village\, Saint-Clément\, 07310
CATEGORIES:06 ans +,Tous les événements
END:VEVENT
BEGIN:VEVENT
DTSTART;TZID=Europe/Paris:20260429T150000
DTEND;TZID=Europe/Paris:20260429T154500
DTSTAMP:20260420T040511
CREATED:20260303T171134Z
LAST-MODIFIED:20260303T171134Z
UID:10013312-1777474800-1777477500@crocoule.org
SUMMARY:Saint-Chamond | Pillowgraphies
DESCRIPTION:Spectacle poétique et graphique pour sept draps blancs et lumière noire\, Pillowgraphies s’autorise à faire toutes les bêtises que nous imaginions enfants. Un ballet pour fantômes survoltés !
URL:https://crocoule.org/notre-evenement/saint-chamond-pillowgraphies/
LOCATION:Salle Aristide Briand\, Parc Nelson Mandela\, avenue Antoine Pinay\, saint chamond\, 42400\, France
CATEGORIES:06 ans +,Tous les événements
ATTACH;FMTTYPE=image/jpeg:https://crocoule.org/wp-content/uploads/2025/07/Visuel-21-Pillowgraphies-1200x650-mnuhiS.jpg
END:VEVENT
END:VCALENDAR