BEGIN:VCALENDAR
VERSION:2.0
PRODID:-//Crocoule - ECPv6.15.15//NONSGML v1.0//EN
CALSCALE:GREGORIAN
METHOD:PUBLISH
X-ORIGINAL-URL:https://crocoule.org
X-WR-CALDESC:Évènements pour Crocoule
REFRESH-INTERVAL;VALUE=DURATION:PT1H
X-Robots-Tag:noindex
X-PUBLISHED-TTL:PT1H
BEGIN:VTIMEZONE
TZID:Europe/Paris
BEGIN:DAYLIGHT
TZOFFSETFROM:+0100
TZOFFSETTO:+0200
TZNAME:CEST
DTSTART:20250330T010000
END:DAYLIGHT
BEGIN:STANDARD
TZOFFSETFROM:+0200
TZOFFSETTO:+0100
TZNAME:CET
DTSTART:20251026T010000
END:STANDARD
BEGIN:DAYLIGHT
TZOFFSETFROM:+0100
TZOFFSETTO:+0200
TZNAME:CEST
DTSTART:20260329T010000
END:DAYLIGHT
BEGIN:STANDARD
TZOFFSETFROM:+0200
TZOFFSETTO:+0100
TZNAME:CET
DTSTART:20261025T010000
END:STANDARD
BEGIN:DAYLIGHT
TZOFFSETFROM:+0100
TZOFFSETTO:+0200
TZNAME:CEST
DTSTART:20270328T010000
END:DAYLIGHT
BEGIN:STANDARD
TZOFFSETFROM:+0200
TZOFFSETTO:+0100
TZNAME:CET
DTSTART:20271031T010000
END:STANDARD
END:VTIMEZONE
BEGIN:VEVENT
DTSTART;TZID=Europe/Paris:20260709T143000
DTEND;TZID=Europe/Paris:20260709T163000
DTSTAMP:20260421T202515
CREATED:20260105T154357Z
LAST-MODIFIED:20260228T222907Z
UID:10012703-1783607400-1783614600@crocoule.org
SUMMARY:Saint cyr les vignes | Visite animée "Top glacier"
DESCRIPTION:11\,50€/pers inclut la coupe glacée\nGratuit – de 2 ans/Avec glace : 5€
URL:https://crocoule.org/notre-evenement/saint-cyr-les-vignes-visite-animee-top-glacier/
LOCATION:Ferme Des Délices Foréziens\, 1230 Les Sermages\, Saint-Cyr-les-Vignes\, 42210
CATEGORIES:05 ans +,Activité pendant les vacances,En famille,Tous les événements
ATTACH;FMTTYPE=image/jpeg:https://crocoule.org/wp-content/uploads/2026/01/91b7bc_f51d42372bac4941a106ad64520ba5f2mv2-KyQ3Q5.jpg
END:VEVENT
BEGIN:VEVENT
DTSTART;TZID=Europe/Paris:20260709T153000
DTEND;TZID=Europe/Paris:20260709T170000
DTSTAMP:20260421T202515
CREATED:20260301T121150Z
LAST-MODIFIED:20260301T121150Z
UID:10013161-1783611000-1783616400@crocoule.org
SUMMARY:Montbrison | Visite commentée
DESCRIPTION:Embarquez pour une visite théâtralisée ! Une médiatrice prend le costume et vous conte l’exposition sous les\ntraits d’un personnage du monde de la mer.  tarif: 3€50/enfant  5€/adulte
URL:https://crocoule.org/notre-evenement/montbrison-visite-commentee-6/
CATEGORIES:05 ans +,06 ans +,07 ans +,08 ans +,09 ans +,10 ans +,11 ans +,12 ans +,Activité en semaine,Activité pendant les vacances,Adultes,En famille,Expo,Intérieur,Tous les événements
END:VEVENT
END:VCALENDAR