BEGIN:VCALENDAR
VERSION:2.0
PRODID:-//Crocoule - ECPv6.15.15//NONSGML v1.0//EN
CALSCALE:GREGORIAN
METHOD:PUBLISH
X-ORIGINAL-URL:https://crocoule.org
X-WR-CALDESC:Évènements pour Crocoule
REFRESH-INTERVAL;VALUE=DURATION:PT1H
X-Robots-Tag:noindex
X-PUBLISHED-TTL:PT1H
BEGIN:VTIMEZONE
TZID:Europe/Paris
BEGIN:DAYLIGHT
TZOFFSETFROM:+0100
TZOFFSETTO:+0200
TZNAME:CEST
DTSTART:20250330T010000
END:DAYLIGHT
BEGIN:STANDARD
TZOFFSETFROM:+0200
TZOFFSETTO:+0100
TZNAME:CET
DTSTART:20251026T010000
END:STANDARD
BEGIN:DAYLIGHT
TZOFFSETFROM:+0100
TZOFFSETTO:+0200
TZNAME:CEST
DTSTART:20260329T010000
END:DAYLIGHT
BEGIN:STANDARD
TZOFFSETFROM:+0200
TZOFFSETTO:+0100
TZNAME:CET
DTSTART:20261025T010000
END:STANDARD
BEGIN:DAYLIGHT
TZOFFSETFROM:+0100
TZOFFSETTO:+0200
TZNAME:CEST
DTSTART:20270328T010000
END:DAYLIGHT
BEGIN:STANDARD
TZOFFSETFROM:+0200
TZOFFSETTO:+0100
TZNAME:CET
DTSTART:20271031T010000
END:STANDARD
END:VTIMEZONE
BEGIN:VEVENT
DTSTART;TZID=Europe/Paris:20260301T140000
DTEND;TZID=Europe/Paris:20260419T180000
DTSTAMP:20260421T154027
CREATED:20260228T172851Z
LAST-MODIFIED:20260228T172851Z
UID:10012912-1772373600-1776621600@crocoule.org
SUMMARY:Saint-Étienne | Juliette et l'atelier des lettres
DESCRIPTION:Un atelier graphique à La Cabane  \nQuand Juliette part poursuivre ses études au Pérou\, elle découvre dans les rues de Lima les affiches Chicha :  des affiches de concert\, avec de gros lettrages et des couleurs fluo\, placardées sur les murs.  \nDe retour en France\, Juliette s’inspire de l’art Chicha dans son travail et construit son propre alphabet.  \nDu 20 janvier au 19 avril 2026\, La Cabane vous invite à découvrir son travail graphique et à vous exercer à la culture graphique Chicha\, un mix entre typographie et imagerie populaire. Horaires d’ouverture de la Cabane-accès libre et gratuit\nMardi jeudi et vendredi : 16h-18h\nMercredi\, samedi et dimanche : 14h-18h\nFermeture les lundis ainsi que les 1er et 8 mai et jeudi de l’ascension
URL:https://crocoule.org/notre-evenement/saint-etienne-juliette-et-latelier-des-lettres/
LOCATION:La Cabane – Cité du design\, 5 rue Javellin Pagnon\, Saint-Etienne\, 42000
CATEGORIES:05 ans +,Tous les événements
END:VEVENT
BEGIN:VEVENT
DTSTART;TZID=Europe/Paris:20260301T140000
DTEND;TZID=Europe/Paris:20260419T180000
DTSTAMP:20260421T154027
CREATED:20260228T172854Z
LAST-MODIFIED:20260228T172854Z
UID:10012915-1772373600-1776621600@crocoule.org
SUMMARY:Saint-Étienne | L'Esperluette
DESCRIPTION:L’esperluette\, l’espace de design graphique de La Cabane\, accueille un atelier de Juliette Mottier et invite les visiteurs à s’exercer à la culture graphique Chicha\, un mix entre typographie et imagerie populaire. Horaires d’ouverture de la Cabane-accès libre et gratuit\nMardi jeudi et vendredi : 16h-18h\nMercredi\, samedi et dimanche : 14h-18h\nFermeture les lundis ainsi que les 1er et 8 mai et jeudi de l’ascension
URL:https://crocoule.org/notre-evenement/saint-etienne-lesperluette-2/
CATEGORIES:05 ans +,Tous les événements
END:VEVENT
BEGIN:VEVENT
DTSTART;TZID=Europe/Paris:20260404T140000
DTEND;TZID=Europe/Paris:20260420T170000
DTSTAMP:20260421T154027
CREATED:20260228T171320Z
LAST-MODIFIED:20260228T171320Z
UID:10012860-1775311200-1776704400@crocoule.org
SUMMARY:Andrezieux | Atelier_stage
DESCRIPTION:Les Stages se déroulent tous les après-midi des vacances de 14h à 17h\, pendant 3 heures et par groupes de 12 enfants maximum\, vos enfants vont construire nos modèles exclusifs sur la thématique « le monde des sorciers. » \nEncadrés par nos animateurs\, la première heure et demie sera dédiée à la construction de modèles motorisés sur la thématique des vacances (araignées qui se déplacent\, sorcière sur son balai qui tourne\, chaudron animé\, etc). En plus de travailler leur dextérité et de les sensibiliser à l’ingénierie avec l’utilisation de rouages et d’essieux\, nous profiterons de leurs constructions pour leur apporter quelques connaissances\, anecdotes sur les sorciers et leurs univers. \nAprès ce premier temps « imposé »\, nous nous adapterons aux enfants et au groupe du jour afin de leur proposer d’autres activités. Ils pourront par exemple construire d’autres modèles de notre crue sur un sujet qui les passionne ou alors faire du jeu libre et bâtir le décor de leur choix en lien avec les modèles précédemment construit\, mais encore mettre en scène leurs créations et réaliser une BD ou un court-métrage.\nSelon la dynamique du groupe et la volonté des enfants. Aussi\, nous les métrons au défi avec des challenges collaboratifs (construction d’un mur avec des contraintes\, challenge comme l’émission brick master etc) \nNous sommes impatients de recevoir vos enfants !\nLe tarif à la demi-journée est initialement à 35 euros\, mais il revient à 29 euros avec le code promo CROCOULE`
URL:https://crocoule.org/notre-evenement/andrezieux-atelier_stage-6/
LOCATION:BRICK4KIDZS ST ETIENNE\, 242 Rue Pierre-Georges Latécoère\, ANDREZIEUX\, 42160
CATEGORIES:05 ans +,06 ans +,07 ans +,08 ans +,09 ans +,10 ans +,11 ans +,12 ans +,Activité du week-end,Activité pendant les vacances,Intérieur,Tous les événements
ATTACH;FMTTYPE=image/jpeg:https://crocoule.org/wp-content/uploads/2025/02/DSC00718-1024x683-d6rzTS.tmp_.jpg
END:VEVENT
BEGIN:VEVENT
DTSTART;TZID=Europe/Paris:20260409T140000
DTEND;TZID=Europe/Paris:20260420T170000
DTSTAMP:20260421T154027
CREATED:20251113T151300Z
LAST-MODIFIED:20260327T155817Z
UID:10012175-1775743200-1776704400@crocoule.org
SUMMARY:Andrezieux et St Etienne | ⭐CODE PROMO ⭐stage BRICKS4KIDZ
DESCRIPTION:Les Stages se déroulent tous les après-midi des vacances de 14h à 17h\, pendant 3 heures et par groupes de 12 enfants maximum\, vos enfants vont construire nos modèles exclusifs sur la thématique « le monde des sorciers. » \nEncadrés par nos animateurs\, la première heure et demie sera dédiée à la construction de modèles motorisés sur la thématique des vacances (araignées qui se déplacent\, sorcière sur son balai qui tourne\, chaudron animé\, etc). En plus de travailler leur dextérité et de les sensibiliser à l’ingénierie avec l’utilisation de rouages et d’essieux\, nous profiterons de leurs constructions pour leur apporter quelques connaissances\, anecdotes sur les sorciers et leurs univers. \nAprès ce premier temps « imposé »\, nous nous adapterons aux enfants et au groupe du jour afin de leur proposer d’autres activités. Ils pourront par exemple construire d’autres modèles de notre crue sur un sujet qui les passionne ou alors faire du jeu libre et bâtir le décor de leur choix en lien avec les modèles précédemment construit\, mais encore mettre en scène leurs créations et réaliser une BD ou un court-métrage.\nSelon la dynamique du groupe et la volonté des enfants. Aussi\, nous les métrons au défi avec des challenges collaboratifs (construction d’un mur avec des contraintes\, challenge comme l’émission brick master etc) \nNous sommes impatients de recevoir vos enfants !\nLe tarif à la demi-journée est initialement à 29 EURO\, AVEC LE CODE PROMO « BRICK20 » CE SERA À 20€ !
URL:https://crocoule.org/notre-evenement/andrezieux-atelier_stage-5/
LOCATION:BRICK4KIDZS ST ETIENNE\, 242 Rue Pierre-Georges Latécoère\, ANDREZIEUX\, 42160
CATEGORIES:05 ans +,06 ans +,07 ans +,08 ans +,09 ans +,10 ans +,11 ans +,12 ans +,Activité du week-end,Activité pendant les vacances,Intérieur,Tous les événements
ATTACH;FMTTYPE=image/jpeg:https://crocoule.org/wp-content/uploads/2025/11/andrezieux-stage-vacances-saint-etienne-5-1772717889.jpeg
END:VEVENT
BEGIN:VEVENT
DTSTART;TZID=Europe/Paris:20260409T150000
DTEND;TZID=Europe/Paris:20260409T163000
DTSTAMP:20260421T154027
CREATED:20260228T181630Z
LAST-MODIFIED:20260228T181630Z
UID:10012943-1775746800-1775752200@crocoule.org
SUMMARY:Saint-Nizier-sous-Charlieu | Plumes et P'tites feuilles en famille
DESCRIPTION:Dans le cadre paisible et inspirant du couvent des cordeliers\, venez créer un tableau à partir de matières végétales : feuilles\, fleurs séchées\, écorces\, graines et fibre naturels. Pas à pas\, vous composerez une œuvre unique en jouant avec les formes\, les textures et les couleurs de la nature. Un moment de calme et de créativité et de reconnexion à la nature…vous repartez avec votre tableau.
URL:https://crocoule.org/notre-evenement/saint-nizier-sous-charlieu-plumes-et-ptites-feuilles-en-famille/
LOCATION:Couvent des Cordeliers\, 1 Chem. des Cordeliers\, Charlieu\, 42190
CATEGORIES:05 ans +,Activité pendant les vacances,Jeune Public,Tous les événements
END:VEVENT
END:VCALENDAR