BEGIN:VCALENDAR
VERSION:2.0
PRODID:-//Crocoule - ECPv6.15.20//NONSGML v1.0//EN
CALSCALE:GREGORIAN
METHOD:PUBLISH
X-WR-CALNAME:Crocoule
X-ORIGINAL-URL:https://crocoule.org
X-WR-CALDESC:Évènements pour Crocoule
REFRESH-INTERVAL;VALUE=DURATION:PT1H
X-Robots-Tag:noindex
X-PUBLISHED-TTL:PT1H
BEGIN:VTIMEZONE
TZID:Europe/Paris
BEGIN:DAYLIGHT
TZOFFSETFROM:+0100
TZOFFSETTO:+0200
TZNAME:CEST
DTSTART:20250330T010000
END:DAYLIGHT
BEGIN:STANDARD
TZOFFSETFROM:+0200
TZOFFSETTO:+0100
TZNAME:CET
DTSTART:20251026T010000
END:STANDARD
BEGIN:DAYLIGHT
TZOFFSETFROM:+0100
TZOFFSETTO:+0200
TZNAME:CEST
DTSTART:20260329T010000
END:DAYLIGHT
BEGIN:STANDARD
TZOFFSETFROM:+0200
TZOFFSETTO:+0100
TZNAME:CET
DTSTART:20261025T010000
END:STANDARD
BEGIN:DAYLIGHT
TZOFFSETFROM:+0100
TZOFFSETTO:+0200
TZNAME:CEST
DTSTART:20270328T010000
END:DAYLIGHT
BEGIN:STANDARD
TZOFFSETFROM:+0200
TZOFFSETTO:+0100
TZNAME:CET
DTSTART:20271031T010000
END:STANDARD
END:VTIMEZONE
BEGIN:VEVENT
DTSTART;TZID=Europe/Paris:20260207T093000
DTEND;TZID=Europe/Paris:20260207T130000
DTSTAMP:20260423T150457
CREATED:20260130T164939Z
LAST-MODIFIED:20260228T161832Z
UID:10012763-1770456600-1770469200@crocoule.org
SUMMARY:Saint-Galmier | Les Expériences créatives du Samedi : Fais un Portrait
DESCRIPTION:Initiation au dessin du portrait :\nRéalisation d’un portrait au crayon\, fusain\, aux feutres\, à l’aquarelle ou à la peinture\nde 9h30 à 11h Enfants à partir de 6 ans – 10 €\nde 11h à 13h Ados/ Adultes – 15€\nChaque mois Eziok propose une séance sur le portrait\, intégre une séance et évolue à ton rythme\nTemps 1 : Respect des proportions du visage\nTemps 2 : Les Yeux\nTemps 3 : Le nez et la bouche\nTemps 4 : la chevelure\nTemps 5 : Les ombres\nSur réservation : 06 15 72 08 99\n42 330 Saint- Galmier – Boutique de Créateurs – Animations créatives et gourmandes
URL:https://crocoule.org/notre-evenement/saint-galmier-les-experiences-creatives-du-samedi-fais-un-portrait/
CATEGORIES:05 ans +,Activité du week-end,Adultes,Tous les événements
END:VEVENT
END:VCALENDAR