BEGIN:VCALENDAR
VERSION:2.0
PRODID:-//Crocoule - ECPv6.15.15//NONSGML v1.0//EN
CALSCALE:GREGORIAN
METHOD:PUBLISH
X-WR-CALNAME:Crocoule
X-ORIGINAL-URL:https://crocoule.org
X-WR-CALDESC:Évènements pour Crocoule
REFRESH-INTERVAL;VALUE=DURATION:PT1H
X-Robots-Tag:noindex
X-PUBLISHED-TTL:PT1H
BEGIN:VTIMEZONE
TZID:Europe/Paris
BEGIN:DAYLIGHT
TZOFFSETFROM:+0100
TZOFFSETTO:+0200
TZNAME:CEST
DTSTART:20250330T010000
END:DAYLIGHT
BEGIN:STANDARD
TZOFFSETFROM:+0200
TZOFFSETTO:+0100
TZNAME:CET
DTSTART:20251026T010000
END:STANDARD
BEGIN:DAYLIGHT
TZOFFSETFROM:+0100
TZOFFSETTO:+0200
TZNAME:CEST
DTSTART:20260329T010000
END:DAYLIGHT
BEGIN:STANDARD
TZOFFSETFROM:+0200
TZOFFSETTO:+0100
TZNAME:CET
DTSTART:20261025T010000
END:STANDARD
BEGIN:DAYLIGHT
TZOFFSETFROM:+0100
TZOFFSETTO:+0200
TZNAME:CEST
DTSTART:20270328T010000
END:DAYLIGHT
BEGIN:STANDARD
TZOFFSETFROM:+0200
TZOFFSETTO:+0100
TZNAME:CET
DTSTART:20271031T010000
END:STANDARD
END:VTIMEZONE
BEGIN:VEVENT
DTSTART;TZID=Europe/Paris:20260117T103000
DTEND;TZID=Europe/Paris:20260117T120000
DTSTAMP:20260422T010909
CREATED:20251113T151318Z
LAST-MODIFIED:20260228T164159Z
UID:10012194-1768645800-1768651200@crocoule.org
SUMMARY:Saint MARCELLIN en forez  | Aide moi à devenir une vraie sorcière
DESCRIPTION:On mélange et on teste de nouvelles potions magiques
URL:https://crocoule.org/notre-evenement/saint-marcellin-en-forez-aide-moi-a-devenir-une-vraie-sorciere/
LOCATION:la cabane o ptites merveilles\, 11 place des combattants\, St Marcellin\, 42680\, France
CATEGORIES:05 ans +,Tous les événements
END:VEVENT
BEGIN:VEVENT
DTSTART;TZID=Europe/Paris:20260117T150000
DTEND;TZID=Europe/Paris:20260117T163000
DTSTAMP:20260422T010909
CREATED:20251113T151324Z
LAST-MODIFIED:20260228T164257Z
UID:10012195-1768662000-1768667400@crocoule.org
SUMMARY:Saint MARCELLIN en forez  | Aide moi à devenir une vraie sorcière
DESCRIPTION:On mélange et on teste de nouvelles potions magiques
URL:https://crocoule.org/notre-evenement/saint-marcellin-en-forez-aide-moi-a-devenir-une-vraie-sorciere-2/
LOCATION:la cabane o ptites merveilles\, 11 place des combattants\, St Marcellin\, 42680\, France
CATEGORIES:05 ans +,Tous les événements
END:VEVENT
END:VCALENDAR