BEGIN:VCALENDAR
VERSION:2.0
PRODID:-//Crocoule - ECPv6.15.15//NONSGML v1.0//EN
CALSCALE:GREGORIAN
METHOD:PUBLISH
X-WR-CALNAME:Crocoule
X-ORIGINAL-URL:https://crocoule.org
X-WR-CALDESC:Évènements pour Crocoule
REFRESH-INTERVAL;VALUE=DURATION:PT1H
X-Robots-Tag:noindex
X-PUBLISHED-TTL:PT1H
BEGIN:VTIMEZONE
TZID:Europe/Paris
BEGIN:DAYLIGHT
TZOFFSETFROM:+0100
TZOFFSETTO:+0200
TZNAME:CEST
DTSTART:20250330T010000
END:DAYLIGHT
BEGIN:STANDARD
TZOFFSETFROM:+0200
TZOFFSETTO:+0100
TZNAME:CET
DTSTART:20251026T010000
END:STANDARD
BEGIN:DAYLIGHT
TZOFFSETFROM:+0100
TZOFFSETTO:+0200
TZNAME:CEST
DTSTART:20260329T010000
END:DAYLIGHT
BEGIN:STANDARD
TZOFFSETFROM:+0200
TZOFFSETTO:+0100
TZNAME:CET
DTSTART:20261025T010000
END:STANDARD
BEGIN:DAYLIGHT
TZOFFSETFROM:+0100
TZOFFSETTO:+0200
TZNAME:CEST
DTSTART:20270328T010000
END:DAYLIGHT
BEGIN:STANDARD
TZOFFSETFROM:+0200
TZOFFSETTO:+0100
TZNAME:CET
DTSTART:20271031T010000
END:STANDARD
END:VTIMEZONE
BEGIN:VEVENT
DTSTART;TZID=Europe/Paris:20260421T183000
DTEND;TZID=Europe/Paris:20260421T193000
DTSTAMP:20260421T202645
CREATED:20260228T174340Z
LAST-MODIFIED:20260228T174340Z
UID:10012921-1776796200-1776799800@crocoule.org
SUMMARY:Saint étienne | Vantournoot & Rocambonux
DESCRIPTION:Les musiciens Vantournoot & Rocmabonux accompagnent la projection de 8 courts-métrages et dessins-animés des années 20 à aujourd’hui. Sur scène : synthétiseurs\, boîtes à rythlesn ordinateurs\, contrôleurs\, platines et bidouilles diverses
URL:https://crocoule.org/notre-evenement/saint-etienne-vantournoot-rocambonux/
CATEGORIES:05 ans +,Activité en semaine,En famille,Jeune Public,Tous les événements
END:VEVENT
END:VCALENDAR