BEGIN:VCALENDAR
VERSION:2.0
PRODID:-//Crocoule - ECPv6.15.15//NONSGML v1.0//EN
CALSCALE:GREGORIAN
METHOD:PUBLISH
X-ORIGINAL-URL:https://crocoule.org
X-WR-CALDESC:Évènements pour Crocoule
REFRESH-INTERVAL;VALUE=DURATION:PT1H
X-Robots-Tag:noindex
X-PUBLISHED-TTL:PT1H
BEGIN:VTIMEZONE
TZID:Europe/Paris
BEGIN:DAYLIGHT
TZOFFSETFROM:+0100
TZOFFSETTO:+0200
TZNAME:CEST
DTSTART:20250330T010000
END:DAYLIGHT
BEGIN:STANDARD
TZOFFSETFROM:+0200
TZOFFSETTO:+0100
TZNAME:CET
DTSTART:20251026T010000
END:STANDARD
BEGIN:DAYLIGHT
TZOFFSETFROM:+0100
TZOFFSETTO:+0200
TZNAME:CEST
DTSTART:20260329T010000
END:DAYLIGHT
BEGIN:STANDARD
TZOFFSETFROM:+0200
TZOFFSETTO:+0100
TZNAME:CET
DTSTART:20261025T010000
END:STANDARD
BEGIN:DAYLIGHT
TZOFFSETFROM:+0100
TZOFFSETTO:+0200
TZNAME:CEST
DTSTART:20270328T010000
END:DAYLIGHT
BEGIN:STANDARD
TZOFFSETFROM:+0200
TZOFFSETTO:+0100
TZNAME:CET
DTSTART:20271031T010000
END:STANDARD
END:VTIMEZONE
BEGIN:VEVENT
DTSTART;TZID=Europe/Paris:20260505T183000
DTEND;TZID=Europe/Paris:20260505T193000
DTSTAMP:20260421T185143
CREATED:20260228T174340Z
LAST-MODIFIED:20260228T174340Z
UID:10012922-1778005800-1778009400@crocoule.org
SUMMARY:Saint étienne | Ça scratche ?
DESCRIPTION:Ça scratche est un ensemble d’une vingtaine de djs qui scratche sur scène ! La projet a été créé par le fil et se fera avec les élèves des Orchestres à l’école pour cette édition 2026
URL:https://crocoule.org/notre-evenement/saint-etienne-ca-scratche/
CATEGORIES:05 ans +,Activité en semaine,En famille,Gratuit,Jeune Public,Tous les événements
END:VEVENT
BEGIN:VEVENT
DTSTART;TZID=Europe/Paris:20260506T103000
DTEND;TZID=Europe/Paris:20260506T120000
DTSTAMP:20260421T185143
CREATED:20260228T171936Z
LAST-MODIFIED:20260228T171936Z
UID:10012894-1778063400-1778068800@crocoule.org
SUMMARY:Saint MARCELLIN en forez  | Tourne Jolie Toupie
DESCRIPTION:Avec juste un verre en carton\, des feutres et un long pique en bois\, nous allons réaliser la plus belle des toupies
URL:https://crocoule.org/notre-evenement/saint-marcellin-en-forez-tourne-jolie-toupie/
LOCATION:la cabane o ptites merveilles\, 11 place des combattants\, St Marcellin\, 42680\, France
CATEGORIES:05 ans +,Tous les événements
END:VEVENT
BEGIN:VEVENT
DTSTART;TZID=Europe/Paris:20260509T090000
DTEND;TZID=Europe/Paris:20260509T100000
DTSTAMP:20260421T185143
CREATED:20260228T144315Z
LAST-MODIFIED:20260228T200935Z
UID:10012796-1778317200-1778320800@crocoule.org
SUMMARY:Saint-Étienne | Atelier "Jeux d'optique"
DESCRIPTION:EN TRIBU. Dis comment fait-on les dessins animés ? Petits et grands construisent ensemble deux jeux d’optique pour mettre des images en mouvement.
URL:https://crocoule.org/notre-evenement/saint-etienne-atelier-jeux-doptique-9/
CATEGORIES:03 ans +,04 ans +,05 ans +,06 ans +,Activité du week-end,En famille,Jeune Public,Tous les événements
ATTACH;FMTTYPE=image/jpeg:https://crocoule.org/wp-content/uploads/2026/02/IMG_20240110_102813_edit_136016121576640-min-min-e1756283751725-MOAWD2.jpg
END:VEVENT
BEGIN:VEVENT
DTSTART;TZID=Europe/Paris:20260509T103000
DTEND;TZID=Europe/Paris:20260509T113000
DTSTAMP:20260421T185143
CREATED:20260228T144316Z
LAST-MODIFIED:20260228T200936Z
UID:10012797-1778322600-1778326200@crocoule.org
SUMMARY:Saint-Étienne | Atelier "Jeux d'optique"
DESCRIPTION:EN TRIBU. Dis comment fait-on les dessins animés ? Petits et grands construisent ensemble deux jeux d’optique pour mettre des images en mouvement.
URL:https://crocoule.org/notre-evenement/saint-etienne-atelier-jeux-doptique-10/
CATEGORIES:03 ans +,04 ans +,05 ans +,06 ans +,Activité du week-end,En famille,Jeune Public,Tous les événements
ATTACH;FMTTYPE=image/jpeg:https://crocoule.org/wp-content/uploads/2026/02/IMG_20240110_102813_edit_136016121576640-min-min-e1756283751725-MOAWD2.jpg
END:VEVENT
BEGIN:VEVENT
DTSTART;TZID=Europe/Paris:20260513T103000
DTEND;TZID=Europe/Paris:20260513T120000
DTSTAMP:20260421T185143
CREATED:20260228T171936Z
LAST-MODIFIED:20260228T171936Z
UID:10012896-1778668200-1778673600@crocoule.org
SUMMARY:Saint MARCELLIN en forez  | Vase de fleurs
DESCRIPTION:Decoration simple mais poetique en fleurs
URL:https://crocoule.org/notre-evenement/saint-marcellin-en-forez-vase-de-fleurs/
LOCATION:la cabane o ptites merveilles\, 11 place des combattants\, St Marcellin\, 42680\, France
CATEGORIES:05 ans +,Tous les événements
END:VEVENT
BEGIN:VEVENT
DTSTART;TZID=Europe/Paris:20260513T150000
DTEND;TZID=Europe/Paris:20260513T163000
DTSTAMP:20260421T185143
CREATED:20260228T171950Z
LAST-MODIFIED:20260228T171950Z
UID:10012897-1778684400-1778689800@crocoule.org
SUMMARY:Saint MARCELLIN en forez  | Vase de fleurs
DESCRIPTION:Decoration simple mais poetique en fleurs
URL:https://crocoule.org/notre-evenement/saint-marcellin-en-forez-vase-de-fleurs-2/
LOCATION:la cabane o ptites merveilles\, 11 place des combattants\, St Marcellin\, 42680\, France
CATEGORIES:05 ans +,Tous les événements
END:VEVENT
BEGIN:VEVENT
DTSTART;TZID=Europe/Paris:20260516T100000
DTEND;TZID=Europe/Paris:20260516T180000
DTSTAMP:20260421T185143
CREATED:20260301T112220Z
LAST-MODIFIED:20260301T112220Z
UID:10013069-1778925600-1778954400@crocoule.org
SUMMARY:Saint-Galmier | Les Expériences créatives du samedi Atelier Masques de Venise avec Eziok
DESCRIPTION:de 10h à 18h\nFais ton masque de Venise – environ 1h -10 €/ le masque dans le cadre de Saint-Galmier accueille Venise\nChoisis un masque et customise-le !(Peinture\, feutres\, strass perle dentelle\, gem plumes paillettes\, rubans fleurs\, pompons)\nou ton masque animal à partir de 5 ans – 5€ environ 45 minutes\nsur réservation : 06 15 72 08 99 ou localdu4@gmail.com\n42 330 Saint- Galmier – Boutique de Créateurs – Animations créatives et gourmandes
URL:https://crocoule.org/notre-evenement/saint-galmier-les-experiences-creatives-du-samedi-atelier-masques-de-venise-avec-eziok/
CATEGORIES:05 ans +,Activité du week-end,Intérieur,Tous les événements
END:VEVENT
BEGIN:VEVENT
DTSTART;TZID=Europe/Paris:20260516T140000
DTEND;TZID=Europe/Paris:20260516T230000
DTSTAMP:20260421T185143
CREATED:20260301T121150Z
LAST-MODIFIED:20260301T121150Z
UID:10013159-1778940000-1778972400@crocoule.org
SUMMARY:Montbrison | Nuit des musées
DESCRIPTION:
URL:https://crocoule.org/notre-evenement/montbrison-nuit-des-musees-2/
CATEGORIES:05 ans +,06 ans +,07 ans +,08 ans +,09 ans +,10 ans +,11 ans +,12 ans +,Activité du week-end,Adultes,En famille,Expo,Gratuit,Intérieur,Tous les événements
END:VEVENT
BEGIN:VEVENT
DTSTART;TZID=Europe/Paris:20260517T100000
DTEND;TZID=Europe/Paris:20260517T180000
DTSTAMP:20260421T185143
CREATED:20260301T112234Z
LAST-MODIFIED:20260301T112234Z
UID:10013070-1779012000-1779040800@crocoule.org
SUMMARY:Saint-Galmier | Les Expériences créatives du dimanche Atelier MASQUES DE VENISE en EXTERIEUR au Parc Joannes Moulard à Saint- Galmier avec Eziok
DESCRIPTION:Fais ton masque de Venise – environ 1h -10 €/ le masque dans le cadre de Saint-Galmier accueille Venise\nChoisis un masque et customise-le !(Peinture\, feutres\, strass perle dentelle\, gem plumes paillettes\, rubans fleurs\, pompons)\nou ton masque animal à partir de 5 ans – 5€ environ 45 minutes\nsur réservation : 06 15 72 08 99 ou localdu4@gmail.com\n42 330 Saint- Galmier – Boutique de Créateurs – Animations créatives et gourmandes
URL:https://crocoule.org/notre-evenement/saint-galmier-les-experiences-creatives-du-dimanche-atelier-masques-de-venise-en-exterieur-au-parc-joannes-moulard-a-saint-galmier-avec-eziok/
CATEGORIES:05 ans +,Activité du week-end,Exterieur,Tous les événements
END:VEVENT
BEGIN:VEVENT
DTSTART;TZID=Europe/Paris:20260523T143000
DTEND;TZID=Europe/Paris:20260523T173000
DTSTAMP:20260421T185143
CREATED:20260228T174846Z
LAST-MODIFIED:20260228T174846Z
UID:10012926-1779546600-1779557400@crocoule.org
SUMMARY:Sauvain  | Un après-midi nature à la Réserve
DESCRIPTION:Observation des animaux et plantes qui\npeuplent cet écrin de biodiversité.\nUne aventure amusante et enrichissante pour\ntoute la famille !
URL:https://crocoule.org/notre-evenement/sauvain-un-apres-midi-nature-a-la-reserve/
CATEGORIES:05 ans +,Activité du week-end,En famille,Exterieur,Gratuit,Jeune Public,Tous les événements
END:VEVENT
BEGIN:VEVENT
DTSTART;TZID=Europe/Paris:20260527T103000
DTEND;TZID=Europe/Paris:20260527T120000
DTSTAMP:20260421T185143
CREATED:20260228T171951Z
LAST-MODIFIED:20260228T171951Z
UID:10012900-1779877800-1779883200@crocoule.org
SUMMARY:Saint MARCELLIN en forez  | Fabrique ton Frisbee
DESCRIPTION:Viens fabriquer ton Frisbee à l’aide essentiellement d’Assiette et de feutres et d un peu de colle
URL:https://crocoule.org/notre-evenement/saint-marcellin-en-forez-fabrique-ton-frisbee/
LOCATION:la cabane o ptites merveilles\, 11 place des combattants\, St Marcellin\, 42680\, France
CATEGORIES:05 ans +,Tous les événements
END:VEVENT
BEGIN:VEVENT
DTSTART;TZID=Europe/Paris:20260527T150000
DTEND;TZID=Europe/Paris:20260527T163000
DTSTAMP:20260421T185143
CREATED:20260228T171951Z
LAST-MODIFIED:20260228T171951Z
UID:10012901-1779894000-1779899400@crocoule.org
SUMMARY:Saint MARCELLIN en forez  | Fabrique ton Frisbee
DESCRIPTION:Viens fabriquer ton Frisbee à l’aide essentiellement d’Assiette et de feutres et d un peu de colle
URL:https://crocoule.org/notre-evenement/saint-marcellin-en-forez-fabrique-ton-frisbee-2/
LOCATION:la cabane o ptites merveilles\, 11 place des combattants\, St Marcellin\, 42680\, France
CATEGORIES:05 ans +,Tous les événements
END:VEVENT
BEGIN:VEVENT
DTSTART;TZID=Europe/Paris:20260530T100000
DTEND;TZID=Europe/Paris:20260530T180000
DTSTAMP:20260421T185143
CREATED:20260301T121150Z
LAST-MODIFIED:20260301T121150Z
UID:10013160-1780135200-1780164000@crocoule.org
SUMMARY:Montbrison | Fête mondiale du jeu
DESCRIPTION:Entrée gratuite\nOuverture du musée sur le jardin …\nDedans dehors\, un jeu de piste pour les plus de 10 ans\net une découverte ludique des collections pour tous !
URL:https://crocoule.org/notre-evenement/montbrison-fete-mondiale-du-jeu/
CATEGORIES:05 ans +,06 ans +,07 ans +,08 ans +,09 ans +,10 ans +,11 ans +,12 ans +,Activité du week-end,Adultes,En famille,Expo,Exterieur,Gratuit,Intérieur,Tous les événements
END:VEVENT
BEGIN:VEVENT
DTSTART;TZID=Europe/Paris:20260530T103000
DTEND;TZID=Europe/Paris:20260530T120000
DTSTAMP:20260421T185143
CREATED:20260228T172005Z
LAST-MODIFIED:20260228T172005Z
UID:10012902-1780137000-1780142400@crocoule.org
SUMMARY:Saint MARCELLIN en forez  | Joli petit Hippocampe
DESCRIPTION:Viens imaginer ton hippocampe en mosaïque et masking tape
URL:https://crocoule.org/notre-evenement/saint-marcellin-en-forez-joli-petit-hippocampe/
LOCATION:la cabane o ptites merveilles\, 11 place des combattants\, St Marcellin\, 42680\, France
CATEGORIES:05 ans +,Tous les événements
END:VEVENT
BEGIN:VEVENT
DTSTART;TZID=Europe/Paris:20260530T150000
DTEND;TZID=Europe/Paris:20260530T163000
DTSTAMP:20260421T185143
CREATED:20260228T172005Z
LAST-MODIFIED:20260228T172005Z
UID:10012903-1780153200-1780158600@crocoule.org
SUMMARY:Saint MARCELLIN en forez  | Joli petit Hippocampe
DESCRIPTION:Viens imaginer ton hippocampe en mosaïque et masking tape
URL:https://crocoule.org/notre-evenement/saint-marcellin-en-forez-joli-petit-hippocampe-2/
LOCATION:la cabane o ptites merveilles\, 11 place des combattants\, St Marcellin\, 42680\, France
CATEGORIES:05 ans +,Tous les événements
END:VEVENT
END:VCALENDAR