BEGIN:VCALENDAR
VERSION:2.0
PRODID:-//Crocoule - ECPv6.15.15//NONSGML v1.0//EN
CALSCALE:GREGORIAN
METHOD:PUBLISH
X-ORIGINAL-URL:https://crocoule.org
X-WR-CALDESC:Évènements pour Crocoule
REFRESH-INTERVAL;VALUE=DURATION:PT1H
X-Robots-Tag:noindex
X-PUBLISHED-TTL:PT1H
BEGIN:VTIMEZONE
TZID:Europe/Paris
BEGIN:DAYLIGHT
TZOFFSETFROM:+0100
TZOFFSETTO:+0200
TZNAME:CEST
DTSTART:20250330T010000
END:DAYLIGHT
BEGIN:STANDARD
TZOFFSETFROM:+0200
TZOFFSETTO:+0100
TZNAME:CET
DTSTART:20251026T010000
END:STANDARD
BEGIN:DAYLIGHT
TZOFFSETFROM:+0100
TZOFFSETTO:+0200
TZNAME:CEST
DTSTART:20260329T010000
END:DAYLIGHT
BEGIN:STANDARD
TZOFFSETFROM:+0200
TZOFFSETTO:+0100
TZNAME:CET
DTSTART:20261025T010000
END:STANDARD
BEGIN:DAYLIGHT
TZOFFSETFROM:+0100
TZOFFSETTO:+0200
TZNAME:CEST
DTSTART:20270328T010000
END:DAYLIGHT
BEGIN:STANDARD
TZOFFSETFROM:+0200
TZOFFSETTO:+0100
TZNAME:CET
DTSTART:20271031T010000
END:STANDARD
END:VTIMEZONE
BEGIN:VEVENT
DTSTART;TZID=Europe/Paris:20260301T140000
DTEND;TZID=Europe/Paris:20260419T180000
DTSTAMP:20260421T153856
CREATED:20260228T172851Z
LAST-MODIFIED:20260228T172851Z
UID:10012912-1772373600-1776621600@crocoule.org
SUMMARY:Saint-Étienne | Juliette et l'atelier des lettres
DESCRIPTION:Un atelier graphique à La Cabane  \nQuand Juliette part poursuivre ses études au Pérou\, elle découvre dans les rues de Lima les affiches Chicha :  des affiches de concert\, avec de gros lettrages et des couleurs fluo\, placardées sur les murs.  \nDe retour en France\, Juliette s’inspire de l’art Chicha dans son travail et construit son propre alphabet.  \nDu 20 janvier au 19 avril 2026\, La Cabane vous invite à découvrir son travail graphique et à vous exercer à la culture graphique Chicha\, un mix entre typographie et imagerie populaire. Horaires d’ouverture de la Cabane-accès libre et gratuit\nMardi jeudi et vendredi : 16h-18h\nMercredi\, samedi et dimanche : 14h-18h\nFermeture les lundis ainsi que les 1er et 8 mai et jeudi de l’ascension
URL:https://crocoule.org/notre-evenement/saint-etienne-juliette-et-latelier-des-lettres/
LOCATION:La Cabane – Cité du design\, 5 rue Javellin Pagnon\, Saint-Etienne\, 42000
CATEGORIES:05 ans +,Tous les événements
END:VEVENT
BEGIN:VEVENT
DTSTART;TZID=Europe/Paris:20260301T140000
DTEND;TZID=Europe/Paris:20260419T180000
DTSTAMP:20260421T153856
CREATED:20260228T172854Z
LAST-MODIFIED:20260228T172854Z
UID:10012915-1772373600-1776621600@crocoule.org
SUMMARY:Saint-Étienne | L'Esperluette
DESCRIPTION:L’esperluette\, l’espace de design graphique de La Cabane\, accueille un atelier de Juliette Mottier et invite les visiteurs à s’exercer à la culture graphique Chicha\, un mix entre typographie et imagerie populaire. Horaires d’ouverture de la Cabane-accès libre et gratuit\nMardi jeudi et vendredi : 16h-18h\nMercredi\, samedi et dimanche : 14h-18h\nFermeture les lundis ainsi que les 1er et 8 mai et jeudi de l’ascension
URL:https://crocoule.org/notre-evenement/saint-etienne-lesperluette-2/
CATEGORIES:05 ans +,Tous les événements
END:VEVENT
BEGIN:VEVENT
DTSTART;TZID=Europe/Paris:20260301T143000
DTEND;TZID=Europe/Paris:20260301T143000
DTSTAMP:20260421T153856
CREATED:20260301T113040Z
LAST-MODIFIED:20260301T113040Z
UID:10013084-1772375400-1772375400@crocoule.org
SUMMARY:Saint-Priest-en-Jarez | Dans tous les sens
DESCRIPTION:Une visite où les enfants de 5 à 11 ans découvrent les trois expositions à travers des activités variées : jeu de construction\, activation de performance\, lecture de conte\, et plus encore. Bonne idée : profitez-en pour participer à la visite découverte du musée pour adultes (tous les samedis et dimanches à 14h30) !
URL:https://crocoule.org/notre-evenement/saint-priest-en-jarez-dans-tous-les-sens-2/
LOCATION:MAMC\, Saint Priest en Jarez
CATEGORIES:05 ans +,Activité du week-end,Tous les événements
ATTACH;FMTTYPE=image/jpeg:https://crocoule.org/wp-content/uploads/2025/11/VISITE_Dans_tous_les_sens-2e2O7S.jpg
END:VEVENT
BEGIN:VEVENT
DTSTART;TZID=Europe/Paris:20260304T090000
DTEND;TZID=Europe/Paris:20260325T190000
DTSTAMP:20260421T153856
CREATED:20260301T112035Z
LAST-MODIFIED:20260301T112035Z
UID:10013035-1772614800-1774465200@crocoule.org
SUMMARY:Saint-Galmier | EXPO 2 : Prendre le large d'Aurélie Montagne
DESCRIPTION:
URL:https://crocoule.org/notre-evenement/saint-galmier-expo-2-prendre-le-large-daurelie-montagne/
CATEGORIES:05 ans +,Tous les événements,Tout public
END:VEVENT
BEGIN:VEVENT
DTSTART;TZID=Europe/Paris:20260307T143000
DTEND;TZID=Europe/Paris:20260307T143000
DTSTAMP:20260421T153856
CREATED:20260301T113045Z
LAST-MODIFIED:20260301T113045Z
UID:10013087-1772893800-1772893800@crocoule.org
SUMMARY:Saint-Priest-en-Jarez | Dans tous les sens
DESCRIPTION:Une visite où les enfants de 5 à 11 ans découvrent les trois expositions à travers des activités variées : jeu de construction\, activation de performance\, lecture de conte\, et plus encore. Bonne idée : profitez-en pour participer à la visite découverte du musée pour adultes (tous les samedis et dimanches à 14h30) !
URL:https://crocoule.org/notre-evenement/saint-priest-en-jarez-dans-tous-les-sens-3/
LOCATION:MAMC\, Saint Priest en Jarez
CATEGORIES:05 ans +,Activité du week-end,Tous les événements
ATTACH;FMTTYPE=image/jpeg:https://crocoule.org/wp-content/uploads/2025/11/VISITE_Dans_tous_les_sens-2e2O7S.jpg
END:VEVENT
BEGIN:VEVENT
DTSTART;TZID=Europe/Paris:20260307T143000
DTEND;TZID=Europe/Paris:20260307T163000
DTSTAMP:20260421T153856
CREATED:20260228T171817Z
LAST-MODIFIED:20260228T171817Z
UID:10012865-1772893800-1772901000@crocoule.org
SUMMARY:Saint MARCELLIN en forez  | Atelier avec Lucie\, graphotherapeute.
DESCRIPTION:A definir
URL:https://crocoule.org/notre-evenement/saint-marcellin-en-forez-atelier-avec-lucie-graphotherapeute/
LOCATION:la cabane o ptites merveilles\, 11 place des combattants\, St Marcellin\, 42680\, France
CATEGORIES:05 ans +,Tous les événements
END:VEVENT
BEGIN:VEVENT
DTSTART;TZID=Europe/Paris:20260308T143000
DTEND;TZID=Europe/Paris:20260308T143000
DTSTAMP:20260421T153856
CREATED:20260301T113049Z
LAST-MODIFIED:20260301T113049Z
UID:10013089-1772980200-1772980200@crocoule.org
SUMMARY:Saint-Priest-en-Jarez | Dans tous les sens
DESCRIPTION:Une visite où les enfants de 5 à 11 ans découvrent les trois expositions à travers des activités variées : jeu de construction\, activation de performance\, lecture de conte\, et plus encore. Bonne idée : profitez-en pour participer à la visite découverte du musée pour adultes (tous les samedis et dimanches à 14h30) !
URL:https://crocoule.org/notre-evenement/saint-priest-en-jarez-dans-tous-les-sens-4/
LOCATION:MAMC\, Saint Priest en Jarez
CATEGORIES:05 ans +,Activité du week-end,Tous les événements
ATTACH;FMTTYPE=image/jpeg:https://crocoule.org/wp-content/uploads/2025/11/VISITE_Dans_tous_les_sens-2e2O7S.jpg
END:VEVENT
BEGIN:VEVENT
DTSTART;TZID=Europe/Paris:20260311T103000
DTEND;TZID=Europe/Paris:20260311T120000
DTSTAMP:20260421T153856
CREATED:20260228T171818Z
LAST-MODIFIED:20260228T171818Z
UID:10012866-1773225000-1773230400@crocoule.org
SUMMARY:Saint MARCELLIN en forez  | Envole toi petite fusee
DESCRIPTION:À l’aide d’une ficelle solidement accrochée\, nous allons faire décoller une fusée
URL:https://crocoule.org/notre-evenement/saint-marcellin-en-forez-envole-toi-petite-fusee/
LOCATION:la cabane o ptites merveilles\, 11 place des combattants\, St Marcellin\, 42680\, France
CATEGORIES:05 ans +,Tous les événements
END:VEVENT
BEGIN:VEVENT
DTSTART;TZID=Europe/Paris:20260311T150000
DTEND;TZID=Europe/Paris:20260311T163000
DTSTAMP:20260421T153856
CREATED:20260228T171820Z
LAST-MODIFIED:20260228T171820Z
UID:10012867-1773241200-1773246600@crocoule.org
SUMMARY:Saint MARCELLIN en forez  | Envole toi petite fusee
DESCRIPTION:A l’aide d’une ficelle solidement attachée\, nous allons faire décoller une fusee
URL:https://crocoule.org/notre-evenement/saint-marcellin-en-forez-envole-toi-petite-fusee-2/
LOCATION:la cabane o ptites merveilles\, 11 place des combattants\, St Marcellin\, 42680\, France
CATEGORIES:05 ans +,Tous les événements
END:VEVENT
BEGIN:VEVENT
DTSTART;TZID=Europe/Paris:20260314T143000
DTEND;TZID=Europe/Paris:20260314T143000
DTSTAMP:20260421T153856
CREATED:20260301T113051Z
LAST-MODIFIED:20260301T113051Z
UID:10013092-1773498600-1773498600@crocoule.org
SUMMARY:Saint-Priest-en-Jarez | Dans tous les sens
DESCRIPTION:Une visite où les enfants de 5 à 11 ans découvrent les trois expositions à travers des activités variées : jeu de construction\, activation de performance\, lecture de conte\, et plus encore. Bonne idée : profitez-en pour participer à la visite découverte du musée pour adultes (tous les samedis et dimanches à 14h30) !
URL:https://crocoule.org/notre-evenement/saint-priest-en-jarez-dans-tous-les-sens-5/
LOCATION:MAMC\, Saint Priest en Jarez
CATEGORIES:05 ans +,Activité du week-end,Tous les événements
ATTACH;FMTTYPE=image/jpeg:https://crocoule.org/wp-content/uploads/2025/11/VISITE_Dans_tous_les_sens-2e2O7S.jpg
END:VEVENT
BEGIN:VEVENT
DTSTART;TZID=Europe/Paris:20260315T143000
DTEND;TZID=Europe/Paris:20260315T143000
DTSTAMP:20260421T153856
CREATED:20260301T113104Z
LAST-MODIFIED:20260301T113104Z
UID:10013094-1773585000-1773585000@crocoule.org
SUMMARY:Saint-Priest-en-Jarez | Dans tous les sens
DESCRIPTION:Une visite où les enfants de 5 à 11 ans découvrent les trois expositions à travers des activités variées : jeu de construction\, activation de performance\, lecture de conte\, et plus encore. Bonne idée : profitez-en pour participer à la visite découverte du musée pour adultes (tous les samedis et dimanches à 14h30) !
URL:https://crocoule.org/notre-evenement/saint-priest-en-jarez-dans-tous-les-sens-6/
LOCATION:MAMC\, Saint Priest en Jarez
CATEGORIES:05 ans +,Activité du week-end,Tous les événements
ATTACH;FMTTYPE=image/jpeg:https://crocoule.org/wp-content/uploads/2025/11/VISITE_Dans_tous_les_sens-2e2O7S.jpg
END:VEVENT
BEGIN:VEVENT
DTSTART;TZID=Europe/Paris:20260321T103000
DTEND;TZID=Europe/Paris:20260321T120000
DTSTAMP:20260421T153856
CREATED:20260228T171821Z
LAST-MODIFIED:20260228T171821Z
UID:10012871-1774089000-1774094400@crocoule.org
SUMMARY:Saint MARCELLIN en forez  | Petites Coccinelles
DESCRIPTION:Collages et coloriages seront les maîtres mots de l’atelier afin de créer de folies petites coccinelles
URL:https://crocoule.org/notre-evenement/saint-marcellin-en-forez-petites-coccinelles/
LOCATION:la cabane o ptites merveilles\, 11 place des combattants\, St Marcellin\, 42680\, France
CATEGORIES:05 ans +,Tous les événements
END:VEVENT
BEGIN:VEVENT
DTSTART;TZID=Europe/Paris:20260328T140000
DTEND;TZID=Europe/Paris:20260329T180000
DTSTAMP:20260421T153856
CREATED:20260301T121128Z
LAST-MODIFIED:20260301T121128Z
UID:10013153-1774706400-1774807200@crocoule.org
SUMMARY:Montbrison | Plongée inaugurale
DESCRIPTION:En partenariat avec l’association Forez Plongée 42\nMini-conférences adultes (15 min.)\n“Quand le CO2 entre en mer” : comprendre le phénomène d’acidification\ndes océans. Samedi à 14h30 et dimanche à 16h\n“L’océan mémoire de nos choix” : réflexion sur l’exploitation et la\npréservation de l’océan : oxygène\, nourriture\, tourisme…\nSamedi 16h et dimanche 14h30\nAnimations scientifiques et ludiques pour toute la\nfamille en continu\nLecture de contes (15 min.)\nSamedi 15H15 et 17h et dimanche 14h15 et 17h\nEnsemble Coup de Choeur (20 min.)\nChant choral\, marée montante de chansons sur le répertoire de la\nmer. dimanche 15h et 16h30
URL:https://crocoule.org/notre-evenement/montbrison-plongee-inaugurale/
LOCATION:Musee Allard\, 13 Bd de la Préfecture\, montbrison\, 42600\, France
CATEGORIES:03 ans +,04 ans +,05 ans +,06 ans +,07 ans +,08 ans +,09 ans +,10 ans +,11 ans +,12 ans +,Activité du week-end,Adultes,En famille,Expo,Gratuit,Intérieur,Jeune Public,Tous les événements,Tout public
END:VEVENT
END:VCALENDAR