BEGIN:VCALENDAR
VERSION:2.0
PRODID:-//Crocoule - ECPv6.15.15//NONSGML v1.0//EN
CALSCALE:GREGORIAN
METHOD:PUBLISH
X-ORIGINAL-URL:https://crocoule.org
X-WR-CALDESC:Évènements pour Crocoule
REFRESH-INTERVAL;VALUE=DURATION:PT1H
X-Robots-Tag:noindex
X-PUBLISHED-TTL:PT1H
BEGIN:VTIMEZONE
TZID:Europe/Paris
BEGIN:DAYLIGHT
TZOFFSETFROM:+0100
TZOFFSETTO:+0200
TZNAME:CEST
DTSTART:20250330T010000
END:DAYLIGHT
BEGIN:STANDARD
TZOFFSETFROM:+0200
TZOFFSETTO:+0100
TZNAME:CET
DTSTART:20251026T010000
END:STANDARD
BEGIN:DAYLIGHT
TZOFFSETFROM:+0100
TZOFFSETTO:+0200
TZNAME:CEST
DTSTART:20260329T010000
END:DAYLIGHT
BEGIN:STANDARD
TZOFFSETFROM:+0200
TZOFFSETTO:+0100
TZNAME:CET
DTSTART:20261025T010000
END:STANDARD
BEGIN:DAYLIGHT
TZOFFSETFROM:+0100
TZOFFSETTO:+0200
TZNAME:CEST
DTSTART:20270328T010000
END:DAYLIGHT
BEGIN:STANDARD
TZOFFSETFROM:+0200
TZOFFSETTO:+0100
TZNAME:CET
DTSTART:20271031T010000
END:STANDARD
END:VTIMEZONE
BEGIN:VEVENT
DTSTART;TZID=Europe/Paris:20260103T150000
DTEND;TZID=Europe/Paris:20260103T163000
DTSTAMP:20260421T202645
CREATED:20251113T151313Z
LAST-MODIFIED:20260228T163957Z
UID:10012187-1767452400-1767457800@crocoule.org
SUMMARY:Saint MARCELLIN en forez  | Arbre sous la neige
DESCRIPTION:Sur fond bleu décoration d’un arbre à l’aide de différents matériaux
URL:https://crocoule.org/notre-evenement/saint-marcellin-en-forez-arbre-sous-la-neige/
LOCATION:la cabane o ptites merveilles\, 11 place des combattants\, St Marcellin\, 42680\, France
CATEGORIES:05 ans +,Tous les événements
END:VEVENT
BEGIN:VEVENT
DTSTART;TZID=Europe/Paris:20260107T100000
DTEND;TZID=Europe/Paris:20260107T113000
DTSTAMP:20260421T202645
CREATED:20251114T110446Z
LAST-MODIFIED:20251114T142336Z
UID:10012343-1767780000-1767785400@crocoule.org
SUMMARY:Saint-Étienne | Atelier "Théâtre d'ombres"
DESCRIPTION:EN TRIBU. Venez découvrir la magie des ombres et créez votre théâtre d’ombres. Comment créer une ombre ? Comment la rendre le plus grand possible ? Nos petites expériences répondront à ces questions. Vous créerez aussi les silhouettes de personnages pour le clou du spectacle : un théâtre d’ombres collaboratif.
URL:https://crocoule.org/notre-evenement/saint-etienne-atelier-theatre-dombres-7/
CATEGORIES:03 ans +,04 ans +,05 ans +,06 ans +,Activité en semaine,En famille,Jeune Public,Tous les événements
ATTACH;FMTTYPE=image/jpeg:https://crocoule.org/wp-content/uploads/2025/11/Theatre-dombre-HFj31D.jpg
END:VEVENT
BEGIN:VEVENT
DTSTART;TZID=Europe/Paris:20260116T170000
DTEND;TZID=Europe/Paris:20260116T183000
DTSTAMP:20260421T202645
CREATED:20251126T151223Z
LAST-MODIFIED:20251126T151225Z
UID:10012461-1768582800-1768588200@crocoule.org
SUMMARY:Saint-Galmier | Les Goûters créatifs du vendredi
DESCRIPTION:5 ans + – 15 € – 17h-18h30\nViens au Local après l’école\, goûte et réalise un atelier créatif : Customise un animal\, Peins des fleurs\, …\nsur réservation : 06 15 72 08 99\n42 330 Saint- Galmier – Boutique de Créateurs – Animations créatives et gourmandes
URL:https://crocoule.org/notre-evenement/saint-galmier-les-gouters-creatifs-du-vendredi-2/
CATEGORIES:05 ans +,Tous les événements
END:VEVENT
BEGIN:VEVENT
DTSTART;TZID=Europe/Paris:20260117T103000
DTEND;TZID=Europe/Paris:20260117T120000
DTSTAMP:20260421T202645
CREATED:20251113T151318Z
LAST-MODIFIED:20260228T164159Z
UID:10012194-1768645800-1768651200@crocoule.org
SUMMARY:Saint MARCELLIN en forez  | Aide moi à devenir une vraie sorcière
DESCRIPTION:On mélange et on teste de nouvelles potions magiques
URL:https://crocoule.org/notre-evenement/saint-marcellin-en-forez-aide-moi-a-devenir-une-vraie-sorciere/
LOCATION:la cabane o ptites merveilles\, 11 place des combattants\, St Marcellin\, 42680\, France
CATEGORIES:05 ans +,Tous les événements
END:VEVENT
BEGIN:VEVENT
DTSTART;TZID=Europe/Paris:20260117T150000
DTEND;TZID=Europe/Paris:20260117T163000
DTSTAMP:20260421T202645
CREATED:20251113T151324Z
LAST-MODIFIED:20260228T164257Z
UID:10012195-1768662000-1768667400@crocoule.org
SUMMARY:Saint MARCELLIN en forez  | Aide moi à devenir une vraie sorcière
DESCRIPTION:On mélange et on teste de nouvelles potions magiques
URL:https://crocoule.org/notre-evenement/saint-marcellin-en-forez-aide-moi-a-devenir-une-vraie-sorciere-2/
LOCATION:la cabane o ptites merveilles\, 11 place des combattants\, St Marcellin\, 42680\, France
CATEGORIES:05 ans +,Tous les événements
END:VEVENT
BEGIN:VEVENT
DTSTART;TZID=Europe/Paris:20260121T140000
DTEND;TZID=Europe/Paris:20260121T173000
DTSTAMP:20260421T202645
CREATED:20251126T151223Z
LAST-MODIFIED:20251126T151225Z
UID:10012463-1769004000-1769016600@crocoule.org
SUMMARY:Saint-Galmier | Les Goûters créatifs en duo ou trio :
DESCRIPTION:à partir de 5 ans + – 15 € – 14h00-15h30  ou 16h00-17h30\nCompose un duo ou un trio : ami/amie\, Soeur/ frère mère/père\, grand-mère/père\, tante/Oncle et installe-toi à une table et la Cré’Animatrice va vous accompagner pour un moment de création partagée et gourmand !\nsur réservation : 06 15 72 08 99\nEn face à face sur chevalet\, on se peint le portrait.\ninitiation au portrait et à la peinture.\n42 330 Saint- Galmier – Boutique de Créateurs – Animations créatives et gourmandes
URL:https://crocoule.org/notre-evenement/saint-galmier-les-gouters-creatifs-en-duo-ou-trio/
CATEGORIES:05 ans +,Tous les événements,Tout public
END:VEVENT
BEGIN:VEVENT
DTSTART;TZID=Europe/Paris:20260124T100000
DTEND;TZID=Europe/Paris:20260124T113000
DTSTAMP:20260421T202645
CREATED:20251114T110448Z
LAST-MODIFIED:20251114T142337Z
UID:10012344-1769248800-1769254200@crocoule.org
SUMMARY:Saint-Étienne | Atelier "Théâtre d'ombres"
DESCRIPTION:EN TRIBU. Venez découvrir la magie des ombres et créez votre théâtre d’ombres. Comment créer une ombre ? Comment la rendre le plus grand possible ? Nos petites expériences répondront à ces questions. Vous créerez aussi les silhouettes de personnages pour le clou du spectacle : un théâtre d’ombres collaboratif.
URL:https://crocoule.org/notre-evenement/saint-etienne-atelier-theatre-dombres-8/
CATEGORIES:03 ans +,04 ans +,05 ans +,06 ans +,Activité du week-end,En famille,Jeune Public,Tous les événements
ATTACH;FMTTYPE=image/jpeg:https://crocoule.org/wp-content/uploads/2025/11/Theatre-dombre-HFj31D.jpg
END:VEVENT
BEGIN:VEVENT
DTSTART;TZID=Europe/Paris:20260124T143000
DTEND;TZID=Europe/Paris:20260124T163000
DTSTAMP:20260421T202645
CREATED:20251113T151331Z
LAST-MODIFIED:20260228T164313Z
UID:10012204-1769265000-1769272200@crocoule.org
SUMMARY:Saint MARCELLIN en forez  | Paysage d'hiver avec Lucie " Le Chemin de l'écriture"
DESCRIPTION:Avec de la peinture en spray et du drawing gum\, nous allons créer un magnifique payage hivernal.
URL:https://crocoule.org/notre-evenement/saint-marcellin-en-forez-paysage-dhiver-avec-lucie-le-chemin-de-lecriture/
LOCATION:la cabane o ptites merveilles\, 11 place des combattants\, St Marcellin\, 42680\, France
CATEGORIES:05 ans +,Tous les événements
END:VEVENT
END:VCALENDAR