BEGIN:VCALENDAR
VERSION:2.0
PRODID:-//Crocoule - ECPv6.15.15//NONSGML v1.0//EN
CALSCALE:GREGORIAN
METHOD:PUBLISH
X-ORIGINAL-URL:https://crocoule.org
X-WR-CALDESC:Évènements pour Crocoule
REFRESH-INTERVAL;VALUE=DURATION:PT1H
X-Robots-Tag:noindex
X-PUBLISHED-TTL:PT1H
BEGIN:VTIMEZONE
TZID:Europe/Paris
BEGIN:DAYLIGHT
TZOFFSETFROM:+0100
TZOFFSETTO:+0200
TZNAME:CEST
DTSTART:20250330T010000
END:DAYLIGHT
BEGIN:STANDARD
TZOFFSETFROM:+0200
TZOFFSETTO:+0100
TZNAME:CET
DTSTART:20251026T010000
END:STANDARD
BEGIN:DAYLIGHT
TZOFFSETFROM:+0100
TZOFFSETTO:+0200
TZNAME:CEST
DTSTART:20260329T010000
END:DAYLIGHT
BEGIN:STANDARD
TZOFFSETFROM:+0200
TZOFFSETTO:+0100
TZNAME:CET
DTSTART:20261025T010000
END:STANDARD
BEGIN:DAYLIGHT
TZOFFSETFROM:+0100
TZOFFSETTO:+0200
TZNAME:CEST
DTSTART:20270328T010000
END:DAYLIGHT
BEGIN:STANDARD
TZOFFSETFROM:+0200
TZOFFSETTO:+0100
TZNAME:CET
DTSTART:20271031T010000
END:STANDARD
END:VTIMEZONE
BEGIN:VEVENT
DTSTART;TZID=Europe/Paris:20260404T090000
DTEND;TZID=Europe/Paris:20260420T170000
DTSTAMP:20260420T094708
CREATED:20260228T171321Z
LAST-MODIFIED:20260228T171321Z
UID:10012861-1775293200-1776704400@crocoule.org
SUMMARY:Sain-Etienne | Ateliers escalade
DESCRIPTION:Un cours collectif tout compris avec un moniteur : des sessions d’escalade ludiques et pédagogiques pour découvrir ou redécouvrir cette activité.\nIdéal pour découvrir\, s’amuser et progresser en escalade. Convient aussi bien aux débutants qu’aux petits grimpeurs déjà aguerris à la pratique.
URL:https://crocoule.org/notre-evenement/sain-etienne-ateliers-escalade-5/
LOCATION:Climb up\, 9 Esplanade Bénévent\, Accès par 19\, allée Jean Lauer\, Saint Etienne
CATEGORIES:04 ans +,06 ans +,09 ans +,Tous les événements
END:VEVENT
BEGIN:VEVENT
DTSTART;TZID=Europe/Paris:20260422T090000
DTEND;TZID=Europe/Paris:20260422T100000
DTSTAMP:20260420T094708
CREATED:20260228T144302Z
LAST-MODIFIED:20260228T200921Z
UID:10012794-1776848400-1776852000@crocoule.org
SUMMARY:Saint-Étienne | Atelier "Jeux d'optique"
DESCRIPTION:EN TRIBU. Dis comment fait-on les dessins animés ? Petits et grands construisent ensemble deux jeux d’optique pour mettre des images en mouvement.
URL:https://crocoule.org/notre-evenement/saint-etienne-atelier-jeux-doptique-7/
CATEGORIES:03 ans +,04 ans +,05 ans +,06 ans +,Activité en semaine,En famille,Jeune Public,Tous les événements
ATTACH;FMTTYPE=image/jpeg:https://crocoule.org/wp-content/uploads/2026/02/IMG_20240110_102813_edit_136016121576640-min-min-e1756283751725-MOAWD2.jpg
END:VEVENT
BEGIN:VEVENT
DTSTART;TZID=Europe/Paris:20260422T103000
DTEND;TZID=Europe/Paris:20260422T113000
DTSTAMP:20260420T094708
CREATED:20260228T144303Z
LAST-MODIFIED:20260228T200921Z
UID:10012795-1776853800-1776857400@crocoule.org
SUMMARY:Saint-Étienne | Atelier "Jeux d'optique"
DESCRIPTION:EN TRIBU. Dis comment fait-on les dessins animés ? Petits et grands construisent ensemble deux jeux d’optique pour mettre des images en mouvement.
URL:https://crocoule.org/notre-evenement/saint-etienne-atelier-jeux-doptique-8/
CATEGORIES:03 ans +,04 ans +,05 ans +,06 ans +,Activité en semaine,En famille,Jeune Public,Tous les événements
ATTACH;FMTTYPE=image/jpeg:https://crocoule.org/wp-content/uploads/2026/02/IMG_20240110_102813_edit_136016121576640-min-min-e1756283751725-MOAWD2.jpg
END:VEVENT
BEGIN:VEVENT
DTSTART;TZID=Europe/Paris:20260422T103000
DTEND;TZID=Europe/Paris:20260422T113000
DTSTAMP:20260420T094708
CREATED:20260228T170357Z
LAST-MODIFIED:20260228T170357Z
UID:10012841-1776853800-1776857400@crocoule.org
SUMMARY:ST CLEMENT | L’École du Vent à hauteur d’enfant
DESCRIPTION:Cette visite de l’École du Vent est conçue pour les enfants de 3 à 6 ans. À leur rythme\, ils observent\, touchent\, expérimentent et découvrent les mystères de l’air et du vent à travers des manipulations simples et adaptées. \nQue fait le vent ? Peut-on voir l’air ? Comment ressent-on le souffle sur sa peau ? \nUn moment d’exploration sensorielle et ludique pour éveiller la curiosité des tout-petits et leur faire vivre une première approche des sciences tout en douceur. \nÀ savoir :\nPour les 3-6 ans\nDurée 1h\nCette animation nécessite  la présence d’un adulte accompagnateur (la place adulte est payante).
URL:https://crocoule.org/notre-evenement/st-clement-lecole-du-vent-a-hauteur-denfant/
LOCATION:École du vent\, Le Village\, Saint-Clément\, 07310
CATEGORIES:03 ans +,04 ans +,05 ans +,06 ans +,Tous les événements
END:VEVENT
BEGIN:VEVENT
DTSTART;TZID=Europe/Paris:20260422T140000
DTEND;TZID=Europe/Paris:20260422T173000
DTSTAMP:20260420T094708
CREATED:20260301T112150Z
LAST-MODIFIED:20260301T112150Z
UID:10013058-1776866400-1776879000@crocoule.org
SUMMARY:Saint-Galmier | Les Goûters créatifs en duo ou trio
DESCRIPTION:– 4 ans + – 15 € – 14h00-15h30  ou 16h00-17h30\nCompose un duo ou un trio : ami/amie\, Soeur/ frère mère/père\, grand-mère/père\, tante/Oncle et installe-toi à une table et la Cré’Animatrice va vous accompagner pour un moment de création partagée et gourmand !\nsur réservation : 06 83 92 62 48 \n42 330 Saint- Galmier – Boutique de Créateurs – Animations créatives et gourmandes
URL:https://crocoule.org/notre-evenement/saint-galmier-les-gouters-creatifs-en-duo-ou-trio-10/
CATEGORIES:04 ans +,Activité en semaine,En famille,Intérieur,Tous les événements,Tout public
END:VEVENT
BEGIN:VEVENT
DTSTART;TZID=Europe/Paris:20260422T150000
DTEND;TZID=Europe/Paris:20260422T170000
DTSTAMP:20260420T094708
CREATED:20260302T132033Z
LAST-MODIFIED:20260305T094757Z
UID:10013301-1776870000-1776877200@crocoule.org
SUMMARY:Le Puy-en-Velay | Tricot-crochet
DESCRIPTION:Ateliers tricot-crochet avec Bernadette et ses copines !
URL:https://crocoule.org/notre-evenement/le-puy-en-velay-tricot-crochet-8/
LOCATION:Le P’tit Café – Le Puy En Velay\, 25 pl du marché couvert\, Le Puy-en-Velay\, 43000\, France
CATEGORIES:04 ans +,Activité en semaine,Adultes,En famille,Intérieur,Tous les événements
END:VEVENT
BEGIN:VEVENT
DTSTART;TZID=Europe/Paris:20260424T170000
DTEND;TZID=Europe/Paris:20260424T183000
DTSTAMP:20260420T094708
CREATED:20260301T112150Z
LAST-MODIFIED:20260301T112150Z
UID:10013059-1777050000-1777055400@crocoule.org
SUMMARY:Saint-Galmier | Les Goûters créatifs du vendredi
DESCRIPTION:–  4 ans + – 10 € Atelier et Goûter tiré du sac ou 15 €  Atelier et goûter compris- 17h-18h30\nViens au Local après l’école\, goûte et réalise un atelier créatif.\nSur réservation : 06 83 92 62 48\n42 330 Saint- Galmier – Boutique de Créateurs – Animations créatives et gourmandes
URL:https://crocoule.org/notre-evenement/saint-galmier-les-gouters-creatifs-du-vendredi-10/
CATEGORIES:04 ans +,Activité en semaine,Intérieur,Jeune Public,Tous les événements
END:VEVENT
BEGIN:VEVENT
DTSTART;TZID=Europe/Paris:20260425T100000
DTEND;TZID=Europe/Paris:20260425T113000
DTSTAMP:20260420T094708
CREATED:20260301T105356Z
LAST-MODIFIED:20260301T105356Z
UID:10013008-1777111200-1777116600@crocoule.org
SUMMARY:Saint etienne | Atelier Créatif Enfant Photophore printanier personnalisé
DESCRIPTION:Création ensemble\, enfant et parent de fleurs en papiers crépon
URL:https://crocoule.org/notre-evenement/saint-etienne-atelier-creatif-enfant-photophore-printanier-personnalise/
LOCATION:Kit Création\, 4 Rue Philippon\, St Etienne\, 42000\, France
CATEGORIES:04 ans +,Activité du week-end,En famille,Intérieur,Tous les événements
ATTACH;FMTTYPE=image/webp:https://crocoule.org/wp-content/uploads/2026/03/mars.jpeg-vy70Ot.webp
END:VEVENT
BEGIN:VEVENT
DTSTART;TZID=Europe/Paris:20260425T100000
DTEND;TZID=Europe/Paris:20260425T170000
DTSTAMP:20260420T094708
CREATED:20260302T094950Z
LAST-MODIFIED:20260302T094950Z
UID:10013176-1777111200-1777136400@crocoule.org
SUMMARY:Montbrison_ATELIER CONSTRUCTIONS GÉANTES EN PLANCHETTE DE BOIS
DESCRIPTION:10h-13h 14h-17h\n\n\n\n  \n\n\n\nPrix libre et conscient\n\n\n\n\n\n\nDans le cadre de son festival à Montbrison\, la Maison Ligérienne de l’Architecture et des Territoires propose aux enfants de tous âges un atelier de constructions géantes avec des planchettes en bois. Viens relever des défis fous et laisse place à ton imagination !
URL:https://crocoule.org/notre-evenement/montbrison_atelier-constructions-geantes-en-planchette-de-bois/
LOCATION:Médiathèque – LFA MONTBRISON
CATEGORIES:03 ans +,04 ans +,05 ans +,06 ans +,07 ans +,08 ans +,Intérieur,Tous les événements
ORGANIZER;CN="mlat":MAILTO:hello@mlat.fr
END:VEVENT
BEGIN:VEVENT
DTSTART;TZID=Europe/Paris:20260425T103000
DTEND;TZID=Europe/Paris:20260425T120000
DTSTAMP:20260420T094708
CREATED:20260228T171920Z
LAST-MODIFIED:20260228T171920Z
UID:10012890-1777113000-1777118400@crocoule.org
SUMMARY:Saint MARCELLIN en forez  | Slime Party
DESCRIPTION:Viens t’amuser à créer ton propre slime avec les couleurs et textures de ton choix
URL:https://crocoule.org/notre-evenement/saint-marcellin-en-forez-slime-party-5/
LOCATION:la cabane o ptites merveilles\, 11 place des combattants\, St Marcellin\, 42680\, France
CATEGORIES:04 ans +,Tous les événements
END:VEVENT
BEGIN:VEVENT
DTSTART;TZID=Europe/Paris:20260425T103000
DTEND;TZID=Europe/Paris:20260425T164500
DTSTAMP:20260420T094708
CREATED:20260302T095005Z
LAST-MODIFIED:20260302T095125Z
UID:10013177-1777113000-1777135500@crocoule.org
SUMMARY:ARCHI' CONTE
DESCRIPTION:10h30 – 12h et 15h15 – 16h45\n\n\n\n\n\n\nPrix libre et conscient\n\n\n\n\n\n\nDans le cadre de son festival à Montbrison\, la Maison Ligérienne de l’Architecture et des Territoires te propose de découvrir l’Architecture à partir de la lecture d’un livre. Un atelier de découpage et collage ludique est ensuite proposé pour imaginer ta cabane rêvée.
URL:https://crocoule.org/notre-evenement/montbrison_atelier-constructions-geantes-en-planchette-de-bois-copy/
LOCATION:Médiathèque – LFA MONTBRISON
CATEGORIES:03 ans +,04 ans +,05 ans +,06 ans +,Intérieur,Tous les événements
ORGANIZER;CN="mlat":MAILTO:hello@mlat.fr
END:VEVENT
BEGIN:VEVENT
DTSTART;TZID=Europe/Paris:20260425T150000
DTEND;TZID=Europe/Paris:20260425T153000
DTSTAMP:20260420T094708
CREATED:20260301T105356Z
LAST-MODIFIED:20260301T105356Z
UID:10013009-1777129200-1777131000@crocoule.org
SUMMARY:Saint etienne | Atelier Créatif Enfant Carte du 1er mai
DESCRIPTION:Création de jolies cartes ambiance muguet
URL:https://crocoule.org/notre-evenement/saint-etienne-atelier-creatif-enfant-carte-du-1er-mai/
LOCATION:Kit Création\, 4 Rue Philippon\, St Etienne\, 42000\, France
CATEGORIES:04 ans +,Activité du week-end,Intérieur,Tous les événements
ATTACH;FMTTYPE=image/webp:https://crocoule.org/wp-content/uploads/2026/03/mars.jpeg-vy70Ot.webp
END:VEVENT
BEGIN:VEVENT
DTSTART;TZID=Europe/Paris:20260426T150000
DTEND;TZID=Europe/Paris:20260426T160000
DTSTAMP:20260420T094708
CREATED:20240531T101726Z
LAST-MODIFIED:20240531T101726Z
UID:10006305-1777215600-1777219200@crocoule.org
SUMMARY:Heure du conte
DESCRIPTION:Heure du conte\nTous les derniers mercredis du mois : kamishibaïs\, raconte tapis\, contes et histoires imaginaires enchanteront les enfants. \nDès 4 ans – Gratuit. \n \nSi ton regard se pose sur ces mots c’est que toi aussi tu fais partie de la Haute Congrégation des Super Parents (HCSP : rien que ça !  ????) investis en quête d’idées de sorties familiales dans la Loire et la Haute-Loire pour son/ses bambin(s) ! \nTu ne me crois pas ? Si si\, promis Bienvenue et toutes mes Félicitations ! Tu es sur la bonne page … Et je vais te le prouver ! Tu es prêt ? Allez\, viens je t’emmène au fil des pages du Crocoule ! \nTout d’abord\, Le Crocoule Magazine c’est quoi ? Le Crocoule\, papier ou web\, c’est LE magazine qui porte en lui la douceur et la bienveillance dont tu as besoin en tant que parent et qui facilite tes recherches d’activités loisirs\, culturelles\, nature pour tous les budgets et tous les goûts ! Et ça c’est une promesse ? Tu veux en savoir +\, suis moi par ici ! \nAgenda / Sorties en famille / Loire / Haute-Loire \nIci\, c’est l’agenda web Crocoule\, sur lequel tu peux retrouver idées de sorties\, ateliers\, festivals\, salons\, randonnées\, expositions et autres pépites en intérieur ou en extérieur ! C’est le genre de mine d’or pour les orpailleurs que vous êtes ou LE SUPER guide des parents à court d’idées ! Pour toujours + de sorties familiales\, d’aventures culturelles & de nature dans la Loire\, la Haute-Loire\, le Mezenc\, le Pilat … \nL’équipe du Crocoule prend plaisir à vous dénicher de chouettes instants de vie à partager en famille et s’engage à recenser et à lister pour vous toutes les pépites d’activités de nos si belles régions ! \nAttends un peu\, le Crocoule te réserve bien d’autres surprises … \nLe Crocoule Express !\nDans la rubrique événements\, tu découvriras la version ligérienne du Pékin Express avec le Crocoule Express tant apprécié de nos supers parents lecteurs ! Il s’agit d’une découverte en voiture à sillonner plusieurs endroits dûment sélectionnés rien que pour vous ! Petits & grands partez à la découverte de la Loire\, le Pays du roannais et tout bientôt du Pilat à travers différentes étapes et énigmes à résoudre pour accéder\, grâce à l’emblématique enveloppe\, au lieu suivant ! \nRigolade\, moments de partage et moments épiques assurés en famille ou entre amis ! \nNe manquez pas la programmation juste ici & ici ! \nLe Crocoule Day !\nLe Crocoule Day saura vous ravir également puisqu’il est l’occasion de partenariats avec des associations\, créateurs ou encore offices de tourisme\, pour mettre à l’honneur les trésors de notre région et vous proposer toujours plus de découvertes d’activités ou d’ateliers tout près de chez vous ! Ne manquez pas la programmation juste ici  & ici ! \nBlog / Pépites / Mise à l’honneur / Collab …\nLe Blog Crocoule\, c’est l’endroit où l’on vous présente en détails nos pépites\, nos tests d’activités pour vous en donner un visuel le plus honnête et fiable ! C’est ici où l’on met à l’honneur nos partenaires et où l’on vous transmet notre passion du partage ! N’hésitez pas à aller y faire un tour et à laisser vos retours et vos envies ???? On met du coeur à l’ouvrage et on adore vous lire ! \nLe magazine\nLe Crocoule magazine existe en dématerialisé ici mais aussi et surtout en format papier que vous pouvez retrouver dans + de 450 points de distributions à travers la Loire\, la Haute-Loire\, l’Ondaine\, Loire-Forez et le Pilat … Venez découvrir nos points de distribution juste ici (rubrique « où le trouver ») De quoi le dénicher non loin de chez vous … Et si on vous disait que vous pourriez le recevoir directement dans votre boite aux lettres\, ça vous dirait ? Et bien\, surprise ! C’est possible : ça vous tente ? Rendez vous juste ici pour le recevoir ! \nPour les curieux\, (non non ce n’est plus un vilain défaut !) une liste des 52 couvertures du magasine sont condensés juste ici (rubrique « les magasines ») ! Un grand merci à l’illustratrice : Carole Crouzet\, qui fait un travail de grande qualité pour vous régaler les yeux et vous faire rire le coeur ! \nEn bref\, tu l’auras compris\, ce magazine\, cet endroit\, c’est l’endroit qui se veut bienveillant\, ressourçant\, accompagnant dans cette grande aventure qu’est la parentalité ! Et merci d’être là pour le faire vivre et partager nos si belles missions ! \n  \n 
URL:https://crocoule.org/notre-evenement/heure-du-conte-4/2026-04-26/
LOCATION:Médiathèque de Savigneux\, 17 allée des mésanges\, Savigneux\, 42600
CATEGORIES:04 ans +,Activité pendant les vacances,En famille,Intérieur,Tous les événements
END:VEVENT
BEGIN:VEVENT
DTSTART;TZID=Europe/Paris:20260429T140000
DTEND;TZID=Europe/Paris:20260429T173000
DTSTAMP:20260420T094708
CREATED:20260301T112205Z
LAST-MODIFIED:20260301T112205Z
UID:10013063-1777471200-1777483800@crocoule.org
SUMMARY:Saint-Galmier | Les Goûters créatifs en duo ou trio
DESCRIPTION:– 4 ans + – 15 € – 14h00-15h30  ou 16h00-17h30\nCompose un duo ou un trio : ami/amie\, Soeur/ frère mère/père\, grand-mère/père\, tante/Oncle et installe-toi à une table et la Cré’Animatrice va vous accompagner pour un moment de création partagée et gourmand !\nsur réservation : 06 83 92 62 48 \n42 330 Saint- Galmier – Boutique de Créateurs – Animations créatives et gourmandes
URL:https://crocoule.org/notre-evenement/saint-galmier-les-gouters-creatifs-en-duo-ou-trio-11/
CATEGORIES:04 ans +,Activité en semaine,En famille,Intérieur,Tous les événements,Tout public
END:VEVENT
BEGIN:VEVENT
DTSTART;TZID=Europe/Paris:20260429T150000
DTEND;TZID=Europe/Paris:20260429T163000
DTSTAMP:20260420T094708
CREATED:20260301T105357Z
LAST-MODIFIED:20260301T105357Z
UID:10013010-1777474800-1777480200@crocoule.org
SUMMARY:Saint etienne | Atelier Créatif Enfant tableau quilling
DESCRIPTION:Faire un tableau avec des bandes de papiers « le quilling »
URL:https://crocoule.org/notre-evenement/saint-etienne-atelier-creatif-enfant-tableau-quilling/
LOCATION:Kit Création\, 4 Rue Philippon\, St Etienne\, 42000\, France
CATEGORIES:04 ans +,Activité en semaine,Intérieur,Tous les événements
ATTACH;FMTTYPE=image/webp:https://crocoule.org/wp-content/uploads/2026/03/mars.jpeg-vy70Ot.webp
END:VEVENT
BEGIN:VEVENT
DTSTART;TZID=Europe/Paris:20260429T150000
DTEND;TZID=Europe/Paris:20260429T170000
DTSTAMP:20260420T094708
CREATED:20260302T132034Z
LAST-MODIFIED:20260305T094757Z
UID:10013302-1777474800-1777482000@crocoule.org
SUMMARY:Le Puy-en-Velay | Tricot-crochet
DESCRIPTION:Ateliers tricot-crochet avec Bernadette ! Et en plus avec un goûter à prix libre.
URL:https://crocoule.org/notre-evenement/le-puy-en-velay-tricot-crochet-9/
LOCATION:Le P’tit Café – Le Puy En Velay\, 25 pl du marché couvert\, Le Puy-en-Velay\, 43000\, France
CATEGORIES:04 ans +,Activité en semaine,Adultes,En famille,Intérieur,Tous les événements
END:VEVENT
END:VCALENDAR