BEGIN:VCALENDAR
VERSION:2.0
PRODID:-//Crocoule - ECPv6.15.15//NONSGML v1.0//EN
CALSCALE:GREGORIAN
METHOD:PUBLISH
X-ORIGINAL-URL:https://crocoule.org
X-WR-CALDESC:Évènements pour Crocoule
REFRESH-INTERVAL;VALUE=DURATION:PT1H
X-Robots-Tag:noindex
X-PUBLISHED-TTL:PT1H
BEGIN:VTIMEZONE
TZID:Europe/Paris
BEGIN:DAYLIGHT
TZOFFSETFROM:+0100
TZOFFSETTO:+0200
TZNAME:CEST
DTSTART:20250330T010000
END:DAYLIGHT
BEGIN:STANDARD
TZOFFSETFROM:+0200
TZOFFSETTO:+0100
TZNAME:CET
DTSTART:20251026T010000
END:STANDARD
BEGIN:DAYLIGHT
TZOFFSETFROM:+0100
TZOFFSETTO:+0200
TZNAME:CEST
DTSTART:20260329T010000
END:DAYLIGHT
BEGIN:STANDARD
TZOFFSETFROM:+0200
TZOFFSETTO:+0100
TZNAME:CET
DTSTART:20261025T010000
END:STANDARD
BEGIN:DAYLIGHT
TZOFFSETFROM:+0100
TZOFFSETTO:+0200
TZNAME:CEST
DTSTART:20270328T010000
END:DAYLIGHT
BEGIN:STANDARD
TZOFFSETFROM:+0200
TZOFFSETTO:+0100
TZNAME:CET
DTSTART:20271031T010000
END:STANDARD
END:VTIMEZONE
BEGIN:VEVENT
DTSTART;TZID=Europe/Paris:20260502T100000
DTEND;TZID=Europe/Paris:20260502T113000
DTSTAMP:20260420T100110
CREATED:20260301T105357Z
LAST-MODIFIED:20260301T105357Z
UID:10013011-1777716000-1777721400@crocoule.org
SUMMARY:#REF!
DESCRIPTION:Création ensemble\, enfant et parent d’un mobile ambiance printemps
URL:https://crocoule.org/notre-evenement/ref-13/
LOCATION:Kit Création\, 4 Rue Philippon\, St Etienne\, 42000\, France
CATEGORIES:04 ans +,Activité du week-end,En famille,Intérieur,Tous les événements
ATTACH;FMTTYPE=image/webp:https://crocoule.org/wp-content/uploads/2026/03/mars.jpeg-vy70Ot.webp
END:VEVENT
BEGIN:VEVENT
DTSTART;TZID=Europe/Paris:20260502T103000
DTEND;TZID=Europe/Paris:20260502T103000
DTSTAMP:20260420T100110
CREATED:20260303T175458Z
LAST-MODIFIED:20260303T175458Z
UID:10013331-1777717800-1777717800@crocoule.org
SUMMARY:Firminy | Racontées à écouter en famille
DESCRIPTION:
URL:https://crocoule.org/notre-evenement/firminy-racontees-a-ecouter-en-famille-3/
LOCATION:Médiathèque Louis Aragon\, 5 boulevard Fayol\, firminy\, Rhône-Alpes\, 42700\, France
CATEGORIES:04 ans +,En famille,Tous les événements
ORGANIZER;CN="M%C3%A9diath%C3%A8que Louis Aragon":MAILTO:bibliotheque@ville-firminy.fr
END:VEVENT
BEGIN:VEVENT
DTSTART;TZID=Europe/Paris:20260502T103000
DTEND;TZID=Europe/Paris:20260502T120000
DTSTAMP:20260420T100110
CREATED:20260228T171935Z
LAST-MODIFIED:20260228T171935Z
UID:10012892-1777717800-1777723200@crocoule.org
SUMMARY:Saint MARCELLIN en forez  | pate a modeler maison
DESCRIPTION:A l’aide d’ingredients qu’on trouve dans sa cuisine\, nous allons creer notre pate a modeler maison.
URL:https://crocoule.org/notre-evenement/saint-marcellin-en-forez-pate-a-modeler-maison-3/
LOCATION:la cabane o ptites merveilles\, 11 place des combattants\, St Marcellin\, 42680\, France
CATEGORIES:04 ans +,Tous les événements
END:VEVENT
BEGIN:VEVENT
DTSTART;TZID=Europe/Paris:20260502T150000
DTEND;TZID=Europe/Paris:20260502T163000
DTSTAMP:20260420T100110
CREATED:20260228T171935Z
LAST-MODIFIED:20260228T171935Z
UID:10012893-1777734000-1777739400@crocoule.org
SUMMARY:Saint MARCELLIN en forez  | pate a modeler maison
DESCRIPTION:A l’aide d’ingredients qu’on trouve dans sa cuisine\, nous allons creer notre pate a modeler maison.
URL:https://crocoule.org/notre-evenement/saint-marcellin-en-forez-pate-a-modeler-maison-4/
LOCATION:la cabane o ptites merveilles\, 11 place des combattants\, St Marcellin\, 42680\, France
CATEGORIES:04 ans +,Tous les événements
END:VEVENT
BEGIN:VEVENT
DTSTART;TZID=Europe/Paris:20260502T150000
DTEND;TZID=Europe/Paris:20260502T163000
DTSTAMP:20260420T100110
CREATED:20260301T105410Z
LAST-MODIFIED:20260301T105410Z
UID:10013012-1777734000-1777739400@crocoule.org
SUMMARY:Saint etienne | Atelier Créatif Parent/Enfant Fleurs en papiers crépon
DESCRIPTION:Création d’un tableau representant une fusée
URL:https://crocoule.org/notre-evenement/saint-etienne-atelier-creatif-parent-enfant-fleurs-en-papiers-crepon/
LOCATION:Kit Création\, 4 Rue Philippon\, St Etienne\, 42000\, France
CATEGORIES:04 ans +,Activité du week-end,Intérieur,Tous les événements
ATTACH;FMTTYPE=image/webp:https://crocoule.org/wp-content/uploads/2026/03/mars.jpeg-vy70Ot.webp
END:VEVENT
END:VCALENDAR