BEGIN:VCALENDAR
VERSION:2.0
PRODID:-//Crocoule - ECPv6.15.15//NONSGML v1.0//EN
CALSCALE:GREGORIAN
METHOD:PUBLISH
X-WR-CALNAME:Crocoule
X-ORIGINAL-URL:https://crocoule.org
X-WR-CALDESC:Évènements pour Crocoule
REFRESH-INTERVAL;VALUE=DURATION:PT1H
X-Robots-Tag:noindex
X-PUBLISHED-TTL:PT1H
BEGIN:VTIMEZONE
TZID:Europe/Paris
BEGIN:DAYLIGHT
TZOFFSETFROM:+0100
TZOFFSETTO:+0200
TZNAME:CEST
DTSTART:20250330T010000
END:DAYLIGHT
BEGIN:STANDARD
TZOFFSETFROM:+0200
TZOFFSETTO:+0100
TZNAME:CET
DTSTART:20251026T010000
END:STANDARD
BEGIN:DAYLIGHT
TZOFFSETFROM:+0100
TZOFFSETTO:+0200
TZNAME:CEST
DTSTART:20260329T010000
END:DAYLIGHT
BEGIN:STANDARD
TZOFFSETFROM:+0200
TZOFFSETTO:+0100
TZNAME:CET
DTSTART:20261025T010000
END:STANDARD
BEGIN:DAYLIGHT
TZOFFSETFROM:+0100
TZOFFSETTO:+0200
TZNAME:CEST
DTSTART:20270328T010000
END:DAYLIGHT
BEGIN:STANDARD
TZOFFSETFROM:+0200
TZOFFSETTO:+0100
TZNAME:CET
DTSTART:20271031T010000
END:STANDARD
END:VTIMEZONE
BEGIN:VEVENT
DTSTART;TZID=Europe/Paris:20260404T090000
DTEND;TZID=Europe/Paris:20260420T170000
DTSTAMP:20260420T081234
CREATED:20260228T171321Z
LAST-MODIFIED:20260228T171321Z
UID:10012861-1775293200-1776704400@crocoule.org
SUMMARY:Sain-Etienne | Ateliers escalade
DESCRIPTION:Un cours collectif tout compris avec un moniteur : des sessions d’escalade ludiques et pédagogiques pour découvrir ou redécouvrir cette activité.\nIdéal pour découvrir\, s’amuser et progresser en escalade. Convient aussi bien aux débutants qu’aux petits grimpeurs déjà aguerris à la pratique.
URL:https://crocoule.org/notre-evenement/sain-etienne-ateliers-escalade-5/
LOCATION:Climb up\, 9 Esplanade Bénévent\, Accès par 19\, allée Jean Lauer\, Saint Etienne
CATEGORIES:04 ans +,06 ans +,09 ans +,Tous les événements
END:VEVENT
BEGIN:VEVENT
DTSTART;TZID=Europe/Paris:20260411T093000
DTEND;TZID=Europe/Paris:20260417T180000
DTSTAMP:20260420T081234
CREATED:20260407T141421Z
LAST-MODIFIED:20260407T141421Z
UID:10013339-1775899800-1776448800@crocoule.org
SUMMARY:Andrézieux Mini séance 📸 photo📸
DESCRIPTION:Du 11/4 au 17/4 de 9h30 à 18h > 0 à 10 ans > 30€ \n15 min de séance photo dans un décor coloré et adapté aux \nenfants de 0 à 10 an. Forfait séance à 30€ puis 15€/ photo en \nformat numérique ou papier. Uniquement sur réservation \npar téléphone au 07 87 25 57 49
URL:https://crocoule.org/notre-evenement/andrezieux-mini-seance-%f0%9f%93%b8-photo%f0%9f%93%b8/
LOCATION:Mademoiselle Hirondelle\, 13 Rue d'Urfé\, Andrézieux-Bouthéon\, 42160
CATEGORIES:01 an +,02 ans +,03 ans +,04 ans +,05 ans +,06 ans +,07 ans +,08 ans +,09 ans +,10 ans +,Activité pendant les vacances,Intérieur,Tous les événements
ATTACH;FMTTYPE=image/jpeg:https://crocoule.org/wp-content/uploads/2026/04/627a127d-07e3-47a5-9285-d6a42d44acf9.jpg
END:VEVENT
BEGIN:VEVENT
DTSTART;TZID=Europe/Paris:20260415T103000
DTEND;TZID=Europe/Paris:20260415T120000
DTSTAMP:20260420T081234
CREATED:20260228T171906Z
LAST-MODIFIED:20260228T171906Z
UID:10012885-1776249000-1776254400@crocoule.org
SUMMARY:Saint MARCELLIN en forez  | Arbre de Printemps
DESCRIPTION:Différentes techniques te seront proposées pour faire le plus bel arbre du printem
URL:https://crocoule.org/notre-evenement/saint-marcellin-en-forez-arbre-de-printemps/
LOCATION:la cabane o ptites merveilles\, 11 place des combattants\, St Marcellin\, 42680\, France
CATEGORIES:04 ans +,Tous les événements
END:VEVENT
BEGIN:VEVENT
DTSTART;TZID=Europe/Paris:20260415T140000
DTEND;TZID=Europe/Paris:20260415T153000
DTSTAMP:20260420T081234
CREATED:20260301T104421Z
LAST-MODIFIED:20260301T104421Z
UID:10012989-1776261600-1776267000@crocoule.org
SUMMARY:Veauche | Atelier d'aquarelle en duo parent/enfant
DESCRIPTION:Plumes de Renard vous porpose un atelier d’aquarelle adapté aux débutants et à partir de 4 ans. Venez apprendre les bases de l’aquarelle pour réaliser ensemble une affiche décorative haut en couleur !
URL:https://crocoule.org/notre-evenement/veauche-atelier-daquarelle-en-duo-parent-enfant-2/
LOCATION:Plumes de renard\, 73 avenue irénée laurent\, veauche\, 42340\, France
CATEGORIES:04 ans +,Activité pendant les vacances,Tous les événements
ORGANIZER;CN="Plumes de renard":MAILTO:plumesderenardart@gmail.com
END:VEVENT
BEGIN:VEVENT
DTSTART;TZID=Europe/Paris:20260415T150000
DTEND;TZID=Europe/Paris:20260415T163000
DTSTAMP:20260420T081234
CREATED:20260228T171906Z
LAST-MODIFIED:20260228T171906Z
UID:10012886-1776265200-1776270600@crocoule.org
SUMMARY:Saint MARCELLIN en forez  | Arbre de Printemps
DESCRIPTION:Différentes techniques te seront proposées pour faire le plus bel arbre du printem
URL:https://crocoule.org/notre-evenement/saint-marcellin-en-forez-arbre-de-printemps-2/
LOCATION:la cabane o ptites merveilles\, 11 place des combattants\, St Marcellin\, 42680\, France
CATEGORIES:04 ans +,Tous les événements
END:VEVENT
BEGIN:VEVENT
DTSTART;TZID=Europe/Paris:20260415T150000
DTEND;TZID=Europe/Paris:20260415T163000
DTSTAMP:20260420T081234
CREATED:20260301T105344Z
LAST-MODIFIED:20260301T105344Z
UID:10013005-1776265200-1776270600@crocoule.org
SUMMARY:#REF!
DESCRIPTION:Petite porte décorative\, ambiance forêt fleuris
URL:https://crocoule.org/notre-evenement/ref-12/
LOCATION:Kit Création\, 4 Rue Philippon\, St Etienne\, 42000\, France
CATEGORIES:04 ans +,Activité en semaine,Activité pendant les vacances,Intérieur,Tous les événements
ATTACH;FMTTYPE=image/webp:https://crocoule.org/wp-content/uploads/2026/03/mars.jpeg-vy70Ot.webp
END:VEVENT
BEGIN:VEVENT
DTSTART;TZID=Europe/Paris:20260415T150000
DTEND;TZID=Europe/Paris:20260415T170000
DTSTAMP:20260420T081234
CREATED:20260302T132031Z
LAST-MODIFIED:20260305T094754Z
UID:10013300-1776265200-1776272400@crocoule.org
SUMMARY:Le Puy-en-Velay | Tricot-crochet
DESCRIPTION:Ateliers tricot-crochet avec Bernadette et ses copines !
URL:https://crocoule.org/notre-evenement/le-puy-en-velay-tricot-crochet-7/
LOCATION:Le P’tit Café – Le Puy En Velay\, 25 pl du marché couvert\, Le Puy-en-Velay\, 43000\, France
CATEGORIES:04 ans +,Activité en semaine,Adultes,En famille,Intérieur,Tous les événements
END:VEVENT
END:VCALENDAR