BEGIN:VCALENDAR
VERSION:2.0
PRODID:-//Crocoule - ECPv6.15.15//NONSGML v1.0//EN
CALSCALE:GREGORIAN
METHOD:PUBLISH
X-WR-CALNAME:Crocoule
X-ORIGINAL-URL:https://crocoule.org
X-WR-CALDESC:Évènements pour Crocoule
REFRESH-INTERVAL;VALUE=DURATION:PT1H
X-Robots-Tag:noindex
X-PUBLISHED-TTL:PT1H
BEGIN:VTIMEZONE
TZID:Europe/Paris
BEGIN:DAYLIGHT
TZOFFSETFROM:+0100
TZOFFSETTO:+0200
TZNAME:CEST
DTSTART:20250330T010000
END:DAYLIGHT
BEGIN:STANDARD
TZOFFSETFROM:+0200
TZOFFSETTO:+0100
TZNAME:CET
DTSTART:20251026T010000
END:STANDARD
BEGIN:DAYLIGHT
TZOFFSETFROM:+0100
TZOFFSETTO:+0200
TZNAME:CEST
DTSTART:20260329T010000
END:DAYLIGHT
BEGIN:STANDARD
TZOFFSETFROM:+0200
TZOFFSETTO:+0100
TZNAME:CET
DTSTART:20261025T010000
END:STANDARD
BEGIN:DAYLIGHT
TZOFFSETFROM:+0100
TZOFFSETTO:+0200
TZNAME:CEST
DTSTART:20270328T010000
END:DAYLIGHT
BEGIN:STANDARD
TZOFFSETFROM:+0200
TZOFFSETTO:+0100
TZNAME:CET
DTSTART:20271031T010000
END:STANDARD
END:VTIMEZONE
BEGIN:VEVENT
DTSTART;TZID=Europe/Paris:20260404T090000
DTEND;TZID=Europe/Paris:20260420T170000
DTSTAMP:20260420T081236
CREATED:20260228T171321Z
LAST-MODIFIED:20260228T171321Z
UID:10012861-1775293200-1776704400@crocoule.org
SUMMARY:Sain-Etienne | Ateliers escalade
DESCRIPTION:Un cours collectif tout compris avec un moniteur : des sessions d’escalade ludiques et pédagogiques pour découvrir ou redécouvrir cette activité.\nIdéal pour découvrir\, s’amuser et progresser en escalade. Convient aussi bien aux débutants qu’aux petits grimpeurs déjà aguerris à la pratique.
URL:https://crocoule.org/notre-evenement/sain-etienne-ateliers-escalade-5/
LOCATION:Climb up\, 9 Esplanade Bénévent\, Accès par 19\, allée Jean Lauer\, Saint Etienne
CATEGORIES:04 ans +,06 ans +,09 ans +,Tous les événements
END:VEVENT
BEGIN:VEVENT
DTSTART;TZID=Europe/Paris:20260411T090000
DTEND;TZID=Europe/Paris:20260411T100000
DTSTAMP:20260420T081236
CREATED:20260228T144257Z
LAST-MODIFIED:20260228T200917Z
UID:10012790-1775898000-1775901600@crocoule.org
SUMMARY:Saint-Étienne | Atelier "Jeux d'optique"
DESCRIPTION:EN TRIBU. Dis comment fait-on les dessins animés ? Petits et grands construisent ensemble deux jeux d’optique pour mettre des images en mouvement.
URL:https://crocoule.org/notre-evenement/saint-etienne-atelier-jeux-doptique-3/
CATEGORIES:03 ans +,04 ans +,05 ans +,06 ans +,Activité du week-end,Activité pendant les vacances,En famille,Tous les événements
ATTACH;FMTTYPE=image/jpeg:https://crocoule.org/wp-content/uploads/2026/02/IMG_20240110_102813_edit_136016121576640-min-min-e1756283751725-MOAWD2.jpg
END:VEVENT
BEGIN:VEVENT
DTSTART;TZID=Europe/Paris:20260411T093000
DTEND;TZID=Europe/Paris:20260417T180000
DTSTAMP:20260420T081236
CREATED:20260407T141421Z
LAST-MODIFIED:20260407T141421Z
UID:10013339-1775899800-1776448800@crocoule.org
SUMMARY:Andrézieux Mini séance 📸 photo📸
DESCRIPTION:Du 11/4 au 17/4 de 9h30 à 18h > 0 à 10 ans > 30€ \n15 min de séance photo dans un décor coloré et adapté aux \nenfants de 0 à 10 an. Forfait séance à 30€ puis 15€/ photo en \nformat numérique ou papier. Uniquement sur réservation \npar téléphone au 07 87 25 57 49
URL:https://crocoule.org/notre-evenement/andrezieux-mini-seance-%f0%9f%93%b8-photo%f0%9f%93%b8/
LOCATION:Mademoiselle Hirondelle\, 13 Rue d'Urfé\, Andrézieux-Bouthéon\, 42160
CATEGORIES:01 an +,02 ans +,03 ans +,04 ans +,05 ans +,06 ans +,07 ans +,08 ans +,09 ans +,10 ans +,Activité pendant les vacances,Intérieur,Tous les événements
ATTACH;FMTTYPE=image/jpeg:https://crocoule.org/wp-content/uploads/2026/04/627a127d-07e3-47a5-9285-d6a42d44acf9.jpg
END:VEVENT
BEGIN:VEVENT
DTSTART;TZID=Europe/Paris:20260411T100000
DTEND;TZID=Europe/Paris:20260411T113000
DTSTAMP:20260420T081236
CREATED:20260301T105342Z
LAST-MODIFIED:20260301T105342Z
UID:10013003-1775901600-1775907000@crocoule.org
SUMMARY:Saint etienne | Atelier Créatif Enfant "marques pages eb feutrine et plastique fou"
DESCRIPTION:Création ensemble enfant et parentd’un mobile representant papillon effet vitrail
URL:https://crocoule.org/notre-evenement/saint-etienne-atelier-creatif-enfant-marques-pages-eb-feutrine-et-plastique-fou/
LOCATION:Kit Création\, 4 Rue Philippon\, St Etienne\, 42000\, France
CATEGORIES:04 ans +,Activité du week-end,Activité pendant les vacances,En famille,Intérieur,Tous les événements
ATTACH;FMTTYPE=image/webp:https://crocoule.org/wp-content/uploads/2026/03/mars.jpeg-vy70Ot.webp
END:VEVENT
BEGIN:VEVENT
DTSTART;TZID=Europe/Paris:20260411T103000
DTEND;TZID=Europe/Paris:20260411T103000
DTSTAMP:20260420T081236
CREATED:20260303T175443Z
LAST-MODIFIED:20260303T175443Z
UID:10013326-1775903400-1775903400@crocoule.org
SUMMARY:Firminy | Racontées à écouter en famille
DESCRIPTION:
URL:https://crocoule.org/notre-evenement/firminy-racontees-a-ecouter-en-famille-2/
LOCATION:Médiathèque Louis Aragon\, 5 boulevard Fayol\, firminy\, Rhône-Alpes\, 42700\, France
CATEGORIES:04 ans +,En famille,Tous les événements
ORGANIZER;CN="M%C3%A9diath%C3%A8que Louis Aragon":MAILTO:bibliotheque@ville-firminy.fr
END:VEVENT
BEGIN:VEVENT
DTSTART;TZID=Europe/Paris:20260411T103000
DTEND;TZID=Europe/Paris:20260411T113000
DTSTAMP:20260420T081236
CREATED:20260228T144300Z
LAST-MODIFIED:20260228T200919Z
UID:10012791-1775903400-1775907000@crocoule.org
SUMMARY:Saint-Étienne | Atelier "Jeux d'optique"
DESCRIPTION:EN TRIBU. Dis comment fait-on les dessins animés ? Petits et grands construisent ensemble deux jeux d’optique pour mettre des images en mouvement.
URL:https://crocoule.org/notre-evenement/saint-etienne-atelier-jeux-doptique-4/
CATEGORIES:03 ans +,04 ans +,05 ans +,06 ans +,Activité du week-end,Activité pendant les vacances,En famille,Tous les événements
ATTACH;FMTTYPE=image/jpeg:https://crocoule.org/wp-content/uploads/2026/02/IMG_20240110_102813_edit_136016121576640-min-min-e1756283751725-MOAWD2.jpg
END:VEVENT
BEGIN:VEVENT
DTSTART;TZID=Europe/Paris:20260411T103000
DTEND;TZID=Europe/Paris:20260411T120000
DTSTAMP:20260420T081236
CREATED:20260228T171906Z
LAST-MODIFIED:20260228T171906Z
UID:10012882-1775903400-1775908800@crocoule.org
SUMMARY:Saint MARCELLIN en forez  | Lapin tout mignon
DESCRIPTION:Viens t’amuser a decorer ton lapin préféré à l’aide de pochoirs inverses
URL:https://crocoule.org/notre-evenement/saint-marcellin-en-forez-lapin-tout-mignon/
LOCATION:la cabane o ptites merveilles\, 11 place des combattants\, St Marcellin\, 42680\, France
CATEGORIES:04 ans +,Tous les événements
END:VEVENT
BEGIN:VEVENT
DTSTART;TZID=Europe/Paris:20260411T150000
DTEND;TZID=Europe/Paris:20260411T163000
DTSTAMP:20260420T081236
CREATED:20260228T171906Z
LAST-MODIFIED:20260228T171906Z
UID:10012883-1775919600-1775925000@crocoule.org
SUMMARY:Saint MARCELLIN en forez  | Lapin tout mignon
DESCRIPTION:Viens t’amuser à décorer ton lapi
URL:https://crocoule.org/notre-evenement/saint-marcellin-en-forez-lapin-tout-mignon-2/
LOCATION:la cabane o ptites merveilles\, 11 place des combattants\, St Marcellin\, 42680\, France
CATEGORIES:04 ans +,Tous les événements
END:VEVENT
END:VCALENDAR